{"text_format":"1","workbook":"xlsx","n_sheets":2,"sheets":["TABLE (observations)","OBSERVATIONS"],"not_rendered":{"charts":1,"images":0,"macros":1,"external_links":0,"defined_names":1,"comments":1,"pivot_tables":0},"unopened":[],"bounds":{"document_bytes":16777216,"sheet_cells":100000,"rows_first":2000,"rows_last":500,"rows_between":2000,"halvings":0,"cell_chars":16384,"cell_head_chars":4096},"cells_cut":0,"cells_raw":0,"read":"whole","date_system":"1900"}

{"sheet":"TABLE (observations)","index":0,"n_rows":70,"n_cols":245,"rows_kept":70,"cut":false,"hidden":true,"merged":[[1,34,1,54],[1,107,1,139],[1,140,1,172],[1,173,1,207]]}
[null,"Name"]
[null,null,null,null,null,null,null,null,null,null,null,null,null,null,null,null,null,null,null,null,null,null,null,null,null,null,null,null,null,null,null,null,null,null,"SUN",null,null,null,null,null,null,null,null,null,null,null,null,null,null,null,null,null,null,null,null,null,null,null,null,null,null,null,null,null,null,null,null,null,null,null,null,null,null,null,null,null,null,null,null,null,null,null,null,null,null,null,null,null,null,null,null,null,null,null,null,null,null,null,null,null,null,null,null,null,null,null,null,"Mars",null,null,null,null,null,null,null,null,null,null,null,null,null,null,null,null,null,null,null,null,null,null,null,null,null,null,null,null,null,null,null,null,"Venus",null,null,null,null,null,null,null,null,null,null,null,null,null,null,null,null,null,null,null,null,null,null,null,null,null,null,null,null,null,null,null,null,"Jupiter"]
[null,null,"RA2000","DEC2000","SHApr","Decpr","nutdl","nutde","SHA","decl",null,null,"t","Om","L","L1","e","dp","de","e","corr","GHAAries","L","G","ec","l","E","e","declsun","Y","X","a","LST","GHAsun","Ns","is","ws","as","es","Ms","Es","ecl","xv","yv","vs","rs","lons","xs","ys","xe","ye","ze","Ras","x","Decs","Nm","im","wm","am","em","Mm","Em","xvm","yvm","vm","rm","xh","yh","zh","loneclm","x","latecl","Ls","Lm","D","F","dlo1","dlo2","dlo3","dlo4","dlo5","dlo6","dlo7","dlo8","dlo9","dlo10","dlo11","dlo12","lonm","dla1","dla2","dla3","dla4","dla5","latm","rm1","rm","xg","yg","zg","xe","ye","ze","Ram","x","Declm","GHA","Nmars","imars","wmars","amars","emars","Mmars","Emars","xvmars","yvmars","vmars","rmars","xhmars","yhmars","zhmars","loneclmars","x","lateclmars","loncorr","xh","yh","zh","xs","ys","xg","yg","zg","xe","ye","ze","Ramars",null,"Decmars","GHA","N","i","w","a","e","M","E","xv","yv","v","r","xh","yh","zh","lonecl","x","latecl","loncorr","xh","yh","zh","xs","ys","xg","yg","zg","xe","ye","ze","RA",null,"Dec","GHA","N","i","w","a","e","M","E","xv","yv","v","r","xh","yh","zh","lo1","locorr","lonecl","x","latecl","loncorr","xh","yh","zh","xs","ys","xg","yg","zg","xe","ye","ze","RA",null,"Dec","GHA","N","i","w","a","e","M","E","xv","yv","v","r","xh","yh","zh","lo1","locorr","lonecl","x","la1","lacorr","latecl","loncorr","xh","yh","zh","xs","ys","xg","yg","zg","xe","ye","ze","RA",null,"Dec","GHA"]
[null,"Acamar",{"$f":"(2+58/60+16/3600)","v":2.971111111111111},{"$f":"-40-18.6/60","v":-40.31},{"$f":"MOD(360-(C4+((3.075+1.336*SIN(RADIANS(C4))*TAN(RADIANS(D4)))*(OBSERVATIONS!$U$35-36526)/365)/3600)*15,360)","v":315.13559890822199},{"$f":"D4+(20.04*COS(RADIANS(C4*15))*(OBSERVATIONS!$U$35-36526)/365)/3600","v":-40.21604655579759},{"$f":"-17.3*SIN(RADIANS(125-0.05295*(OBSERVATIONS!$U$35-2451545)))-1.4*SIN(RADIANS(200+1.97129*(OBSERVATIONS!$U$35-2451545)))","v":-15.507213434549312},{"$f":"9.4*COS(RADIANS(125-0.05295*(OBSERVATIONS!$U$35-2451545)))+0.7*COS(RADIANS(200+1.97129*(OBSERVATIONS!$U$35-2451545)))","v":-2.1041300782981658},{"$f":"E4+(0.9175+0.3978*SIN(RADIANS(C4*15)*TAN(RADIANS(D4)))*G4-COS(RADIANS(C4*15))*TAN(RADIANS(D4))*H4)/3600","v":315.13655095767234},{"$f":"F4+(0.3978*COS(RADIANS(C4*15))*G4+SIN(RADIANS(C4))*H4)/3600","v":-40.217297640774731},{"$f":"-36525+OBSERVATIONS!$U$35-1.5+(OBSERVATIONS!U37+OBSERVATIONS!X37/60+OBSERVATIONS!AA37/3600)/24","v":8646.5069444444453},{"$f":"360-MOD(280.46061837+360.98564736629*(K4),360)","v":14.632584229577333},{"$f":"K4/36525","v":0.23672845843790405},{"$f":"MOD(125.04452-1934.136261*M4,360)","v":27.179424524618298},{"$f":"MOD(280.4665+36000.7698*M4,360)","v":162.87323733185258},{"$f":"MOD(218.3165+481267.8813*M4,360)","v":28.120135825185571},{"$f":"MOD(23.4393-0.0000003563*K4,360)","v":23.436219249575693},{"$f":"-(17.2*SIN(RADIANS(N4))-1.32*SIN(RADIANS(2*O4))-0.23*SIN(RADIANS(2*P4))+0.21*SIN(RADIANS(2*N4)))","v":-8.5790068323900694},{"$f":"9.2*COS(RADIANS(N4))+0.57*COS(RADIANS(2*O4))+0.1*COS(RADIANS(2*P4))-0.09*COS(RADIANS(2*N4))","v":8.658404216867515},{"$f":"S4+Q4","v":32.09462346644321},{"$f":"R4*COS(RADIANS(T4))/3600","v":-2.0188590321701199E-3},{"$f":"MOD(360-L4-U4,360)","v":345.36943462945482},{"$f":"MOD(280.461+0.9856474*K4,360)","v":162.86808887361076},{"$f":"MOD(357.528+35999.05*M4,360)","v":239.52761172903047},{"$f":"1.915*SIN(RADIANS(X4))+0.02*SIN(RADIANS(2*X4))","v":-1.6330050011860657},{"$f":"W4+Y4","v":161.2350838724247},{"$f":"-Y4+2.466*SIN(RADIANS(2*Z4))-0.053*SIN(RADIANS(4*Z4))","v":0.18198920057984178},{"$f":"Q4","v":23.436219249575693},{"$f":"DEGREES(ASIN(SIN(RADIANS(AB4))*SIN(RADIANS(Z4))))","v":7.3507716188661876},{"$f":"COS(RADIANS(AB4))*SIN(RADIANS(Z4))","v":0.29514797073872506},{"$f":"COS(RADIANS(Z4))","v":-0.94684641529106772},{"$f":"MOD(IF(AE4<0,DEGREES(ATAN(AD4/AE4))+180,DEGREES(ATAN(AD4/AE4))),360)","v":162.68686418581655},{"$f":"180-L4","v":165.36741577042267},{"$f":"MOD(AG4-AF4+180,360)","v":182.68055158460612},0,0,{"$f":"RADIANS(282.9404+0.0000470935*(K4+1.5))","v":4.9453496806050357},1,{"$f":"0.016709-0.000000001151*(K4+1.5)","v":1.6699046144006947E-2},{"$f":"MOD(RADIANS(356.047+0.9856002585*(K4+1.5)),2*PI())","v":4.1804977956456639},{"$f":"AN4+AM4*SIN(AN4)*(1+AM4*COS(AN4))","v":4.1662276202184216},{"$f":"RADIANS(MOD(23.4393-0.0000003563*(K4+1.5),360))","v":0.40903918079645835},{"$f":"COS(AO4)-AM4","v":-0.53610989758779315},{"$f":"SQRT(1-AM4*AM4)*SIN(AO4)","v":-0.85440549023184198},{"$f":"MOD(RADIANS(IF(AQ4>0,DEGREES(ATAN(AR4/AQ4)),IF(AQ4=0,IF(AR4<0,-90,90),DEGREES(ATAN(AR4/AQ4))+180))),2*PI())","v":4.1520187447194212},{"$f":"SQRT(AQ4*AQ4+AR4*AR4)","v":1.0086736657759576},{"$f":"AS4+AK4","v":9.0973684253244578},{"$f":"AT4*COS(AU4)","v":-0.95509149878219857},{"$f":"AT4*SIN(AU4)","v":0.32438062979142546},{"$f":"AV4","v":-0.95509149878219857},{"$f":"AW4*COS(AP4)","v":0.29762032778366598},{"$f":"AW4*SIN(AP4)","v":0.12901524512174922},{"$f":"DEGREES(MOD(RADIANS(IF(AX4>0,DEGREES(ATAN(AY4/AX4)),IF(AX4=0,IF(AY4<0,-90,90),DEGREES(ATAN(AY4/AX4))+180))),PI()))","v":162.69221034833251},{"$f":"SQRT(AX4*AX4+AY4*AY4)","v":1.0003887397187572},{"$f":"DEGREES(RADIANS(IF(BB4>0,DEGREES(ATAN(AZ4/BB4)),IF(BB4=0,IF(AZ4<0,-90,90),DEGREES(ATAN(AZ4/BB4))+180))))","v":7.3485951039444348},{"$f":"RADIANS(125.1228-0.0529538083*(K4+1.5))","v":-5.8088415017931085},{"$f":"RADIANS(5.1454)","v":8.9804171332116239E-2},{"$f":"RADIANS(318.0634+0.1643573223*(K4+1.5))","v":30.358722394614272},{"$f":"60.2666","v":60.266599999999997},{"$f":"0.0549","v":5.4899999999999997E-2},{"$f":"MOD(RADIANS(115.3654+13.0649929509*(K4+1.5)),2*PI())","v":1.0736422302603756},{"$f":"BI4+BH4*SIN(BI4)*(1+BH4*COS(BI4))","v":1.1231596691737282},{"$f":"BG4*(COS(BJ4)-BH4)","v":22.776933200229077},{"$f":"BG4*(SQRT(1-BH4*BH4)*SIN(BJ4))","v":54.246750749772318},{"$f":"MOD(RADIANS(IF(BK4>0,DEGREES(ATAN(BL4/BK4)),IF(BK4=0,IF(BL4<0,-90,90),DEGREES(ATAN(BL4/BK4))+180))),2*PI())","v":1.1732733625879865},{"$f":"SQRT(BK4*BK4+BL4*BL4)","v":58.834502232241427},{"$f":"BN4*(COS(BD4)*COS(BM4+BF4)-SIN(BD4)*SIN(BM4+BF4)*COS(BE4))","v":48.886998249306274},{"$f":"BN4*(SIN(BD4)*COS(BM4+BF4)+COS(BD4)*SIN(BM4+BF4)*COS(BE4))","v":32.728988019319623},{"$f":"BN4*(SIN(BM4+BF4)*SIN(BE4))","v":0.61106326937566813},{"$f":"DEGREES(RADIANS(IF(BO4>0,DEGREES(ATAN(BP4/BO4)),IF(BO4=0,IF(BP4<0,-90,90),DEGREES(ATAN(BP4/BO4))+180))))","v":33.801614683899089},{"$f":"SQRT(BO4*BO4+BP4*BP4)","v":58.831328852886209},{"$f":"DEGREES(RADIANS(IF(BS4>0,DEGREES(ATAN(BQ4/BS4)),IF(BS4=0,IF(BQ4<0,-90,90),DEGREES(ATAN(BQ4/BS4))+180))))","v":0.59509258189332248},{"$f":"AN4+AK4","v":9.1258474762506996},{"$f":"BI4+BF4+BD4","v":25.62352312308154},{"$f":"BV4-BU4","v":16.497675646830842},{"$f":"BV4-BD4","v":31.432364624874648},{"$f":"-1.274*SIN(BI4-2*BW4)","v":0.61724298664154487},{"$f":"BY4+0.658*SIN(2*BW4)","v":1.2752184928024053},{"$f":"BZ4-0.186*SIN(AN4)","v":1.4355224944448675},{"$f":"CA4-0.059*SIN(2*BI4-2*BW4)","v":1.403790589593765},{"$f":"CB4-0.057*SIN(BI4-2*BW4+AN4)","v":1.432759419500631},{"$f":"CC4+0.053*SIN(BI4+2*BW4)","v":1.4576336192427239},{"$f":"CD4+0.046*SIN(2*BW4-AN4)","v":1.4339628655908268},{"$f":"CE4+0.041*SIN(BI4-AN4)","v":1.4325389313834269},{"$f":"CF4-0.035*SIN(BW4)","v":1.4573942094625765},{"$f":"CG4-0.031*SIN(BI4+AN4)","v":1.483955229294813},{"$f":"CH4-0.015*SIN(2*BX4-2*BW4)","v":1.4989508198616108},{"$f":"CI4+0.011*SIN(BI4-4*BW4)","v":1.4893744102190467},{"$f":"RADIANS(CJ4+BR4)","v":0.61594395597777252},{"$f":"-0.173*SIN(BX4-2*BW4)","v":0.17299472432622973},{"$f":"CL4-0.055*SIN(BI4-BX4-2*BW4)","v":0.20042905458695329},{"$f":"CM4-0.046*SIN(BI4+BX4-2*BW4)","v":0.22205123331510784},{"$f":"CN4+0.033*SIN(BX4+2*BW4)","v":0.25504086640597928},{"$f":"CO4+0.017*SIN(2*BI4+BX4)","v":0.26913912089499603},{"$f":"RADIANS(CP4+BT4)","v":1.5083688713773217E-2},{"$f":"BN4-0.58*COS(BI4-2*BW4)","v":58.327120776190895},{"$f":"CR4-0.46*COS(2*BW4)","v":58.331089805187226},{"$f":"CS4*COS(CK4)*COS(CQ4)","v":47.606079455433253},{"$f":"CS4*SIN(CK4)*COS(CQ4)","v":33.695743988623114},{"$f":"CS4*SIN(CQ4)","v":0.87981463784231151},{"$f":"CT4","v":47.606079455433253},{"$f":"CU4*COS(AP4)-CV4*SIN(AP4)","v":30.566032490968624},{"$f":"CU4*SIN(AP4)+CV4*COS(AP4)","v":14.208972324022692},{"$f":"DEGREES(RADIANS(IF(CW4>0,DEGREES(ATAN(CX4/CW4)),IF(CW4=0,IF(CX4<0,-90,90),DEGREES(ATAN(CX4/CW4))+180))))","v":32.702959561951239},{"$f":"SQRT(CW4*CW4+CX4*CX4)","v":56.57403241201721},{"$f":"DEGREES(RADIANS(IF(DA4>0,DEGREES(ATAN(CY4/DA4)),IF(DA4=0,IF(CY4<0,-90,90),DEGREES(ATAN(CY4/DA4))+180))))","v":14.098625879951598},{"$f":"MOD(AG4-CZ4-180,360)","v":312.66445620847139},{"$f":"RADIANS(49.5574+0.0000211081*(K4+1.5))","v":0.868125775023742},{"$f":"RADIANS(1.8497-0.0000000178*(K4+1.5))","v":3.228066850986961E-2},{"$f":"RADIANS(286.5016+0.0000292961*(K4+1.5))","v":5.004818074091661},{"$f":"1.523688","v":1.5236879999999999},{"$f":"0.093405+0.000000002516*(K4+1.5)","v":9.3426758385472222E-2},{"$f":"MOD(RADIANS(18.6021+0.5240207766*(K4+1.5)),2*PI())","v":4.0201462835038058},{"$f":"DI4+DH4*SIN(DI4)*(1+DH4*COS(DI4))","v":3.9525135743219888},{"$f":"DG4*(COS(DJ4)-DH4)","v":-1.1919169568151304},{"$f":"DG4*(SQRT(1-DH4*DH4)*SIN(DJ4))","v":-1.0997235584560596},{"$f":"MOD(RADIANS(IF(DK4>0,DEGREES(ATAN(DL4/DK4)),IF(DK4=0,IF(DL4<0,-90,90),DEGREES(ATAN(DL4/DK4))+180))),2*PI())","v":3.8867821942376874},{"$f":"SQRT(DK4*DK4+DL4*DL4)","v":1.6217453366563752},{"$f":"DN4*(COS(DD4)*COS(DM4+DF4)-SIN(DD4)*SIN(DM4+DF4)*COS(DE4))","v":-1.5312929853844726},{"$f":"DN4*(SIN(DD4)*COS(DM4+DF4)+COS(DD4)*SIN(DM4+DF4)*COS(DE4))","v":-0.53337787626325961},{"$f":"DN4*(SIN(DM4+DF4)*SIN(DE4))","v":2.6603965717630466E-2},{"$f":"DEGREES(RADIANS(IF(DO4>0,DEGREES(ATAN(DP4/DO4)),IF(DO4=0,IF(DP4<0,-90,90),DEGREES(ATAN(DP4/DO4))+180))))+DU4","v":199.20436003466054},{"$f":"SQRT(DO4*DO4+DP4*DP4)","v":1.6215271092321568},{"$f":"DEGREES(RADIANS(IF(DS4>0,DEGREES(ATAN(DQ4/DS4)),IF(DS4=0,IF(DQ4<0,-90,90),DEGREES(ATAN(DQ4/DS4))+180))))","v":0.93995234303973585},{"$f":"0.0000382394*(365.2422*((2000-(36526-OBSERVATIONS!$U$35)/365)-2000)-($K4+1.5))","v":1.8090574842955304E-4},{"$f":"DN4*COS(RADIANS(DR4))*COS(RADIANS(DT4))","v":-1.5312913012890284},{"$f":"DN4*SIN(RADIANS(DR4))*COS(RADIANS(DT4))","v":-0.53338271116652181},{"$f":"DN4*SIN(RADIANS(DT4))","v":2.6603965717630466E-2},{"$f":"$AT4*COS($AU4+RADIANS(DU4))","v":-0.95509252297714498},{"$f":"$AT4*SIN($AU4+RADIANS(DU4))","v":0.32437761418300759},{"$f":"DV4+DY4","v":-2.4863838242661735},{"$f":"DW4+DZ4","v":-0.20900509698351422},{"$f":"DX4","v":2.6603965717630466E-2},{"$f":"EA4","v":-2.4863838242661735},{"$f":"EB4*COS(RADIANS($AB4))-EC4*SIN(RADIANS($AB4))","v":-0.20234402558345274},{"$f":"EB4*SIN(RADIANS($AB4))+EC4*COS(RADIANS($AB4))","v":-5.8717943319534449E-2},{"$f":"DEGREES(RADIANS(IF(ED4>0,DEGREES(ATAN(EE4/ED4)),IF(ED4=0,IF(EE4<0,-90,90),DEGREES(ATAN(EE4/ED4))+180))))","v":184.65252625235757},{"$f":"SQRT(ED4*ED4+EE4*EE4)","v":2.4946037012443076},{"$f":"DEGREES(RADIANS(IF(EH4>0,DEGREES(ATAN(EF4/EH4)),IF(EH4=0,IF(EF4<0,-90,90),DEGREES(ATAN(EF4/EH4))+180))))","v":-1.3483781913820179},{"$f":"MOD($AG4-EG4-180,360)","v":160.71488951806509},{"$f":"RADIANS(76.6799+0.000024659*(K4+1.5))","v":1.3420386607304311},{"$f":"RADIANS(3.3946+0.0000000275*(K4+1.5))","v":5.9251097533559699E-2},{"$f":"RADIANS(54.891+0.0000138374*(K4+1.5))","v":0.96011724421573652},{"$f":"0.72333","v":0.72333000000000003},{"$f":"0.006773-0.000000001302*(K4+1.5)","v":6.7617402949583334E-3},{"$f":"MOD(RADIANS(48.0052+1.6021302244*(K4+1.5)),2*PI())","v":3.8962469559309199},{"$f":"EP4+EO4*SIN(EP4)*(1+EO4*COS(EP4))","v":3.8916377319155111},{"$f":"EN4*(COS(EQ4)-EO4)","v":-0.53412125273445576},{"$f":"EN4*(SQRT(1-EO4*EO4)*SIN(EQ4))","v":-0.4930623495328606},{"$f":"MOD(RADIANS(IF(ER4>0,DEGREES(ATAN(ES4/ER4)),IF(ER4=0,IF(ES4<0,-90,90),DEGREES(ATAN(ES4/ER4))+180))),2*PI())","v":3.8870397738875671},{"$f":"SQRT(ER4*ER4+ES4*ES4)","v":0.72690851773073151},{"$f":"EU4*(COS(EK4)*COS(ET4+EM4)-SIN(EK4)*SIN(ET4+EM4)*COS(EL4))","v":0.72246900069970987},{"$f":"EU4*(SIN(EK4)*COS(ET4+EM4)+COS(EK4)*SIN(ET4+EM4)*COS(EL4))","v":-6.7934670053411222E-2},{"$f":"EU4*(SIN(ET4+EM4)*SIN(EL4))","v":-4.2654622049503176E-2},{"$f":"DEGREES(RADIANS(IF(EV4>0,DEGREES(ATAN(EW4/EV4)),IF(EV4=0,IF(EW4<0,-90,90),DEGREES(ATAN(EW4/EV4))+180))))+FB4","v":-5.3716182973418238},{"$f":"SQRT(EV4*EV4+EW4*EW4)","v":0.72565596281385525},{"$f":"DEGREES(RADIANS(IF(EZ4>0,DEGREES(ATAN(EX4/EZ4)),IF(EZ4=0,IF(EX4<0,-90,90),DEGREES(ATAN(EX4/EZ4))+180))))","v":-3.3640196279223997},{"$f":"0.0000382394*(365.2422*((2000-(36526-OBSERVATIONS!$U$35)/365)-2000)-($K4+1.5))","v":1.8090574842955304E-4},{"$f":"EU4*COS(RADIANS(EY4))*COS(RADIANS(FA4))","v":0.72246921519310014},{"$f":"EU4*SIN(RADIANS(EY4))*COS(RADIANS(FA4))","v":-6.7932388928766407E-2},{"$f":"EU4*SIN(RADIANS(FA4))","v":-4.2654622049503176E-2},{"$f":"$AT4*COS($AU4+RADIANS(FB4))","v":-0.95509252297714498},{"$f":"$AT4*SIN($AU4+RADIANS(FB4))","v":0.32437761418300759},{"$f":"FC4+FF4","v":-0.23262330778404483},{"$f":"FD4+FG4","v":0.25644522525424118},{"$f":"FE4","v":-4.2654622049503176E-2},{"$f":"FH4","v":-0.23262330778404483},{"$f":"FI4*COS(RADIANS($AB4))-FJ4*SIN(RADIANS($AB4))","v":0.2522542988477115},{"$f":"FI4*SIN(RADIANS($AB4))+FJ4*COS(RADIANS($AB4))","v":6.2859677462853064E-2},{"$f":"DEGREES(RADIANS(IF(FK4>0,DEGREES(ATAN(FL4/FK4)),IF(FK4=0,IF(FL4<0,-90,90),DEGREES(ATAN(FL4/FK4))+180))))","v":132.68156135768194},{"$f":"SQRT(FK4*FK4+FL4*FL4)","v":0.34314112929163854},{"$f":"DEGREES(RADIANS(IF(FO4>0,DEGREES(ATAN(FM4/FO4)),IF(FO4=0,IF(FM4<0,-90,90),DEGREES(ATAN(FM4/FO4))+180))))","v":10.38085637100431},{"$f":"MOD($AG4-FN4-180,360)","v":212.68585441274072},{"$f":"RADIANS(100.4542+0.0000276854*(K4+1.5))","v":1.757435266387612},{"$f":"RADIANS(1.303-0.0000001557*(K4+1.5))","v":2.2718139387937708E-2},{"$f":"RADIANS(273.8777+0.0000164505*(K4+1.5))","v":4.7825505886637378},{"$f":"5.20256","v":5.2025600000000001},{"$f":"0.048498+0.000000004469*(K4+1.5)","v":4.8536647943034722E-2},{"$f":"MOD(RADIANS(19.895+0.0830853001*(K4+1.5)),2*PI())","v":0.32144169086390484},{"$f":"FW4+FV4*SIN(FW4)*(1+FV4*COS(FW4))","v":0.33748226360457823},{"$f":"FU4*(COS(FX4)-FV4)","v":4.6565755783277902},{"$f":"FU4*(SQRT(1-FV4*FV4)*SIN(FX4))","v":1.7206019931022651},{"$f":"MOD(RADIANS(IF(FY4>0,DEGREES(ATAN(FZ4/FY4)),IF(FY4=0,IF(FZ4<0,-90,90),DEGREES(ATAN(FZ4/FY4))+180))),2*PI())","v":0.35393954818147044},{"$f":"SQRT(FY4*FY4+FZ4*FZ4)","v":4.964289207464275},{"$f":"GB4*(COS(FR4)*COS(GA4+FT4)-SIN(FR4)*SIN(GA4+FT4)*COS(FS4))","v":4.0657166986998661},{"$f":"GB4*(SIN(FR4)*COS(GA4+FT4)+COS(FR4)*SIN(GA4+FT4)*COS(FS4))","v":2.8466737555954751},{"$f":"GB4*(SIN(GA4+FT4)*SIN(FS4))","v":-0.10277932896890686},{"$f":"DEGREES(RADIANS(IF(GC4>0,DEGREES(ATAN(GD4/GC4)),IF(GC4=0,IF(GD4<0,-90,90),DEGREES(ATAN(GD4/GC4))+180))))+GK4","v":34.998557014836585},{"$f":"(-0.332*SIN(2*FW4-5*HF4-RADIANS(67.6))-0.056*SIN(2*FW4-2*HF4+RADIANS(21))+0.042*SIN(3*FW4-5*HF4+RADIANS(21))-0.036*SIN(FW4-2*HF4)+0.022*COS(FW4-HF4)+0.023*SIN(2*FW4-3*HF4+RADIANS(52))-0.016*SIN(FW4-5*HF4-RADIANS(69)))","v":3.7321759843286811E-2},{"$f":"GF4+GG4","v":35.035878774679873},{"$f":"SQRT(GC4*GC4+GD4*GD4)","v":4.9632251354218235},{"$f":"DEGREES(RADIANS(IF(GI4>0,DEGREES(ATAN(GE4/GI4)),IF(GI4=0,IF(GE4<0,-90,90),DEGREES(ATAN(GE4/GI4))+180))))","v":-1.1863214063778535},{"$f":"0.0000382394*(365.2422*((2000-(36526-OBSERVATIONS!$U$35)/365)-2000)-($K4+1.5))","v":1.8090574842955304E-4},{"$f":"GB4*COS(RADIANS(GH4))*COS(RADIANS(GJ4))","v":4.0638525518441719},{"$f":"GB4*SIN(RADIANS(GH4))*COS(RADIANS(GJ4))","v":2.8493343401139493},{"$f":"GB4*SIN(RADIANS(GJ4))","v":-0.10277932896890687},{"$f":"$AT4*COS($AU4+RADIANS(GK4))","v":-0.95509252297714498},{"$f":"$AT4*SIN($AU4+RADIANS(GK4))","v":0.32437761418300759},{"$f":"GL4+GO4","v":3.1087600288670272},{"$f":"GM4+GP4","v":3.173711954296957},{"$f":"GN4","v":-0.10277932896890687},{"$f":"GQ4","v":3.1087600288670272},{"$f":"GR4*COS(RADIANS($AB4))-GS4*SIN(RADIANS($AB4))","v":2.9527696815034759},{"$f":"GR4*SIN(RADIANS($AB4))+GS4*COS(RADIANS($AB4))","v":1.1679736158426561},{"$f":"DEGREES(RADIANS(IF(GT4>0,DEGREES(ATAN(GU4/GT4)),IF(GT4=0,IF(GU4<0,-90,90),DEGREES(ATAN(GU4/GT4))+180))))","v":43.525847971436129},{"$f":"SQRT(GT4*GT4+GU4*GU4)","v":4.2875678081037343},{"$f":"DEGREES(RADIANS(IF(GX4>0,DEGREES(ATAN(GV4/GX4)),IF(GX4=0,IF(GV4<0,-90,90),DEGREES(ATAN(GV4/GX4))+180))))","v":15.238163485366405},{"$f":"MOD($AG4-GW4-180,360)","v":301.84156779898655},{"$f":"RADIANS(113.6634+0.000023898*(K4+1.5))","v":1.9874076421974227},{"$f":"RADIANS(2.4886-0.0000001081*(K4+1.5))","v":4.3417947562460479E-2},{"$f":"RADIANS(339.3939+0.0000297661*(K4+1.5))","v":5.9280337980558686},{"$f":"9.55475","v":9.5547500000000003},{"$f":"0.055546-0.000000009499*(K4+1.5)","v":5.546385258203472E-2},{"$f":"MOD(RADIANS(316.967+0.0334442282*(K4+1.5)),2*PI())","v":4.2968770093959829},{"$f":"HF4+HE4*SIN(HF4)*(1+HE4*COS(HF4))","v":4.247268677194036},{"$f":"HD4*(COS(HG4)-HE4)","v":-4.8155383948773371},{"$f":"HD4*(SQRT(1-HE4*HE4)*SIN(HG4))","v":-8.5265808587611254},{"$f":"MOD(RADIANS(IF(HH4>0,DEGREES(ATAN(HI4/HH4)),IF(HH4=0,IF(HI4<0,-90,90),DEGREES(ATAN(HI4/HH4))+180))),2*PI())","v":4.1982784617812809},{"$f":"SQRT(HH4*HH4+HI4*HI4)","v":9.7924456175936676},{"$f":"HK4*(COS(HA4)*COS(HJ4+HC4)-SIN(HA4)*SIN(HJ4+HC4)*COS(HB4))","v":8.8008113875845773},{"$f":"HK4*(SIN(HA4)*COS(HJ4+HC4)+COS(HA4)*SIN(HJ4+HC4)*COS(HB4))","v":-4.2851443881410969},{"$f":"HK4*(SIN(HJ4+HC4)*SIN(HB4))","v":-0.27431308112072406},{"$f":"DEGREES(RADIANS(IF(HL4>0,DEGREES(ATAN(HM4/HL4)),IF(HL4=0,IF(HM4<0,-90,90),DEGREES(ATAN(HM4/HL4))+180))))+HV4","v":-25.961424168921827},{"$f":"0.812*SIN(2*FW4-5*HF4-RADIANS(67.6))-0.229*COS(2*FW4-4*HF4-RADIANS(2))+0.119*SIN(FW4-2*HF4-RADIANS(3))+0.046*SIN(2*FW4-6*HF4-RADIANS(69))+0.014*SIN(FW4-3*HF4+RADIANS(32))","v":3.0194848473685455E-2},{"$f":"HO4+HP4","v":-25.931229320448143},{"$f":"SQRT(HL4*HL4+HM4*HM4)","v":9.7886027351739795},{"$f":"DEGREES(RADIANS(IF(HR4>0,DEGREES(ATAN(HN4/HR4)),IF(HR4=0,IF(HN4<0,-90,90),DEGREES(ATAN(HN4/HR4))+180))))","v":-1.6052208718962677},{"$f":"-0.02*COS(2*FW4-4*HF4-RADIANS(2))+0.018*SIN(2*FW4-6*HF4-RADIANS(49))","v":-7.7858301656778817E-4},{"$f":"HS4+HT4","v":-1.6059994549128356},{"$f":"0.0000382394*(365.2422*((2000-(36526-OBSERVATIONS!$U$35)/365)-2000)-($K4+1.5))","v":1.8090574842955304E-4},{"$f":"HK4*COS(RADIANS(HQ4))*COS(RADIANS(HU4))","v":8.8030785965270741},{"$f":"HK4*SIN(RADIANS(HQ4))*COS(RADIANS(HU4))","v":-4.2804763446180321},{"$f":"HK4*SIN(RADIANS(HU4))","v":-0.27444609682378185},{"$f":"$AT4*COS($AU4+RADIANS(HV4))","v":-0.95509252297714498},{"$f":"$AT4*SIN($AU4+RADIANS(HV4))","v":0.32437761418300759},{"$f":"HW4+HZ4","v":7.8479860735499294},{"$f":"HX4+IA4","v":-3.9560987304350244},{"$f":"HY4","v":-0.27444609682378185},{"$f":"IB4","v":7.8479860735499294},{"$f":"IC4*COS(RADIANS($AB4))-ID4*SIN(RADIANS($AB4))","v":-3.5205790976287417},{"$f":"IC4*SIN(RADIANS($AB4))+ID4*COS(RADIANS($AB4))","v":-1.8252563223698235},{"$f":"DEGREES(RADIANS(IF(IE4>0,DEGREES(ATAN(IF4/IE4)),IF(IE4=0,IF(IF4<0,-90,90),DEGREES(ATAN(IF4/IE4))+180))))","v":-24.160837415668126},{"$f":"SQRT(IE4*IE4+IF4*IF4)","v":8.6014744429832515},{"$f":"DEGREES(RADIANS(IF(II4>0,DEGREES(ATAN(IG4/II4)),IF(II4=0,IF(IG4<0,-90,90),DEGREES(ATAN(IG4/II4))+180))))","v":-11.98060166028122},{"$f":"MOD($AG4-IH4-180,360)","v":9.528253186090808}]
[null,"Achernar",{"$f":"(1+37/60+43/3600)","v":1.6286111111111112},{"$f":"-57-14.6/60","v":-57.243333333333332},{"$f":"MOD(360-(C5+((3.075+1.336*SIN(RADIANS(C5))*TAN(RADIANS(D5)))*(OBSERVATIONS!$U$35-36526)/365)/3600)*15,360)","v":335.27312543209854},{"$f":"D5+(20.04*COS(RADIANS(C5*15))*(OBSERVATIONS!$U$35-36526)/365)/3600","v":-57.123263197581068},{"$f":"-17.3*SIN(RADIANS(125-0.05295*(OBSERVATIONS!$U$35-2451545)))-1.4*SIN(RADIANS(200+1.97129*(OBSERVATIONS!$U$35-2451545)))","v":-15.507213434549312},{"$f":"9.4*COS(RADIANS(125-0.05295*(OBSERVATIONS!$U$35-2451545)))+0.7*COS(RADIANS(200+1.97129*(OBSERVATIONS!$U$35-2451545)))","v":-2.1041300782981658},{"$f":"E5+(0.9175+0.3978*SIN(RADIANS(C5*15)*TAN(RADIANS(D5)))*G5-COS(RADIANS(C5*15))*TAN(RADIANS(D5))*H5)/3600","v":335.27360742908229},{"$f":"F5+(0.3978*COS(RADIANS(C5*15))*G5+SIN(RADIANS(C5))*H5)/3600","v":-57.124839947769274},{"$f":"-36525+OBSERVATIONS!$U$35-1.5+OBSERVATIONS!U37/24","v":8646.5},{"$f":"360-MOD(280.46061837+360.98564736629*(K5),360)","v":17.139429003465921},{"$f":"K5/36525","v":0.23672826830937713},{"$f":"MOD(125.04452-1934.136261*M5,360)","v":27.17979225909653},{"$f":"MOD(280.4665+36000.7698*M5,360)","v":162.86639255852242},{"$f":"MOD(218.3165+481267.8813*M5,360)","v":28.028633071866352},{"$f":"MOD(23.4393-0.0000003563*K5,360)","v":23.436219252049998},{"$f":"-(17.2*SIN(RADIANS(N5))-1.32*SIN(RADIANS(2*O5))-0.23*SIN(RADIANS(2*P5))+0.21*SIN(RADIANS(2*N5)))","v":-8.5797764852216023},{"$f":"9.2*COS(RADIANS(N5))+0.57*COS(RADIANS(2*O5))+0.1*COS(RADIANS(2*P5))-0.09*COS(RADIANS(2*N5))","v":8.6585667773701918},{"$f":"S5+Q5","v":32.094786029420192},{"$f":"R5*COS(RADIANS(T5))/3600","v":-2.0190365583383305E-3},{"$f":"MOD(360-L5-U5,360)","v":342.86259003309243},{"$f":"MOD(280.461+0.9856474*K5,360)","v":162.86124409999866},{"$f":"MOD(357.528+35999.05*M5,360)","v":239.52076728268366},{"$f":"1.915*SIN(RADIANS(X5))+0.02*SIN(RADIANS(2*X5))","v":-1.6328866586597794},{"$f":"W5+Y5","v":161.22835744133889},{"$f":"-Y5+2.466*SIN(RADIANS(2*Z5))-0.053*SIN(RADIANS(4*Z5))","v":0.18141813544351532},{"$f":"Q5","v":23.436219252049998},{"$f":"DEGREES(ASIN(SIN(RADIANS(AB5))*SIN(RADIANS(Z5))))","v":7.3533256553259623},{"$f":"COS(RADIANS(AB5))*SIN(RADIANS(Z5))","v":0.29524995674716764},{"$f":"COS(RADIANS(Z5))","v":-0.94680864335746839},{"$f":"MOD(IF(AE5<0,DEGREES(ATAN(AD5/AE5))+180,DEGREES(ATAN(AD5/AE5))),360)","v":162.68058992047222},{"$f":"180-L5","v":162.86057099653408},{"$f":"MOD(AG5-AF5+180,360)","v":180.17998107606186},0,0,{"$f":"RADIANS(282.9404+0.0000470935*(K5+1.5))","v":4.9453496748971419},1,{"$f":"0.016709-0.000000001151*(K5+1.5)","v":1.6699046152000002E-2},{"$f":"MOD(RADIANS(356.047+0.9856002585*(K5+1.5)),2*PI())","v":4.1803783375233081},6.04393154842223,{"$f":"RADIANS(MOD(23.4393-0.0000003563*(K5+1.5),360))","v":0.40903918083964314},{"$f":"COS(AO5)-AM5","v":0.95481604172950407},{"$f":"SQRT(1-AM5*AM5)*SIN(AO5)","v":-0.23694466396609071},{"$f":"MOD(RADIANS(IF(AQ5>0,DEGREES(ATAN(AR5/AQ5)),IF(AQ5=0,IF(AR5<0,-90,90),DEGREES(ATAN(AR5/AQ5))+180))),2*PI())","v":6.0399416086705378},{"$f":"SQRT(AQ5*AQ5+AR5*AR5)","v":0.98377662471010241},{"$f":"AS5+AK5","v":10.98529128356768},{"$f":"AT5*COS(AU5)","v":-1.011600068351233E-2},{"$f":"AT5*SIN(AU5)","v":-0.98372461281406032},{"$f":"AV5","v":-1.011600068351233E-2},{"$f":"AW5*COS(AP5)","v":-0.90257066797531338},{"$f":"AW5*SIN(AP5)","v":-0.39125478037561345},{"$f":"DEGREES(MOD(RADIANS(IF(AX5>0,DEGREES(ATAN(AY5/AX5)),IF(AX5=0,IF(AY5<0,-90,90),DEGREES(ATAN(AY5/AX5))+180))),PI()))","v":89.357856512127626},{"$f":"SQRT(AX5*AX5+AY5*AY5)","v":0.90262735619924139},{"$f":"DEGREES(RADIANS(IF(BB5>0,DEGREES(ATAN(AZ5/BB5)),IF(BB5=0,IF(AZ5<0,-90,90),DEGREES(ATAN(AZ5/BB5))+180))))","v":-23.434905595522924},{"$f":"RADIANS(125.1228-0.0529538083*(K5+1.5))","v":-5.8088350836104254},{"$f":"RADIANS(5.1454)","v":8.9804171332116239E-2},{"$f":"RADIANS(318.0634+0.1643573223*(K5+1.5))","v":30.358702473944657},{"$f":"60.2666","v":60.266599999999997},{"$f":"0.0549","v":5.4899999999999997E-2},{"$f":"MOD(RADIANS(115.3654+13.0649929509*(K5+1.5)),2*PI())","v":1.0720587084287132},{"$f":"BI5+BH5*SIN(BI5)*(1+BH5*COS(BI5))","v":1.1215372203291993},{"$f":"BG5*(COS(BJ5)-BH5)","v":22.865044342564744},{"$f":"BG5*(SQRT(1-BH5*BH5)*SIN(BJ5))","v":54.204420696569102},{"$f":"MOD(RADIANS(IF(BK5>0,DEGREES(ATAN(BL5/BK5)),IF(BK5=0,IF(BL5<0,-90,90),DEGREES(ATAN(BL5/BK5))+180))),2*PI())","v":1.1716138597315571},{"$f":"SQRT(BK5*BK5+BL5*BL5)","v":58.829664930527194},{"$f":"BN5*(COS(BD5)*COS(BM5+BF5)-SIN(BD5)*SIN(BM5+BF5)*COS(BE5))","v":48.937522042219847},{"$f":"BN5*(SIN(BD5)*COS(BM5+BF5)+COS(BD5)*SIN(BM5+BF5)*COS(BE5))","v":32.644842686667495},{"$f":"BN5*(SIN(BM5+BF5)*SIN(BE5))","v":0.60221106605588004},{"$f":"DEGREES(RADIANS(IF(BO5>0,DEGREES(ATAN(BP5/BO5)),IF(BO5=0,IF(BP5<0,-90,90),DEGREES(ATAN(BP5/BO5))+180))))","v":33.706136099674552},{"$f":"SQRT(BO5*BO5+BP5*BP5)","v":58.826582576842092},{"$f":"DEGREES(RADIANS(IF(BS5>0,DEGREES(ATAN(BQ5/BS5)),IF(BS5=0,IF(BQ5<0,-90,90),DEGREES(ATAN(BQ5/BS5))+180))))","v":0.58651966017949264},{"$f":"AN5+AK5","v":9.1257280124204492},{"$f":"BI5+BF5+BD5","v":25.621926098762945},{"$f":"BV5-BU5","v":16.496198086342496},{"$f":"BV5-BD5","v":31.43076118237337},{"$f":"-1.274*SIN(BI5-2*BW5)","v":0.61571377351711143},{"$f":"BY5+0.658*SIN(2*BW5)","v":1.2737031842046922},{"$f":"BZ5-0.186*SIN(AN5)","v":1.4339959159159492},{"$f":"CA5-0.059*SIN(2*BI5-2*BW5)","v":1.4022745528514147},{"$f":"CB5-0.057*SIN(BI5-2*BW5+AN5)","v":1.4313048273650772},{"$f":"CC5+0.053*SIN(BI5+2*BW5)","v":1.4563911803242306},{"$f":"CD5+0.046*SIN(2*BW5-AN5)","v":1.4328323667695528},{"$f":"CE5+0.041*SIN(BI5-AN5)","v":1.4314684244665188},{"$f":"CF5-0.035*SIN(BW5)","v":1.456287265771653},{"$f":"CG5-0.031*SIN(BI5+AN5)","v":1.4828754687838357},{"$f":"CH5-0.015*SIN(2*BX5-2*BW5)","v":1.4978711504370668},{"$f":"CI5+0.011*SIN(BI5-4*BW5)","v":1.4882714132427313},{"$f":"RADIANS(CJ5+BR5)","v":0.61425828938903526},{"$f":"-0.173*SIN(BX5-2*BW5)","v":0.17299274009832438},{"$f":"CL5-0.055*SIN(BI5-BX5-2*BW5)","v":0.20028513115147636},{"$f":"CM5-0.046*SIN(BI5+BX5-2*BW5)","v":0.22191672248527922},{"$f":"CN5+0.033*SIN(BX5+2*BW5)","v":0.25490978321989699},{"$f":"CO5+0.017*SIN(2*BI5+BX5)","v":0.26905319402850253},{"$f":"RADIANS(CP5+BT5)","v":1.4932563296614939E-2},{"$f":"BN5-0.58*COS(BI5-2*BW5)","v":58.321898525038726},{"$f":"CR5-0.46*COS(2*BW5)","v":58.324508233635527},{"$f":"CS5*COS(CK5)*COS(CQ5)","v":47.657541827155278},{"$f":"CS5*SIN(CK5)*COS(CQ5)","v":33.611731542984408},{"$f":"CS5*SIN(CQ5)","v":0.87090204426775342},{"$f":"CT5","v":47.657541827155278},{"$f":"CU5*COS(AP5)-CV5*SIN(AP5)","v":30.492495574235939},{"$f":"CU5*SIN(AP5)+CV5*COS(AP5)","v":14.167380892160857},{"$f":"DEGREES(RADIANS(IF(CW5>0,DEGREES(ATAN(CX5/CW5)),IF(CW5=0,IF(CX5<0,-90,90),DEGREES(ATAN(CX5/CW5))+180))))","v":32.612136880129079},{"$f":"SQRT(CW5*CW5+CX5*CX5)","v":56.577677394462327},{"$f":"DEGREES(RADIANS(IF(DA5>0,DEGREES(ATAN(CY5/DA5)),IF(DA5=0,IF(CY5<0,-90,90),DEGREES(ATAN(CY5/DA5))+180))))","v":14.058126533776001},{"$f":"MOD(AG5-CZ5-180,360)","v":310.24843411640501},{"$f":"RADIANS(49.5574+0.0000211081*(K5+1.5))","v":0.86812577246536804},{"$f":"RADIANS(1.8497-0.0000000178*(K5+1.5))","v":3.228066851202703E-2},{"$f":"RADIANS(286.5016+0.0000292961*(K5+1.5))","v":5.0048180705408738},{"$f":"1.523688","v":1.5236879999999999},{"$f":"0.093405+0.000000002516*(K5+1.5)","v":9.3426758368000004E-2},{"$f":"MOD(RADIANS(18.6021+0.5240207766*(K5+1.5)),2*PI())","v":4.0200827703933868},{"$f":"DI5+DH5*SIN(DI5)*(1+DH5*COS(DI5))","v":3.9524539513777168},{"$f":"DG5*(COS(DJ5)-DH5)","v":-1.1919828117268074},{"$f":"DG5*(SQRT(1-DH5*DH5)*SIN(DJ5))","v":-1.0996612521304612},{"$f":"MOD(RADIANS(IF(DK5>0,DEGREES(ATAN(DL5/DK5)),IF(DK5=0,IF(DL5<0,-90,90),DEGREES(ATAN(DL5/DK5))+180))),2*PI())","v":3.8867264214711161},{"$f":"SQRT(DK5*DK5+DL5*DL5)","v":1.6217514892514449},{"$f":"DN5*(COS(DD5)*COS(DM5+DF5)-SIN(DD5)*SIN(DM5+DF5)*COS(DE5))","v":-1.5313284973196362},{"$f":"DN5*(SIN(DD5)*COS(DM5+DF5)+COS(DD5)*SIN(DM5+DF5)*COS(DE5))","v":-0.53329449279235164},{"$f":"DN5*(SIN(DM5+DF5)*SIN(DE5))","v":2.6606580829052515E-2},{"$f":"DEGREES(RADIANS(IF(DO5>0,DEGREES(ATAN(DP5/DO5)),IF(DO5=0,IF(DP5<0,-90,90),DEGREES(ATAN(DP5/DO5))+180))))+DU5","v":199.20116521108704},{"$f":"SQRT(DO5*DO5+DP5*DP5)","v":1.6215332197478616},{"$f":"DEGREES(RADIANS(IF(DS5>0,DEGREES(ATAN(DQ5/DS5)),IF(DS5=0,IF(DQ5<0,-90,90),DEGREES(ATAN(DQ5/DS5))+180))))","v":0.94004117992392888},{"$f":"0.0000382394*(365.2422*((2000-(36526-OBSERVATIONS!$U$35)/365)-2000)-($K5+1.5))","v":1.8117129981847285E-4},{"$f":"DN5*COS(RADIANS(DR5))*COS(RADIANS(DT5))","v":-1.5313268110157598},{"$f":"DN5*SIN(RADIANS(DR5))*COS(RADIANS(DT5))","v":-0.53329933490505088},{"$f":"DN5*SIN(RADIANS(DT5))","v":2.6606580829052512E-2},{"$f":"$AT5*COS($AU5+RADIANS(DU5))","v":-1.011289011112412E-2},{"$f":"$AT5*SIN($AU5+RADIANS(DU5))","v":-0.98372464479629762},{"$f":"DV5+DY5","v":-1.5414397011268839},{"$f":"DW5+DZ5","v":-1.5170239797013485},{"$f":"DX5","v":2.6606580829052512E-2},{"$f":"EA5","v":-1.5414397011268839},{"$f":"EB5*COS(RADIANS($AB5))-EC5*SIN(RADIANS($AB5))","v":-1.4024568210947987},{"$f":"EB5*SIN(RADIANS($AB5))+EC5*COS(RADIANS($AB5))","v":-0.5789512329177664},{"$f":"DEGREES(RADIANS(IF(ED5>0,DEGREES(ATAN(EE5/ED5)),IF(ED5=0,IF(EE5<0,-90,90),DEGREES(ATAN(EE5/ED5))+180))))","v":222.29704351858865},{"$f":"SQRT(ED5*ED5+EE5*EE5)","v":2.0839677270162955},{"$f":"DEGREES(RADIANS(IF(EH5>0,DEGREES(ATAN(EF5/EH5)),IF(EH5=0,IF(EF5<0,-90,90),DEGREES(ATAN(EF5/EH5))+180))))","v":-15.525931075578766},{"$f":"MOD($AG5-EG5-180,360)","v":120.56352747794543},{"$f":"RADIANS(76.6799+0.000024659*(K5+1.5))","v":1.3420386577416759},{"$f":"RADIANS(3.3946+0.0000000275*(K5+1.5))","v":5.9251097530226608E-2},{"$f":"RADIANS(54.891+0.0000138374*(K5+1.5))","v":0.96011724253859643},{"$f":"0.72333","v":0.72333000000000003},{"$f":"0.006773-0.000000001302*(K5+1.5)","v":6.7617403040000001E-3},{"$f":"MOD(RADIANS(48.0052+1.6021302244*(K5+1.5)),2*PI())","v":3.8960527722679643},{"$f":"EP5+EO5*SIN(EP5)*(1+EO5*COS(EP5))","v":3.8914445043322026},{"$f":"EN5*(COS(EQ5)-EO5)","v":-0.53421651828478989},{"$f":"EN5*(SQRT(1-EO5*EO5)*SIN(EQ5))","v":-0.49296008077792625},{"$f":"MOD(RADIANS(IF(ER5>0,DEGREES(ATAN(ES5/ER5)),IF(ER5=0,IF(ES5<0,-90,90),DEGREES(ATAN(ES5/ER5))+180))),2*PI())","v":3.8868475020242483},{"$f":"SQRT(ER5*ER5+ES5*ES5)","v":0.72690916189638366},{"$f":"EU5*(COS(EK5)*COS(ET5+EM5)-SIN(EK5)*SIN(ET5+EM5)*COS(EL5))","v":0.72245647811304703},{"$f":"EU5*(SIN(EK5)*COS(ET5+EM5)+COS(EK5)*SIN(ET5+EM5)*COS(EL5))","v":-6.8073872190193341E-2},{"$f":"EU5*(SIN(ET5+EM5)*SIN(EL5))","v":-4.265577107999044E-2},{"$f":"DEGREES(RADIANS(IF(EV5>0,DEGREES(ATAN(EW5/EV5)),IF(EV5=0,IF(EW5<0,-90,90),DEGREES(ATAN(EW5/EV5))+180))))+FB5","v":-5.3826533314226328},{"$f":"SQRT(EV5*EV5+EW5*EW5)","v":0.72565654054964213},{"$f":"DEGREES(RADIANS(IF(EZ5>0,DEGREES(ATAN(EX5/EZ5)),IF(EZ5=0,IF(EX5<0,-90,90),DEGREES(ATAN(EX5/EZ5))+180))))","v":-3.3641073675759925},{"$f":"0.0000382394*(365.2422*((2000-(36526-OBSERVATIONS!$U$35)/365)-2000)-($K5+1.5))","v":1.8117129981847285E-4},{"$f":"EU5*COS(RADIANS(EY5))*COS(RADIANS(FA5))","v":0.72245669336144891},{"$f":"EU5*SIN(RADIANS(EY5))*COS(RADIANS(FA5))","v":-6.8071587756683372E-2},{"$f":"EU5*SIN(RADIANS(FA5))","v":-4.2655771079990433E-2},{"$f":"$AT5*COS($AU5+RADIANS(FB5))","v":-1.011289011112412E-2},{"$f":"$AT5*SIN($AU5+RADIANS(FB5))","v":-0.98372464479629762},{"$f":"FC5+FF5","v":0.71234380325032476},{"$f":"FD5+FG5","v":-1.051796232552981},{"$f":"FE5","v":-4.2655771079990433E-2},{"$f":"FH5","v":0.71234380325032476},{"$f":"FI5*COS(RADIANS($AB5))-FJ5*SIN(RADIANS($AB5))","v":-0.94806121296280077},{"$f":"FI5*SIN(RADIANS($AB5))+FJ5*COS(RADIANS($AB5))","v":-0.45746559006615573},{"$f":"DEGREES(RADIANS(IF(FK5>0,DEGREES(ATAN(FL5/FK5)),IF(FK5=0,IF(FL5<0,-90,90),DEGREES(ATAN(FL5/FK5))+180))))","v":-53.079935150510835},{"$f":"SQRT(FK5*FK5+FL5*FL5)","v":1.185855706885806},{"$f":"DEGREES(RADIANS(IF(FO5>0,DEGREES(ATAN(FM5/FO5)),IF(FO5=0,IF(FM5<0,-90,90),DEGREES(ATAN(FM5/FO5))+180))))","v":-21.095035549552151},{"$f":"MOD($AG5-FN5-180,360)","v":35.940506147044914},{"$f":"RADIANS(100.4542+0.0000276854*(K5+1.5))","v":1.7574352630320471},{"$f":"RADIANS(1.303-0.0000001557*(K5+1.5))","v":2.2718139406809081E-2},{"$f":"RADIANS(273.8777+0.0000164505*(K5+1.5))","v":4.7825505866698812},{"$f":"5.20256","v":5.2025600000000001},{"$f":"0.048498+0.000000004469*(K5+1.5)","v":4.8536647911999999E-2},{"$f":"MOD(RADIANS(19.895+0.0830853001*(K5+1.5)),2*PI())","v":0.32143162064135744},{"$f":"FW5+FV5*SIN(FW5)*(1+FV5*COS(FW5))","v":0.33747171064256865},{"$f":"FU5*(COS(FX5)-FV5)","v":4.6565937570889435},{"$f":"FU5*(SQRT(1-FV5*FV5)*SIN(FX5))","v":1.7205502486223232},{"$f":"MOD(RADIANS(IF(FY5>0,DEGREES(ATAN(FZ5/FY5)),IF(FY5=0,IF(FZ5<0,-90,90),DEGREES(ATAN(FZ5/FY5))+180))),2*PI())","v":0.35392850173226559},{"$f":"SQRT(FY5*FY5+FZ5*FZ5)","v":4.9642883252883347},{"$f":"GB5*(COS(FR5)*COS(GA5+FT5)-SIN(FR5)*SIN(GA5+FT5)*COS(FS5))","v":4.0657474334841481},{"$f":"GB5*(SIN(FR5)*COS(GA5+FT5)+COS(FR5)*SIN(GA5+FT5)*COS(FS5))","v":2.8466283023245844},{"$f":"GB5*(SIN(GA5+FT5)*SIN(FS5))","v":-0.1027798234858226},{"$f":"DEGREES(RADIANS(IF(GC5>0,DEGREES(ATAN(GD5/GC5)),IF(GC5=0,IF(GD5<0,-90,90),DEGREES(ATAN(GD5/GC5))+180))))+GK5","v":34.997923950938173},{"$f":"(-0.332*SIN(2*FW5-5*HF5-RADIANS(67.6))-0.056*SIN(2*FW5-2*HF5+RADIANS(21))+0.042*SIN(3*FW5-5*HF5+RADIANS(21))-0.036*SIN(FW5-2*HF5)+0.022*COS(FW5-HF5)+0.023*SIN(2*FW5-3*HF5+RADIANS(52))-0.016*SIN(FW5-5*HF5-RADIANS(69)))","v":3.7322030559489523E-2},{"$f":"GF5+GG5","v":35.03524598149766},{"$f":"SQRT(GC5*GC5+GD5*GD5)","v":4.9632242428161844},{"$f":"DEGREES(RADIANS(IF(GI5>0,DEGREES(ATAN(GE5/GI5)),IF(GI5=0,IF(GE5<0,-90,90),DEGREES(ATAN(GE5/GI5))+180))))","v":-1.1863273259575717},{"$f":"0.0000382394*(365.2422*((2000-(36526-OBSERVATIONS!$U$35)/365)-2000)-($K5+1.5))","v":1.8117129981847285E-4},{"$f":"GB5*COS(RADIANS(GH5))*COS(RADIANS(GJ5))","v":4.0638832897047736},{"$f":"GB5*SIN(RADIANS(GH5))*COS(RADIANS(GJ5))","v":2.8492889450065584},{"$f":"GB5*SIN(RADIANS(GJ5))","v":-0.1027798234858226},{"$f":"$AT5*COS($AU5+RADIANS(GK5))","v":-1.011289011112412E-2},{"$f":"$AT5*SIN($AU5+RADIANS(GK5))","v":-0.98372464479629762},{"$f":"GL5+GO5","v":4.0537703995936498},{"$f":"GM5+GP5","v":1.8655643002102607},{"$f":"GN5","v":-0.1027798234858226},{"$f":"GQ5","v":4.0537703995936498},{"$f":"GR5*COS(RADIANS($AB5))-GS5*SIN(RADIANS($AB5))","v":1.7525399745582029},{"$f":"GR5*SIN(RADIANS($AB5))+GS5*COS(RADIANS($AB5))","v":0.64768625731160157},{"$f":"DEGREES(RADIANS(IF(GT5>0,DEGREES(ATAN(GU5/GT5)),IF(GT5=0,IF(GU5<0,-90,90),DEGREES(ATAN(GU5/GT5))+180))))","v":23.379959963405511},{"$f":"SQRT(GT5*GT5+GU5*GU5)","v":4.4163843599766226},{"$f":"DEGREES(RADIANS(IF(GX5>0,DEGREES(ATAN(GV5/GX5)),IF(GX5=0,IF(GV5<0,-90,90),DEGREES(ATAN(GV5/GX5))+180))))","v":8.3432551032155473},{"$f":"MOD($AG5-GW5-180,360)","v":319.48061103312858},{"$f":"RADIANS(113.6634+0.000023898*(K5+1.5))","v":1.9874076393009033},{"$f":"RADIANS(2.4886-0.0000001081*(K5+1.5))","v":4.3417947575562568E-2},{"$f":"RADIANS(339.3939+0.0000297661*(K5+1.5))","v":5.9280337944481145},{"$f":"9.55475","v":9.5547500000000003},{"$f":"0.055546-0.000000009499*(K5+1.5)","v":5.5463852647999995E-2},{"$f":"MOD(RADIANS(316.967+0.0334442282*(K5+1.5)),2*PI())","v":4.2968729558411365},{"$f":"HF5+HE5*SIN(HF5)*(1+HE5*COS(HF5))","v":4.2472647227408009},{"$f":"HD5*(COS(HG5)-HE5)","v":-4.8155721654215942},{"$f":"HD5*(SQRT(1-HE5*HE5)*SIN(HG5))","v":-8.5265639375644362},{"$f":"MOD(RADIANS(IF(HH5>0,DEGREES(ATAN(HI5/HH5)),IF(HH5=0,IF(HI5<0,-90,90),DEGREES(ATAN(HI5/HH5))+180))),2*PI())","v":4.1982746091980427},{"$f":"SQRT(HH5*HH5+HI5*HI5)","v":9.7924474908859001},{"$f":"HK5*(COS(HA5)*COS(HJ5+HC5)-SIN(HA5)*SIN(HJ5+HC5)*COS(HB5))","v":8.8007965685104157},{"$f":"HK5*(SIN(HA5)*COS(HJ5+HC5)+COS(HA5)*SIN(HJ5+HC5)*COS(HB5))","v":-4.2851791809683366},{"$f":"HK5*(SIN(HJ5+HC5)*SIN(HB5))","v":-0.27431188171201731},{"$f":"DEGREES(RADIANS(IF(HL5>0,DEGREES(ATAN(HM5/HL5)),IF(HL5=0,IF(HM5<0,-90,90),DEGREES(ATAN(HM5/HL5))+180))))+HV5","v":-25.961644977943205},{"$f":"0.812*SIN(2*FW5-5*HF5-RADIANS(67.6))-0.229*COS(2*FW5-4*HF5-RADIANS(2))+0.119*SIN(FW5-2*HF5-RADIANS(3))+0.046*SIN(2*FW5-6*HF5-RADIANS(69))+0.014*SIN(FW5-3*HF5+RADIANS(32))","v":3.0194255722080926E-2},{"$f":"HO5+HP5","v":-25.931450722221125},{"$f":"SQRT(HL5*HL5+HM5*HM5)","v":9.788604642813457},{"$f":"DEGREES(RADIANS(IF(HR5>0,DEGREES(ATAN(HN5/HR5)),IF(HR5=0,IF(HN5<0,-90,90),DEGREES(ATAN(HN5/HR5))+180))))","v":-1.6052135442214892},{"$f":"-0.02*COS(2*FW5-4*HF5-RADIANS(2))+0.018*SIN(2*FW5-6*HF5-RADIANS(49))","v":-7.7859406307504223E-4},{"$f":"HS5+HT5","v":-1.6059921382845643},{"$f":"0.0000382394*(365.2422*((2000-(36526-OBSERVATIONS!$U$35)/365)-2000)-($K5+1.5))","v":1.8117129981847285E-4},{"$f":"HK5*COS(RADIANS(HQ5))*COS(RADIANS(HU5))","v":8.8030637714292101},{"$f":"HK5*SIN(RADIANS(HQ5))*COS(RADIANS(HU5))","v":-4.2805111955397095},{"$f":"HK5*SIN(RADIANS(HU5))","v":-0.27444489932821986},{"$f":"$AT5*COS($AU5+RADIANS(HV5))","v":-1.011289011112412E-2},{"$f":"$AT5*SIN($AU5+RADIANS(HV5))","v":-0.98372464479629762},{"$f":"HW5+HZ5","v":8.7929508813180863},{"$f":"HX5+IA5","v":-5.2642358403360072},{"$f":"HY5","v":-0.27444489932821986},{"$f":"IB5","v":8.7929508813180863},{"$f":"IC5*COS(RADIANS($AB5))-ID5*SIN(RADIANS($AB5))","v":-4.7207998030793252},{"$f":"IC5*SIN(RADIANS($AB5))+ID5*COS(RADIANS($AB5))","v":-2.3455379350357179},{"$f":"DEGREES(RADIANS(IF(IE5>0,DEGREES(ATAN(IF5/IE5)),IF(IE5=0,IF(IF5<0,-90,90),DEGREES(ATAN(IF5/IE5))+180))))","v":-28.230665628992856},{"$f":"SQRT(IE5*IE5+IF5*IF5)","v":9.9800769527106503},{"$f":"DEGREES(RADIANS(IF(II5>0,DEGREES(ATAN(IG5/II5)),IF(II5=0,IF(IG5<0,-90,90),DEGREES(ATAN(IG5/II5))+180))))","v":-13.225747299894016},{"$f":"MOD($AG5-IH5-180,360)","v":11.091236625526932}]
[null,"Acrux",{"$f":"(12+26/60+36/3600)","v":12.443333333333333},{"$f":"-63-5.5/60","v":-63.091666666666669},{"$f":"MOD(360-(C6+((3.075+1.336*SIN(RADIANS(C6))*TAN(RADIANS(D6)))*(OBSERVATIONS!$U$35-36526)/365)/3600)*15,360)","v":173.10245736957845},{"$f":"D6+(20.04*COS(RADIANS(C6*15))*(OBSERVATIONS!$U$35-36526)/365)/3600","v":-63.222656033077413},{"$f":"-17.3*SIN(RADIANS(125-0.05295*(OBSERVATIONS!$U$35-2451545)))-1.4*SIN(RADIANS(200+1.97129*(OBSERVATIONS!$U$35-2451545)))","v":-15.507213434549312},{"$f":"9.4*COS(RADIANS(125-0.05295*(OBSERVATIONS!$U$35-2451545)))+0.7*COS(RADIANS(200+1.97129*(OBSERVATIONS!$U$35-2451545)))","v":-2.1041300782981658},173.10408794572999,-63.221079954918892,{"$f":"-36525+OBSERVATIONS!$U$35-1.5+(OBSERVATIONS!U37+1)/24","v":8646.5416666666661},{"$f":"360-MOD(280.46061837+360.98564736629*(K6),360)","v":2.098360363394022},{"$f":"K6/36525","v":0.23672940908053844},{"$f":"MOD(125.04452-1934.136261*M6,360)","v":27.177585852227935},{"$f":"MOD(280.4665+36000.7698*M6,360)","v":162.90746119849427},{"$f":"MOD(218.3165+481267.8813*M6,360)","v":28.577649591723457},{"$f":"MOD(23.4393-0.0000003563*K6,360)","v":23.436219237204167},{"$f":"-(17.2*SIN(RADIANS(N6))-1.32*SIN(RADIANS(2*O6))-0.23*SIN(RADIANS(2*P6))+0.21*SIN(RADIANS(2*N6)))","v":-8.5751872715057154},{"$f":"9.2*COS(RADIANS(N6))+0.57*COS(RADIANS(2*O6))+0.1*COS(RADIANS(2*P6))-0.09*COS(RADIANS(2*N6))","v":8.657582556232418},{"$f":"S6+Q6","v":32.093801793436583},{"$f":"R6*COS(RADIANS(T6))/3600","v":-2.0179783417504081E-3},{"$f":"MOD(360-L6-U6,360)","v":357.90365761494775},{"$f":"MOD(280.461+0.9856474*K6,360)","v":162.90231274166581},{"$f":"MOD(357.528+35999.05*M6,360)","v":239.56183396075903},{"$f":"1.915*SIN(RADIANS(X6))+0.02*SIN(RADIANS(2*X6))","v":-1.6335963754578915},{"$f":"W6+Y6","v":161.26871636620791},{"$f":"-Y6+2.466*SIN(RADIANS(2*Z6))-0.053*SIN(RADIANS(4*Z6))","v":0.1848452830843243},{"$f":"Q6","v":23.436219237204167},{"$f":"DEGREES(ASIN(SIN(RADIANS(AB6))*SIN(RADIANS(Z6))))","v":7.3380000009631505},{"$f":"COS(RADIANS(AB6))*SIN(RADIANS(Z6))","v":0.29463797457571439},{"$f":"COS(RADIANS(Z6))","v":-0.94703508109814405},{"$f":"MOD(IF(AE6<0,DEGREES(ATAN(AD6/AE6))+180,DEGREES(ATAN(AD6/AE6))),360)","v":162.71823474618526},{"$f":"180-L6","v":177.90163963660598},{"$f":"MOD(AG6-AF6+180,360)","v":195.18340489042072},0,0,{"$f":"RADIANS(282.9404+0.0000470935*(K6+1.5))","v":4.9453497091445024},1,{"$f":"0.016709-0.000000001151*(K6+1.5)","v":1.669904610404167E-2},{"$f":"MOD(RADIANS(356.047+0.9856002585*(K6+1.5)),2*PI())","v":4.181095086257443},{"$f":"AN6+AM6*SIN(AN6)*(1+AM6*COS(AN6))","v":4.1668197739201647},{"$f":"RADIANS(MOD(23.4393-0.0000003563*(K6+1.5),360))","v":0.4090391805805344},{"$f":"COS(AO6)-AM6","v":-0.53560379658148771},{"$f":"SQRT(1-AM6*AM6)*SIN(AO6)","v":-0.8547128685885792},{"$f":"MOD(RADIANS(IF(AQ6>0,DEGREES(ATAN(AR6/AQ6)),IF(AQ6=0,IF(AR6<0,-90,90),DEGREES(ATAN(AR6/AQ6))+180))),2*PI())","v":4.1526057270776109},{"$f":"SQRT(AQ6*AQ6+AR6*AR6)","v":1.0086652143518291},{"$f":"AS6+AK6","v":9.0979554362221133},{"$f":"AT6*COS(AU6)","v":-0.95527374511574681},{"$f":"AT6*SIN(AU6)","v":0.3238172116116691},{"$f":"AV6","v":-0.95527374511574681},{"$f":"AW6*COS(AP6)","v":0.29710338972104045},{"$f":"AW6*SIN(AP6)","v":0.12879115789612283},{"$f":"DEGREES(MOD(RADIANS(IF(AX6>0,DEGREES(ATAN(AY6/AX6)),IF(AX6=0,IF(AY6<0,-90,90),DEGREES(ATAN(AY6/AX6))+180))),PI()))","v":162.72358130415526},{"$f":"SQRT(AX6*AX6+AY6*AY6)","v":1.0004090924672753},{"$f":"DEGREES(RADIANS(IF(BB6>0,DEGREES(ATAN(AZ6/BB6)),IF(BB6=0,IF(AZ6<0,-90,90),DEGREES(ATAN(AZ6/BB6))+180))))","v":7.3358228292241927},{"$f":"RADIANS(125.1228-0.0529538083*(K6+1.5))","v":-5.8088735927065205},{"$f":"RADIANS(5.1454)","v":8.9804171332116239E-2},{"$f":"RADIANS(318.0634+0.1643573223*(K6+1.5))","v":30.35882199796232},{"$f":"60.2666","v":60.266599999999997},{"$f":"0.0549","v":5.4899999999999997E-2},{"$f":"MOD(RADIANS(115.3654+13.0649929509*(K6+1.5)),2*PI())","v":1.0815598394177783},{"$f":"BI6+BH6*SIN(BI6)*(1+BH6*COS(BI6))","v":1.1312699067774272},{"$f":"BG6*(COS(BJ6)-BH6)","v":22.335461580391584},{"$f":"BG6*(SQRT(1-BH6*BH6)*SIN(BJ6))","v":54.456205482077635},{"$f":"MOD(RADIANS(IF(BK6>0,DEGREES(ATAN(BL6/BK6)),IF(BK6=0,IF(BL6<0,-90,90),DEGREES(ATAN(BL6/BK6))+180))),2*PI())","v":1.1815667763371629},{"$f":"SQRT(BK6*BK6+BL6*BL6)","v":58.858739024170497},{"$f":"BN6*(COS(BD6)*COS(BM6+BF6)-SIN(BD6)*SIN(BM6+BF6)*COS(BE6))","v":48.632371550500096},{"$f":"BN6*(SIN(BD6)*COS(BM6+BF6)+COS(BD6)*SIN(BM6+BF6)*COS(BE6))","v":33.148366181094111},{"$f":"BN6*(SIN(BM6+BF6)*SIN(BE6))","v":0.6552987209029314},{"$f":"DEGREES(RADIANS(IF(BO6>0,DEGREES(ATAN(BP6/BO6)),IF(BO6=0,IF(BP6<0,-90,90),DEGREES(ATAN(BP6/BO6))+180))))","v":34.278778132390819},{"$f":"SQRT(BO6*BO6+BP6*BP6)","v":58.855091055080315},{"$f":"DEGREES(RADIANS(IF(BS6>0,DEGREES(ATAN(BQ6/BS6)),IF(BS6=0,IF(BQ6<0,-90,90),DEGREES(ATAN(BQ6/BS6))+180))))","v":0.63791082423351653},{"$f":"AN6+AK6","v":9.1264447954019445},{"$f":"BI6+BF6+BD6","v":25.631508244673576},{"$f":"BV6-BU6","v":16.505063449271631},{"$f":"BV6-BD6","v":31.440381837380095},{"$f":"-1.274*SIN(BI6-2*BW6)","v":0.62487157666193627},{"$f":"BY6+0.658*SIN(2*BW6)","v":1.2826913755014222},{"$f":"BZ6-0.186*SIN(AN6)","v":1.4430516924830394},{"$f":"CA6-0.059*SIN(2*BI6-2*BW6)","v":1.4112671000853407},{"$f":"CB6-0.057*SIN(BI6-2*BW6+AN6)","v":1.4399280276027746},{"$f":"CC6+0.053*SIN(BI6+2*BW6)","v":1.4637338631857935},{"$f":"CD6+0.046*SIN(2*BW6-AN6)","v":1.4395062820366076},{"$f":"CE6+0.041*SIN(BI6-AN6)","v":1.4377824366616769},{"$f":"CF6-0.035*SIN(BW6)","v":1.4628190830691612},{"$f":"CG6-0.031*SIN(BI6+AN6)","v":1.4892430331260467},{"$f":"CH6-0.015*SIN(2*BX6-2*BW6)","v":1.5042381540033345},{"$f":"CI6+0.011*SIN(BI6-4*BW6)","v":1.4947810623927256},{"$f":"RADIANS(CJ6+BR6)","v":0.62436639310606434},{"$f":"-0.173*SIN(BX6-2*BW6)","v":0.17299990440371824},{"$f":"CL6-0.055*SIN(BI6-BX6-2*BW6)","v":0.2011402633881382},{"$f":"CM6-0.046*SIN(BI6+BX6-2*BW6)","v":0.22271536166485403},{"$f":"CN6+0.033*SIN(BX6+2*BW6)","v":0.25567757536138813},{"$f":"CO6+0.017*SIN(2*BI6+BX6)","v":0.26954525644608118},{"$f":"RADIANS(CP6+BT6)","v":1.5838096425102283E-2},{"$f":"BN6-0.58*COS(BI6-2*BW6)","v":58.353296618691189},{"$f":"CR6-0.46*COS(2*BW6)","v":58.364061492378305},{"$f":"CS6*COS(CK6)*COS(CQ6)","v":47.346789714255088},{"$f":"CS6*SIN(CK6)*COS(CQ6)","v":34.114377889275936},{"$f":"CS6*SIN(CQ6)","v":0.92433698828131783},{"$f":"CT6","v":47.346789714255088},{"$f":"CU6*COS(AP6)-CV6*SIN(AP6)","v":30.932422734012803},{"$f":"CU6*SIN(AP6)+CV6*COS(AP6)","v":14.416324130809205},{"$f":"DEGREES(RADIANS(IF(CW6>0,DEGREES(ATAN(CX6/CW6)),IF(CW6=0,IF(CX6<0,-90,90),DEGREES(ATAN(CX6/CW6))+180))))","v":33.157234180268709},{"$f":"SQRT(CW6*CW6+CX6*CX6)","v":56.555576846510576},{"$f":"DEGREES(RADIANS(IF(DA6>0,DEGREES(ATAN(CY6/DA6)),IF(DA6=0,IF(CY6<0,-90,90),DEGREES(ATAN(CY6/DA6))+180))))","v":14.300464564930534},{"$f":"MOD(AG6-CZ6-180,360)","v":324.74440545633729},{"$f":"RADIANS(49.5574+0.0000211081*(K6+1.5))","v":0.86812578781561156},{"$f":"RADIANS(1.8497-0.0000000178*(K6+1.5))","v":3.2280668499082503E-2},{"$f":"RADIANS(286.5016+0.0000292961*(K6+1.5))","v":5.0048180918455989},{"$f":"1.523688","v":1.5236879999999999},{"$f":"0.093405+0.000000002516*(K6+1.5)","v":9.3426758472833341E-2},{"$f":"MOD(RADIANS(18.6021+0.5240207766*(K6+1.5)),2*PI())","v":4.0204638490559006},{"$f":"DI6+DH6*SIN(DI6)*(1+DH6*COS(DI6))","v":3.9528116923575127},{"$f":"DG6*(COS(DJ6)-DH6)","v":-1.1915876226333755},{"$f":"DG6*(SQRT(1-DH6*DH6)*SIN(DJ6))","v":-1.1000350349007109},{"$f":"MOD(RADIANS(IF(DK6>0,DEGREES(ATAN(DL6/DK6)),IF(DK6=0,IF(DL6<0,-90,90),DEGREES(ATAN(DL6/DK6))+180))),2*PI())","v":3.8870610643449863},{"$f":"SQRT(DK6*DK6+DL6*DL6)","v":1.6217145681105747},{"$f":"DN6*(COS(DD6)*COS(DM6+DF6)-SIN(DD6)*SIN(DM6+DF6)*COS(DE6))","v":-1.5311153490248364},{"$f":"DN6*(SIN(DD6)*COS(DM6+DF6)+COS(DD6)*SIN(DM6+DF6)*COS(DE6))","v":-0.53379476677257709},{"$f":"DN6*(SIN(DM6+DF6)*SIN(DE6))","v":2.6590888831171146E-2},{"$f":"DEGREES(RADIANS(IF(DO6>0,DEGREES(ATAN(DP6/DO6)),IF(DO6=0,IF(DP6<0,-90,90),DEGREES(ATAN(DP6/DO6))+180))))+DU6","v":199.22033450949849},{"$f":"SQRT(DO6*DO6+DP6*DP6)","v":1.621496551045742},{"$f":"DEGREES(RADIANS(IF(DS6>0,DEGREES(ATAN(DQ6/DS6)),IF(DS6=0,IF(DQ6<0,-90,90),DEGREES(ATAN(DQ6/DS6))+180))))","v":0.93950810479627123},{"$f":"0.0000382394*(365.2422*((2000-(36526-OBSERVATIONS!$U$35)/365)-2000)-($K6+1.5))","v":1.7957799148516271E-4},{"$f":"DN6*COS(RADIANS(DR6))*COS(RADIANS(DT6))","v":-1.5311136759832307},{"$f":"DN6*SIN(RADIANS(DR6))*COS(RADIANS(DT6))","v":-0.53379956563335174},{"$f":"DN6*SIN(RADIANS(DT6))","v":2.6590888831171146E-2},{"$f":"$AT6*COS($AU6+RADIANS(DU6))","v":-0.95527476002777234},{"$f":"$AT6*SIN($AU6+RADIANS(DU6))","v":0.32381421756510842},{"$f":"DV6+DY6","v":-2.4863884360110031},{"$f":"DW6+DZ6","v":-0.20998534806824332},{"$f":"DX6","v":2.6590888831171146E-2},{"$f":"EA6","v":-2.4863884360110031},{"$f":"EB6*COS(RADIANS($AB6))-EC6*SIN(RADIANS($AB6))","v":-0.20323820824333214},{"$f":"EB6*SIN(RADIANS($AB6))+EC6*COS(RADIANS($AB6))","v":-5.9119814632768913E-2},{"$f":"DEGREES(RADIANS(IF(ED6>0,DEGREES(ATAN(EE6/ED6)),IF(ED6=0,IF(EE6<0,-90,90),DEGREES(ATAN(EE6/ED6))+180))))","v":184.67298684253888},{"$f":"SQRT(ED6*ED6+EE6*EE6)","v":2.4946809864227535},{"$f":"DEGREES(RADIANS(IF(EH6>0,DEGREES(ATAN(EF6/EH6)),IF(EH6=0,IF(EF6<0,-90,90),DEGREES(ATAN(EF6/EH6))+180))))","v":-1.3575611380431294},{"$f":"MOD($AG6-EG6-180,360)","v":173.2286527940671},{"$f":"RADIANS(76.6799+0.000024659*(K6+1.5))","v":1.3420386756742064},{"$f":"RADIANS(3.3946+0.0000000275*(K6+1.5))","v":5.9251097550225167E-2},{"$f":"RADIANS(54.891+0.0000138374*(K6+1.5))","v":0.96011725260143754},{"$f":"0.72333","v":0.72333000000000003},{"$f":"0.006773-0.000000001302*(K6+1.5)","v":6.7617402497500007E-3},{"$f":"MOD(RADIANS(48.0052+1.6021302244*(K6+1.5)),2*PI())","v":3.897217874245527},{"$f":"EP6+EO6*SIN(EP6)*(1+EO6*COS(EP6))","v":3.8926038724009437},{"$f":"EN6*(COS(EQ6)-EO6)","v":-0.53364462738872132},{"$f":"EN6*(SQRT(1-EO6*EO6)*SIN(EQ6))","v":-0.49357341844818114},{"$f":"MOD(RADIANS(IF(ER6>0,DEGREES(ATAN(ES6/ER6)),IF(ER6=0,IF(ES6<0,-90,90),DEGREES(ATAN(ES6/ER6))+180))),2*PI())","v":3.8880011383171449},{"$f":"SQRT(ER6*ER6+ES6*ES6)","v":0.72690529489024269},{"$f":"EU6*(COS(EK6)*COS(ET6+EM6)-SIN(EK6)*SIN(ET6+EM6)*COS(EL6))","v":0.72253121097310025},{"$f":"EU6*(SIN(EK6)*COS(ET6+EM6)+COS(EK6)*SIN(ET6+EM6)*COS(EL6))","v":-6.7238621611696192E-2},{"$f":"EU6*(SIN(ET6+EM6)*SIN(EL6))","v":-4.2648853126140029E-2},{"$f":"DEGREES(RADIANS(IF(EV6>0,DEGREES(ATAN(EW6/EV6)),IF(EV6=0,IF(EW6<0,-90,90),DEGREES(ATAN(EW6/EV6))+180))))+FB6","v":-5.3164428633652117},{"$f":"SQRT(EV6*EV6+EW6*EW6)","v":0.72565307349069741},{"$f":"DEGREES(RADIANS(IF(EZ6>0,DEGREES(ATAN(EX6/EZ6)),IF(EZ6=0,IF(EX6<0,-90,90),DEGREES(ATAN(EX6/EZ6))+180))))","v":-3.3635790598682944},{"$f":"0.0000382394*(365.2422*((2000-(36526-OBSERVATIONS!$U$35)/365)-2000)-($K6+1.5))","v":1.7957799148516271E-4},{"$f":"EU6*COS(RADIANS(EY6))*COS(RADIANS(FA6))","v":0.7225314217106692},{"$f":"EU6*SIN(RADIANS(EY6))*COS(RADIANS(FA6))","v":-6.7236357034380426E-2},{"$f":"EU6*SIN(RADIANS(FA6))","v":-4.2648853126140036E-2},{"$f":"$AT6*COS($AU6+RADIANS(FB6))","v":-0.95527476002777234},{"$f":"$AT6*SIN($AU6+RADIANS(FB6))","v":0.32381421756510842},{"$f":"FC6+FF6","v":-0.23274333831710314},{"$f":"FD6+FG6","v":0.25657786053072801},{"$f":"FE6","v":-4.2648853126140036E-2},{"$f":"FH6","v":-0.23274333831710314},{"$f":"FI6*COS(RADIANS($AB6))-FJ6*SIN(RADIANS($AB6))","v":0.25237369771458595},{"$f":"FI6*SIN(RADIANS($AB6))+FJ6*COS(RADIANS($AB6))","v":6.2917723173741488E-2},{"$f":"DEGREES(RADIANS(IF(FK6>0,DEGREES(ATAN(FL6/FK6)),IF(FK6=0,IF(FL6<0,-90,90),DEGREES(ATAN(FL6/FK6))+180))))","v":132.68277885712544},{"$f":"SQRT(FK6*FK6+FL6*FL6)","v":0.34331027486680726},{"$f":"DEGREES(RADIANS(IF(FO6>0,DEGREES(ATAN(FM6/FO6)),IF(FO6=0,IF(FM6<0,-90,90),DEGREES(ATAN(FM6/FO6))+180))))","v":10.385225795881835},{"$f":"MOD($AG6-FN6-180,360)","v":225.21886077948054},{"$f":"RADIANS(100.4542+0.0000276854*(K6+1.5))","v":1.7574352831654381},{"$f":"RADIANS(1.303-0.0000001557*(K6+1.5))","v":2.2718139293580849E-2},{"$f":"RADIANS(273.8777+0.0000164505*(K6+1.5))","v":4.7825505986330228},{"$f":"5.20256","v":5.2025600000000001},{"$f":"0.048498+0.000000004469*(K6+1.5)","v":4.8536648098208332E-2},{"$f":"MOD(RADIANS(19.895+0.0830853001*(K6+1.5)),2*PI())","v":0.32149204197663828},{"$f":"FW6+FV6*SIN(FW6)*(1+FV6*COS(FW6))","v":0.3375350283870085},{"$f":"FU6*(COS(FX6)-FV6)","v":4.6564846763691357},{"$f":"FU6*(SQRT(1-FV6*FV6)*SIN(FX6))","v":1.7208607124922195},{"$f":"MOD(RADIANS(IF(FY6>0,DEGREES(ATAN(FZ6/FY6)),IF(FY6=0,IF(FZ6<0,-90,90),DEGREES(ATAN(FZ6/FY6))+180))),2*PI())","v":0.35399478036914345},{"$f":"SQRT(FY6*FY6+FZ6*FZ6)","v":4.9642936187397098},{"$f":"GB6*(COS(FR6)*COS(GA6+FT6)-SIN(FR6)*SIN(GA6+FT6)*COS(FS6))","v":4.0655630176520674},{"$f":"GB6*(SIN(FR6)*COS(GA6+FT6)+COS(FR6)*SIN(GA6+FT6)*COS(FS6))","v":2.8469010169635989},{"$f":"GB6*(SIN(GA6+FT6)*SIN(FS6))","v":-0.10277685620431821},{"$f":"DEGREES(RADIANS(IF(GC6>0,DEGREES(ATAN(GD6/GC6)),IF(GC6=0,IF(GD6<0,-90,90),DEGREES(ATAN(GD6/GC6))+180))))+GK6","v":35.001722330944354},{"$f":"(-0.332*SIN(2*FW6-5*HF6-RADIANS(67.6))-0.056*SIN(2*FW6-2*HF6+RADIANS(21))+0.042*SIN(3*FW6-5*HF6+RADIANS(21))-0.036*SIN(FW6-2*HF6)+0.022*COS(FW6-HF6)+0.023*SIN(2*FW6-3*HF6+RADIANS(52))-0.016*SIN(FW6-5*HF6-RADIANS(69)))","v":3.7320406199733723E-2},{"$f":"GF6+GG6","v":35.039042737144086},{"$f":"SQRT(GC6*GC6+GD6*GD6)","v":4.9632295988487733},{"$f":"DEGREES(RADIANS(IF(GI6>0,DEGREES(ATAN(GE6/GI6)),IF(GI6=0,IF(GE6<0,-90,90),DEGREES(ATAN(GE6/GI6))+180))))","v":-1.1862918063383858},{"$f":"0.0000382394*(365.2422*((2000-(36526-OBSERVATIONS!$U$35)/365)-2000)-($K6+1.5))","v":1.7957799148516271E-4},{"$f":"GB6*COS(RADIANS(GH6))*COS(RADIANS(GJ6))","v":4.0636988554339002},{"$f":"GB6*SIN(RADIANS(GH6))*COS(RADIANS(GJ6))","v":2.8495613106641113},{"$f":"GB6*SIN(RADIANS(GJ6))","v":-0.10277685620431823},{"$f":"$AT6*COS($AU6+RADIANS(GK6))","v":-0.95527476002777234},{"$f":"$AT6*SIN($AU6+RADIANS(GK6))","v":0.32381421756510842},{"$f":"GL6+GO6","v":3.1084240954061277},{"$f":"GM6+GP6","v":3.1733755282292195},{"$f":"GN6","v":-0.10277685620431823},{"$f":"GQ6","v":3.1084240954061277},{"$f":"GR6*COS(RADIANS($AB6))-GS6*SIN(RADIANS($AB6))","v":2.9524600262113161},{"$f":"GR6*SIN(RADIANS($AB6))+GS6*COS(RADIANS($AB6))","v":1.1678420779196113},{"$f":"DEGREES(RADIANS(IF(GT6>0,DEGREES(ATAN(GU6/GT6)),IF(GT6=0,IF(GU6<0,-90,90),DEGREES(ATAN(GU6/GT6))+180))))","v":43.525939270936703},{"$f":"SQRT(GT6*GT6+GU6*GU6)","v":4.2871109809844121},{"$f":"DEGREES(RADIANS(IF(GX6>0,DEGREES(ATAN(GV6/GX6)),IF(GX6=0,IF(GV6<0,-90,90),DEGREES(ATAN(GV6/GX6))+180))))","v":15.238075226655301},{"$f":"MOD($AG6-GW6-180,360)","v":314.37570036566927},{"$f":"RADIANS(113.6634+0.000023898*(K6+1.5))","v":1.9874076566800192},{"$f":"RADIANS(2.4886-0.0000001081*(K6+1.5))","v":4.3417947496950021E-2},{"$f":"RADIANS(339.3939+0.0000297661*(K6+1.5))","v":5.9280338160946338},{"$f":"9.55475","v":9.5547500000000003},{"$f":"0.055546-0.000000009499*(K6+1.5)","v":5.5463852252208332E-2},{"$f":"MOD(RADIANS(316.967+0.0334442282*(K6+1.5)),2*PI())","v":4.2968972771702134},{"$f":"HF6+HE6*SIN(HF6)*(1+HE6*COS(HF6))","v":4.2472884494715988},{"$f":"HD6*(COS(HG6)-HE6)","v":-4.8153695410535677},{"$f":"HD6*(SQRT(1-HE6*HE6)*SIN(HG6))","v":-8.5266654627932503},{"$f":"MOD(RADIANS(IF(HH6>0,DEGREES(ATAN(HI6/HH6)),IF(HH6=0,IF(HI6<0,-90,90),DEGREES(ATAN(HI6/HH6))+180))),2*PI())","v":4.1982977247196258},{"$f":"SQRT(HH6*HH6+HI6*HI6)","v":9.79243625107142},{"$f":"HK6*(COS(HA6)*COS(HJ6+HC6)-SIN(HA6)*SIN(HJ6+HC6)*COS(HB6))","v":8.8008854809344506},{"$f":"HK6*(SIN(HA6)*COS(HJ6+HC6)+COS(HA6)*SIN(HJ6+HC6)*COS(HB6))","v":-4.284970423020968},{"$f":"HK6*(SIN(HJ6+HC6)*SIN(HB6))","v":-0.27431907810135286},{"$f":"DEGREES(RADIANS(IF(HL6>0,DEGREES(ATAN(HM6/HL6)),IF(HL6=0,IF(HM6<0,-90,90),DEGREES(ATAN(HM6/HL6))+180))))+HV6","v":-25.960320122522717},{"$f":"0.812*SIN(2*FW6-5*HF6-RADIANS(67.6))-0.229*COS(2*FW6-4*HF6-RADIANS(2))+0.119*SIN(FW6-2*HF6-RADIANS(3))+0.046*SIN(2*FW6-6*HF6-RADIANS(69))+0.014*SIN(FW6-3*HF6+RADIANS(32))","v":3.0197812214549299E-2},{"$f":"HO6+HP6","v":-25.930122310308167},{"$f":"SQRT(HL6*HL6+HM6*HM6)","v":9.7885931969148299},{"$f":"DEGREES(RADIANS(IF(HR6>0,DEGREES(ATAN(HN6/HR6)),IF(HR6=0,IF(HN6<0,-90,90),DEGREES(ATAN(HN6/HR6))+180))))","v":-1.6052575099544235},{"$f":"-0.02*COS(2*FW6-4*HF6-RADIANS(2))+0.018*SIN(2*FW6-6*HF6-RADIANS(49))","v":-7.7852778342868932E-4},{"$f":"HS6+HT6","v":-1.6060360377378522},{"$f":"0.0000382394*(365.2422*((2000-(36526-OBSERVATIONS!$U$35)/365)-2000)-($K6+1.5))","v":1.7957799148516271E-4},{"$f":"HK6*COS(RADIANS(HQ6))*COS(RADIANS(HU6))","v":8.8031527199877004},{"$f":"HK6*SIN(RADIANS(HQ6))*COS(RADIANS(HU6))","v":-4.280302089026887},{"$f":"HK6*SIN(RADIANS(HU6))","v":-0.2744520842385948},{"$f":"$AT6*COS($AU6+RADIANS(HV6))","v":-0.95527476002777234},{"$f":"$AT6*SIN($AU6+RADIANS(HV6))","v":0.32381421756510842},{"$f":"HW6+HZ6","v":7.847877959959928},{"$f":"HX6+IA6","v":-3.9564878714617784},{"$f":"HY6","v":-0.2744520842385948},{"$f":"IB6","v":7.847877959959928},{"$f":"IC6*COS(RADIANS($AB6))-ID6*SIN(RADIANS($AB6))","v":-3.520933754870732},{"$f":"IC6*SIN(RADIANS($AB6))+ID6*COS(RADIANS($AB6))","v":-1.8254165873517612},{"$f":"DEGREES(RADIANS(IF(IE6>0,DEGREES(ATAN(IF6/IE6)),IF(IE6=0,IF(IF6<0,-90,90),DEGREES(ATAN(IF6/IE6))+180))))","v":-24.163287643655973},{"$f":"SQRT(IE6*IE6+IF6*IF6)","v":8.6015209690271011},{"$f":"DEGREES(RADIANS(IF(II6>0,DEGREES(ATAN(IG6/II6)),IF(II6=0,IF(IG6<0,-90,90),DEGREES(ATAN(IG6/II6))+180))))","v":-11.981560270156928},{"$f":"MOD($AG6-IH6-180,360)","v":22.064927280261941}]
[null,"Adhara",{"$f":"(6+58/60+39/3600)","v":6.9775},{"$f":"-28-58.4/60","v":-28.973333333333333},{"$f":"MOD(360-(C7+((3.075+1.336*SIN(RADIANS(C7))*TAN(RADIANS(D7)))*(OBSERVATIONS!$U$35-36526)/365)/3600)*15,360)","v":255.04283707007957},{"$f":"D7+(20.04*COS(RADIANS(C7*15))*(OBSERVATIONS!$U$35-36526)/365)/3600","v":-29.006714578629957},{"$f":"-17.3*SIN(RADIANS(125-0.05295*(OBSERVATIONS!$U$35-2451545)))-1.4*SIN(RADIANS(200+1.97129*(OBSERVATIONS!$U$35-2451545)))","v":-15.507213434549312},{"$f":"9.4*COS(RADIANS(125-0.05295*(OBSERVATIONS!$U$35-2451545)))+0.7*COS(RADIANS(200+1.97129*(OBSERVATIONS!$U$35-2451545)))","v":-2.1041300782981658},255.04462625378682,-29.006351839785729,{"$f":"VLOOKUP(OBSERVATIONS!U7,O7:P69,2,FALSE)","v":0},null,null,null,"Sun",1,{"$f":"AH4","v":182.68055158460612},{"$f":"AH5","v":180.17998107606186},{"$f":"AH6","v":195.18340489042072},{"$f":"AC4","v":7.3507716188661876},{"$f":"AC5","v":7.3533256553259623},{"$f":"AC6","v":7.3380000009631505},null,null,{"$f":"MOD(Q7+OBSERVATIONS!$AO$13,360)","v":189.46388491793945},{"$f":"IF(Y7>180,360-Y7,Y7)","v":170.53611508206055},{"$f":"T7","v":7.3507716188661876},{"$f":"IF(Y7>90,IF(Y7<270,1,0),0)","v":1},{"$f":"ABS(TAN(RADIANS(ABS(OBSERVATIONS!$AO$12)))/TAN(RADIANS(ABS(Z7))))","v":8.7525639605953689},{"$f":"IF(AB7=0,IF(OBSERVATIONS!$AY$35=\"N\",-AC7,AC7),IF(OBSERVATIONS!$AY$35=\"N\",AC7,-AC7))","v":8.7525639605953689},{"$f":"IF(AA7>0,ABS(TAN(RADIANS(AA7))/SIN(RADIANS(Y7))),-ABS(TAN(RADIANS(AA7))/SIN(RADIANS(Y7))))","v":0.78457066677580589},{"$f":"AD7+AE7","v":9.5371346273711755},{"$f":"ABS(DEGREES(ATAN(1/(COS(RADIANS(ABS(OBSERVATIONS!$AO$12)))*AF7))))","v":10.507023782911681},{"$f":"IF(AF7<0,IF(Y7<180,180+AG7,180-AG7),IF(Y7<180,360-AG7,AG7))","v":10.507023782911681},{"$f":"AA7-OBSERVATIONS!$AO$12","v":-48.22256171446714},{"$f":"DEGREES(ASIN(SIN(RADIANS(OBSERVATIONS!$AO$12))*SIN(RADIANS(AA7))+COS(RADIANS(OBSERVATIONS!$AO$12))*COS(RADIANS(AA7))*COS(RADIANS(Y7))))","v":-26.585887845034229},{"$f":"AJ7","v":-26.585887845034229},"Sun",{"$f":"AH7","v":10.507023782911681},{"$f":"AJ7","v":-26.585887845034229},1.2059548677676499]
[null,"Aldebaran",{"$f":"(4+35/60+56/3600)","v":4.5988888888888884},{"$f":"16+30.5/60","v":16.508333333333333},{"$f":"MOD(360-(C8+((3.075+1.336*SIN(RADIANS(C8))*TAN(RADIANS(D8)))*(OBSERVATIONS!$U$35-36526)/365)/3600)*15,360)","v":290.70999949695732},{"$f":"D8+(20.04*COS(RADIANS(C8*15))*(OBSERVATIONS!$U$35-36526)/365)/3600","v":16.555629499004979},{"$f":"-17.3*SIN(RADIANS(125-0.05295*(OBSERVATIONS!$U$35-2451545)))-1.4*SIN(RADIANS(200+1.97129*(OBSERVATIONS!$U$35-2451545)))","v":-15.507213434549312},{"$f":"9.4*COS(RADIANS(125-0.05295*(OBSERVATIONS!$U$35-2451545)))+0.7*COS(RADIANS(200+1.97129*(OBSERVATIONS!$U$35-2451545)))","v":-2.1041300782981658},290.70971793519436,16.554968089916549,null,null,null,null,"Moon",1,{"$f":"DC4","v":312.66445620847139},{"$f":"DC5","v":310.24843411640501},{"$f":"DC6","v":324.74440545633729},{"$f":"DB4","v":14.098625879951598},{"$f":"DB5","v":14.058126533776001},{"$f":"DB6","v":14.300464564930534},null,null,{"$f":"MOD(Q8+OBSERVATIONS!$AO$13,360)","v":319.44778954180475},{"$f":"IF(Y8>180,360-Y8,Y8)","v":40.552210458195248},{"$f":"T8","v":14.098625879951598},{"$f":"IF(Y8>90,IF(Y8<270,1,0),0)","v":0},{"$f":"ABS(TAN(RADIANS(ABS(OBSERVATIONS!$AO$12)))/TAN(RADIANS(ABS(Z8))))","v":1.7051277938426164},{"$f":"IF(AB8=0,IF(OBSERVATIONS!$AY$35=\"N\",-AC8,AC8),IF(OBSERVATIONS!$AY$35=\"N\",AC8,-AC8))","v":-1.7051277938426164},{"$f":"IF(AA8>0,ABS(TAN(RADIANS(AA8))/SIN(RADIANS(Y8))),-ABS(TAN(RADIANS(AA8))/SIN(RADIANS(Y8))))","v":0.38631198566488573},{"$f":"AD8+AE8","v":-1.3188158081777306},{"$f":"ABS(DEGREES(ATAN(1/(COS(RADIANS(ABS(OBSERVATIONS!$AO$12)))*AF8))))","v":53.29201688839786},{"$f":"IF(AF8<0,IF(Y8<180,180+AG8,180-AG8),IF(Y8<180,360-AG8,AG8))","v":126.70798311160215},{"$f":"AA8-OBSERVATIONS!$AO$12","v":-41.474707453381733},{"$f":"DEGREES(ASIN(SIN(RADIANS(OBSERVATIONS!$AO$12))*SIN(RADIANS(AA8))+COS(RADIANS(OBSERVATIONS!$AO$12))*COS(RADIANS(AA8))*COS(RADIANS(Y8))))","v":38.137365759120101},{"$f":"AJ8","v":38.137365759120101},"Moon",{"$f":"AH8","v":126.70798311160215},{"$f":"AJ8","v":38.137365759120101}]
[null,"Alioth",{"$f":"(12+54/60+0/3600)","v":12.9},{"$f":"55+57.4/60","v":55.956666666666663},{"$f":"MOD(360-(C9+((3.075+1.336*SIN(RADIANS(C9))*TAN(RADIANS(D9)))*(OBSERVATIONS!$U$35-36526)/365)/3600)*15,360)","v":166.15288896330603},{"$f":"D9+(20.04*COS(RADIANS(C9*15))*(OBSERVATIONS!$U$35-36526)/365)/3600","v":55.828433807198138},{"$f":"-17.3*SIN(RADIANS(125-0.05295*(OBSERVATIONS!$U$35-2451545)))-1.4*SIN(RADIANS(200+1.97129*(OBSERVATIONS!$U$35-2451545)))","v":-15.507213434549312},{"$f":"9.4*COS(RADIANS(125-0.05295*(OBSERVATIONS!$U$35-2451545)))+0.7*COS(RADIANS(200+1.97129*(OBSERVATIONS!$U$35-2451545)))","v":-2.1041300782981658},166.15394637322655,55.829969523483619,null,null,null,null,"Acamar",0,null,null,null,null,null,null,null,null,{"$f":"MOD(V$4+OBSERVATIONS!$AO$13+I4,360)","v":307.28931892046057},52.710681079539427,{"$f":"J4","v":-40.217297640774731},0,{"$f":"ABS(TAN(RADIANS(ABS(OBSERVATIONS!$AO$12)))/TAN(RADIANS(ABS(Z9))))","v":1.1110349627578229},{"$f":"IF(AB9=0,IF(OBSERVATIONS!$AY$35=\"N\",-AC9,AC9),IF(OBSERVATIONS!$AY$35=\"N\",AC9,-AC9))","v":-1.1110349627578229},-1.0628425936813608,-2.1738775564391837,{"$f":"ABS(DEGREES(ATAN(1/(COS(RADIANS(ABS(OBSERVATIONS!$AO$12)))*AF9))))","v":39.134116814658881},140.86588318534112,{"$f":"AA9-OBSERVATIONS!$AO$12","v":-95.790630974108069},{"$f":"DEGREES(ASIN(SIN(RADIANS(OBSERVATIONS!$AO$12))*SIN(RADIANS(AA9))+COS(RADIANS(OBSERVATIONS!$AO$12))*COS(RADIANS(AA9))*COS(RADIANS(Y9))))","v":-15.726964781028991},-15.726964781028991,"Acamar",140.86588318534112,-15.726964781028991]
[null,"Alkaid",{"$f":"(13+47/60+31/3600)","v":13.791944444444445},{"$f":"49+18.7/60","v":49.311666666666667},{"$f":"MOD(360-(C10+((3.075+1.336*SIN(RADIANS(C10))*TAN(RADIANS(D10)))*(OBSERVATIONS!$U$35-36526)/365)/3600)*15,360)","v":152.7807336986231},{"$f":"D10+(20.04*COS(RADIANS(C10*15))*(OBSERVATIONS!$U$35-36526)/365)/3600","v":49.194037734607072},{"$f":"-17.3*SIN(RADIANS(125-0.05295*(OBSERVATIONS!$U$35-2451545)))-1.4*SIN(RADIANS(200+1.97129*(OBSERVATIONS!$U$35-2451545)))","v":-15.507213434549312},{"$f":"9.4*COS(RADIANS(125-0.05295*(OBSERVATIONS!$U$35-2451545)))+0.7*COS(RADIANS(200+1.97129*(OBSERVATIONS!$U$35-2451545)))","v":-2.1041300782981658},152.78187533740825,49.195426815090286,null,null,null,null,"Achernar",0,null,null,null,null,null,null,null,null,{"$f":"MOD(V$4+OBSERVATIONS!$AO$13+I5,360)","v":327.42637539187047},32.573624608129535,{"$f":"J5","v":-57.124839947769274},0,{"$f":"ABS(TAN(RADIANS(ABS(OBSERVATIONS!$AO$12)))/TAN(RADIANS(ABS(Z10))))","v":2.2836995843613801},{"$f":"IF(AB10=0,IF(OBSERVATIONS!$AY$35=\"N\",-AC10,AC10),IF(OBSERVATIONS!$AY$35=\"N\",AC10,-AC10))","v":-2.2836995843613801},-2.8738561797750863,-5.1575557641364664,{"$f":"ABS(DEGREES(ATAN(1/(COS(RADIANS(ABS(OBSERVATIONS!$AO$12)))*AF10))))","v":18.929693253166459},161.07030674683355,{"$f":"AA10-OBSERVATIONS!$AO$12","v":-112.69817328110261},{"$f":"DEGREES(ASIN(SIN(RADIANS(OBSERVATIONS!$AO$12))*SIN(RADIANS(AA10))+COS(RADIANS(OBSERVATIONS!$AO$12))*COS(RADIANS(AA10))*COS(RADIANS(Y10))))","v":-25.73112393139743},-25.73112393139743,"Achernar",161.07030674683355,-25.73112393139743]
[null,"Al Na'ir",{"$f":"(22+8/60+11/3600)","v":22.136388888888888},{"$f":"-46-57.9/60","v":-46.965000000000003},{"$f":"MOD(360-(C11+((3.075+1.336*SIN(RADIANS(C11))*TAN(RADIANS(D11)))*(OBSERVATIONS!$U$35-36526)/365)/3600)*15,360)","v":27.703857033892746},{"$f":"D11+(20.04*COS(RADIANS(C11*15))*(OBSERVATIONS!$U$35-36526)/365)/3600","v":-46.84851036588713},{"$f":"-17.3*SIN(RADIANS(125-0.05295*(OBSERVATIONS!$U$35-2451545)))-1.4*SIN(RADIANS(200+1.97129*(OBSERVATIONS!$U$35-2451545)))","v":-15.507213434549312},{"$f":"9.4*COS(RADIANS(125-0.05295*(OBSERVATIONS!$U$35-2451545)))+0.7*COS(RADIANS(200+1.97129*(OBSERVATIONS!$U$35-2451545)))","v":-2.1041300782981658},27.703428648547678,-46.850244220863736,null,null,null,null,"Acrux",0,null,null,null,null,null,null,null,null,{"$f":"MOD(V$4+OBSERVATIONS!$AO$13+I6,360)","v":165.25685590851822},165.25685590851822,-63.221079954918892,1,{"$f":"ABS(TAN(RADIANS(ABS(OBSERVATIONS!$AO$12)))/TAN(RADIANS(ABS(Z11))))","v":5.5443874946686913},{"$f":"IF(AB11=0,IF(OBSERVATIONS!$AY$35=\"N\",-AC11,AC11),IF(OBSERVATIONS!$AY$35=\"N\",AC11,-AC11))","v":5.5443874946686913},-7.786176183748367,-2.2417886890796757,{"$f":"ABS(DEGREES(ATAN(1/(COS(RADIANS(ABS(OBSERVATIONS!$AO$12)))*AF11))))","v":38.274093237469721},218.27409323746971,{"$f":"AA11-OBSERVATIONS!$AO$12","v":-118.79441328825223},{"$f":"DEGREES(ASIN(SIN(RADIANS(OBSERVATIONS!$AO$12))*SIN(RADIANS(AA11))+COS(RADIANS(OBSERVATIONS!$AO$12))*COS(RADIANS(AA11))*COS(RADIANS(Y11))))","v":-79.332741711059541},-79.332741711059541,"Acrux",218.27409323746971,-79.332741711059541]
[null,"Alnilam",{"$f":"(5+36/60+13/3600)","v":5.6036111111111104},{"$f":"-1-11.7/60","v":-1.1950000000000001},{"$f":"MOD(360-(C12+((3.075+1.336*SIN(RADIANS(C12))*TAN(RADIANS(D12)))*(OBSERVATIONS!$U$35-36526)/365)/3600)*15,360)","v":275.64256855705014},{"$f":"D12+(20.04*COS(RADIANS(C12*15))*(OBSERVATIONS!$U$35-36526)/365)/3600","v":-1.1813391370283899},{"$f":"-17.3*SIN(RADIANS(125-0.05295*(OBSERVATIONS!$U$35-2451545)))-1.4*SIN(RADIANS(200+1.97129*(OBSERVATIONS!$U$35-2451545)))","v":-15.507213434549312},{"$f":"9.4*COS(RADIANS(125-0.05295*(OBSERVATIONS!$U$35-2451545)))+0.7*COS(RADIANS(200+1.97129*(OBSERVATIONS!$U$35-2451545)))","v":-2.1041300782981658},275.642874584391,-1.1815737122728249,null,null,null,null,"Adhara",0,null,null,null,null,null,null,null,null,{"$f":"MOD(V$4+OBSERVATIONS!$AO$13+I7,360)","v":247.19739421657505},112.80260578342495,-29.006351839785729,1,{"$f":"ABS(TAN(RADIANS(ABS(OBSERVATIONS!$AO$12)))/TAN(RADIANS(ABS(Z12))))","v":0.61338773599429808},{"$f":"IF(AB12=0,IF(OBSERVATIONS!$AY$35=\"N\",-AC12,AC12),IF(OBSERVATIONS!$AY$35=\"N\",AC12,-AC12))","v":0.61338773599429808},-0.60146083883442303,1.192689715987505E-2,{"$f":"ABS(DEGREES(ATAN(1/(COS(RADIANS(ABS(OBSERVATIONS!$AO$12)))*AF12))))","v":89.613667126029938},89.613667126029938,{"$f":"AA12-OBSERVATIONS!$AO$12","v":-84.57968517311906},{"$f":"DEGREES(ASIN(SIN(RADIANS(OBSERVATIONS!$AO$12))*SIN(RADIANS(AA12))+COS(RADIANS(OBSERVATIONS!$AO$12))*COS(RADIANS(AA12))*COS(RADIANS(Y12))))","v":-36.270494674115554},-36.270494674115554,"Adhara",89.613667126029938,-36.270494674115554]
[null,"Alphard",{"$f":"(9+27/60+36/3600)","v":9.4599999999999991},{"$f":"-8-39.5/60","v":-8.6583333333333332},{"$f":"MOD(360-(C13+((3.075+1.336*SIN(RADIANS(C13))*TAN(RADIANS(D13)))*(OBSERVATIONS!$U$35-36526)/365)/3600)*15,360)","v":217.79976723771722},{"$f":"D13+(20.04*COS(RADIANS(C13*15))*(OBSERVATIONS!$U$35-36526)/365)/3600","v":-8.7621116649797486},{"$f":"-17.3*SIN(RADIANS(125-0.05295*(OBSERVATIONS!$U$35-2451545)))-1.4*SIN(RADIANS(200+1.97129*(OBSERVATIONS!$U$35-2451545)))","v":-15.507213434549312},{"$f":"9.4*COS(RADIANS(125-0.05295*(OBSERVATIONS!$U$35-2451545)))+0.7*COS(RADIANS(200+1.97129*(OBSERVATIONS!$U$35-2451545)))","v":-2.1041300782981658},217.80072316400828,-8.7608592794153068,null,null,null,null,"Aldebaran",0,null,null,null,null,null,null,null,null,{"$f":"MOD(V$4+OBSERVATIONS!$AO$13+I8,360)","v":282.86248589798254},77.137514102017462,16.554968089916549,0,{"$f":"ABS(TAN(RADIANS(ABS(OBSERVATIONS!$AO$12)))/TAN(RADIANS(ABS(Z13))))","v":0.33315175032046618},{"$f":"IF(AB13=0,IF(OBSERVATIONS!$AY$35=\"N\",-AC13,AC13),IF(OBSERVATIONS!$AY$35=\"N\",AC13,-AC13))","v":-0.33315175032046618},0.30490836152853273,-2.8243388791933444E-2,{"$f":"ABS(DEGREES(ATAN(1/(COS(RADIANS(ABS(OBSERVATIONS!$AO$12)))*AF13))))","v":89.08521155214153},90.91478844785847,{"$f":"AA13-OBSERVATIONS!$AO$12","v":-39.018365243416781},{"$f":"DEGREES(ASIN(SIN(RADIANS(OBSERVATIONS!$AO$12))*SIN(RADIANS(AA13))+COS(RADIANS(OBSERVATIONS!$AO$12))*COS(RADIANS(AA13))*COS(RADIANS(Y13))))","v":20.834243901650417},20.834243901650417,"Aldebaran",90.91478844785847,20.834243901650417]
[null,"Alphecca",{"$f":"(15+34/60+39/3600)","v":15.577500000000001},{"$f":"26+42.9/60","v":26.715},{"$f":"MOD(360-(C14+((3.075+1.336*SIN(RADIANS(C14))*TAN(RADIANS(D14)))*(OBSERVATIONS!$U$35-36526)/365)/3600)*15,360)","v":126.01614342664482},{"$f":"D14+(20.04*COS(RADIANS(C14*15))*(OBSERVATIONS!$U$35-36526)/365)/3600","v":26.636857756991294},{"$f":"-17.3*SIN(RADIANS(125-0.05295*(OBSERVATIONS!$U$35-2451545)))-1.4*SIN(RADIANS(200+1.97129*(OBSERVATIONS!$U$35-2451545)))","v":-15.507213434549312},{"$f":"9.4*COS(RADIANS(125-0.05295*(OBSERVATIONS!$U$35-2451545)))+0.7*COS(RADIANS(200+1.97129*(OBSERVATIONS!$U$35-2451545)))","v":-2.1041300782981658},126.01470539112498,26.637716145760272,null,null,null,null,"Alioth",0,null,null,null,null,null,null,null,null,{"$f":"MOD(V$4+OBSERVATIONS!$AO$13+I9,360)","v":158.30671433601469},158.30671433601469,55.829969523483619,1,{"$f":"ABS(TAN(RADIANS(ABS(OBSERVATIONS!$AO$12)))/TAN(RADIANS(ABS(Z14))))","v":3.6675712095711037},{"$f":"IF(AB14=0,IF(OBSERVATIONS!$AY$35=\"N\",-AC14,AC14),IF(OBSERVATIONS!$AY$35=\"N\",AC14,-AC14))","v":3.6675712095711037},3.9852847964546099,7.6528560060257131,{"$f":"ABS(DEGREES(ATAN(1/(COS(RADIANS(ABS(OBSERVATIONS!$AO$12)))*AF14))))","v":13.014298521966646},346.98570147803338,{"$f":"AA14-OBSERVATIONS!$AO$12","v":0.25663619015028871},{"$f":"DEGREES(ASIN(SIN(RADIANS(OBSERVATIONS!$AO$12))*SIN(RADIANS(AA14))+COS(RADIANS(OBSERVATIONS!$AO$12))*COS(RADIANS(AA14))*COS(RADIANS(Y14))))","v":22.794010502208646},22.794010502208646,"Alioth",346.98570147803338,22.794010502208646]
[null,"Alpheratz",{"$f":"(0+8/60+22/3600)","v":0.13944444444444445},{"$f":"29+5.5/60","v":29.091666666666665},{"$f":"MOD(360-(C15+((3.075+1.336*SIN(RADIANS(C15))*TAN(RADIANS(D15)))*(OBSERVATIONS!$U$35-36526)/365)/3600)*15,360)","v":357.60462136205012},{"$f":"D15+(20.04*COS(RADIANS(C15*15))*(OBSERVATIONS!$U$35-36526)/365)/3600","v":29.223455419969333},{"$f":"-17.3*SIN(RADIANS(125-0.05295*(OBSERVATIONS!$U$35-2451545)))-1.4*SIN(RADIANS(200+1.97129*(OBSERVATIONS!$U$35-2451545)))","v":-15.507213434549312},{"$f":"9.4*COS(RADIANS(125-0.05295*(OBSERVATIONS!$U$35-2451545)))+0.7*COS(RADIANS(200+1.97129*(OBSERVATIONS!$U$35-2451545)))","v":-2.1041300782981658},357.60516640919451,29.22174159211249,null,null,null,null,"Alkaid",0,null,null,null,null,null,null,null,null,{"$f":"MOD(V$4+OBSERVATIONS!$AO$13+I10,360)","v":144.9346433001964},144.9346433001964,49.195426815090286,1,{"$f":"ABS(TAN(RADIANS(ABS(OBSERVATIONS!$AO$12)))/TAN(RADIANS(ABS(Z15))))","v":2.0786260202157396},{"$f":"IF(AB15=0,IF(OBSERVATIONS!$AY$35=\"N\",-AC15,AC15),IF(OBSERVATIONS!$AY$35=\"N\",AC15,-AC15))","v":2.0786260202157396},2.016193441892125,4.0948194621078642,{"$f":"ABS(DEGREES(ATAN(1/(COS(RADIANS(ABS(OBSERVATIONS!$AO$12)))*AF15))))","v":23.362584468637532},336.63741553136248,{"$f":"AA15-OBSERVATIONS!$AO$12","v":-6.3779065182430443},{"$f":"DEGREES(ASIN(SIN(RADIANS(OBSERVATIONS!$AO$12))*SIN(RADIANS(AA15))+COS(RADIANS(OBSERVATIONS!$AO$12))*COS(RADIANS(AA15))*COS(RADIANS(Y15))))","v":18.782349956068494},18.782349956068494,"Alkaid",336.63741553136248,18.782349956068494]
[null,"Altair",{"$f":"(19+50/60+45/3600)","v":19.845833333333331},{"$f":"8+52.1/60","v":8.8683333333333341},{"$f":"MOD(360-(C16+((3.075+1.336*SIN(RADIANS(C16))*TAN(RADIANS(D16)))*(OBSERVATIONS!$U$35-36526)/365)/3600)*15,360)","v":62.001981029677722},{"$f":"D16+(20.04*COS(RADIANS(C16*15))*(OBSERVATIONS!$U$35-36526)/365)/3600","v":8.9296096564919125},{"$f":"-17.3*SIN(RADIANS(125-0.05295*(OBSERVATIONS!$U$35-2451545)))-1.4*SIN(RADIANS(200+1.97129*(OBSERVATIONS!$U$35-2451545)))","v":-15.507213434549312},{"$f":"9.4*COS(RADIANS(125-0.05295*(OBSERVATIONS!$U$35-2451545)))+0.7*COS(RADIANS(200+1.97129*(OBSERVATIONS!$U$35-2451545)))","v":-2.1041300782981658},62.00103637147231,8.9286150331909848,null,null,null,null,"Al Na'ir",0,null,null,null,null,null,null,null,null,{"$f":"MOD(V$4+OBSERVATIONS!$AO$13+I11,360)","v":19.856196611335861},19.856196611335861,-46.850244220863736,0,{"$f":"ABS(TAN(RADIANS(ABS(OBSERVATIONS!$AO$12)))/TAN(RADIANS(ABS(Z16))))","v":4.040107533329758},{"$f":"IF(AB16=0,IF(OBSERVATIONS!$AY$35=\"N\",-AC16,AC16),IF(OBSERVATIONS!$AY$35=\"N\",AC16,-AC16))","v":-4.040107533329758},-3.1406792115925999,-7.1807867449223579,{"$f":"ABS(DEGREES(ATAN(1/(COS(RADIANS(ABS(OBSERVATIONS!$AO$12)))*AF16))))","v":13.837937800489881},193.83793780048987,{"$f":"AA16-OBSERVATIONS!$AO$12","v":-102.42357755419707},{"$f":"DEGREES(ASIN(SIN(RADIANS(OBSERVATIONS!$AO$12))*SIN(RADIANS(AA16))+COS(RADIANS(OBSERVATIONS!$AO$12))*COS(RADIANS(AA16))*COS(RADIANS(Y16))))","v":-13.775853867696313},-13.775853867696313,"Al Na'ir",193.83793780048987,-13.775853867696313]
[null,"Ankaa",{"$f":"(0+26/60+16/3600)","v":0.43777777777777777},{"$f":"-42-18.7/60","v":-42.311666666666667},{"$f":"MOD(360-(C17+((3.075+1.336*SIN(RADIANS(C17))*TAN(RADIANS(D17)))*(OBSERVATIONS!$U$35-36526)/365)/3600)*15,360)","v":353.13071717723329},{"$f":"D17+(20.04*COS(RADIANS(C17*15))*(OBSERVATIONS!$U$35-36526)/365)/3600","v":-42.180655226822203},{"$f":"-17.3*SIN(RADIANS(125-0.05295*(OBSERVATIONS!$U$35-2451545)))-1.4*SIN(RADIANS(200+1.97129*(OBSERVATIONS!$U$35-2451545)))","v":-15.507213434549312},{"$f":"9.4*COS(RADIANS(125-0.05295*(OBSERVATIONS!$U$35-2451545)))+0.7*COS(RADIANS(200+1.97129*(OBSERVATIONS!$U$35-2451545)))","v":-2.1041300782981658},353.13062192462206,-42.182361997897488,null,null,null,null,"Alnilam",0,null,null,null,null,null,null,null,null,{"$f":"MOD(V$4+OBSERVATIONS!$AO$13+I12,360)","v":267.79564254717911},92.204357452820886,-1.1815737122728249,1,{"$f":"ABS(TAN(RADIANS(ABS(OBSERVATIONS!$AO$12)))/TAN(RADIANS(ABS(Z17))))","v":5.6160481625750332E-2},{"$f":"IF(AB17=0,IF(OBSERVATIONS!$AY$35=\"N\",-AC17,AC17),IF(OBSERVATIONS!$AY$35=\"N\",AC17,-AC17))","v":5.6160481625750332E-2},-2.0640549695154563E-2,3.5519931930595772E-2,{"$f":"ABS(DEGREES(ATAN(1/(COS(RADIANS(ABS(OBSERVATIONS!$AO$12)))*AF17))))","v":88.849585015445555},88.849585015445555,{"$f":"AA17-OBSERVATIONS!$AO$12","v":-56.754907045606153},{"$f":"DEGREES(ASIN(SIN(RADIANS(OBSERVATIONS!$AO$12))*SIN(RADIANS(AA17))+COS(RADIANS(OBSERVATIONS!$AO$12))*COS(RADIANS(AA17))*COS(RADIANS(Y17))))","v":-2.2207718223862924},-2.2207718223862924,"Alnilam",88.849585015445555,-2.2207718223862924]
[null,"Antares",{"$f":"(16+29/60+22/3600)","v":16.489444444444445},{"$f":"-26-25.7/60","v":-26.428333333333335},{"$f":"MOD(360-(C18+((3.075+1.336*SIN(RADIANS(C18))*TAN(RADIANS(D18)))*(OBSERVATIONS!$U$35-36526)/365)/3600)*15,360)","v":112.37340427164352},{"$f":"D18+(20.04*COS(RADIANS(C18*15))*(OBSERVATIONS!$U$35-36526)/365)/3600","v":-26.47913683024532},{"$f":"-17.3*SIN(RADIANS(125-0.05295*(OBSERVATIONS!$U$35-2451545)))-1.4*SIN(RADIANS(200+1.97129*(OBSERVATIONS!$U$35-2451545)))","v":-15.507213434549312},{"$f":"9.4*COS(RADIANS(125-0.05295*(OBSERVATIONS!$U$35-2451545)))+0.7*COS(RADIANS(200+1.97129*(OBSERVATIONS!$U$35-2451545)))","v":-2.1041300782981658},112.3752092194069,-26.478642610051264,null,null,null,null,"Alphard",0,null,null,null,null,null,null,null,null,{"$f":"MOD(V$4+OBSERVATIONS!$AO$13+I13,360)","v":209.95349112679651},150.04650887320349,-8.7608592794153068,1,{"$f":"ABS(TAN(RADIANS(ABS(OBSERVATIONS!$AO$12)))/TAN(RADIANS(ABS(Z18))))","v":2.5318165080812567},{"$f":"IF(AB18=0,IF(OBSERVATIONS!$AY$35=\"N\",-AC18,AC18),IF(OBSERVATIONS!$AY$35=\"N\",AC18,-AC18))","v":2.5318165080812567},-0.30865154786303406,2.2231649602182229,{"$f":"ABS(DEGREES(ATAN(1/(COS(RADIANS(ABS(OBSERVATIONS!$AO$12)))*AF18))))","v":38.50674726622124},38.50674726622124,{"$f":"AA18-OBSERVATIONS!$AO$12","v":-64.334192612748637},{"$f":"DEGREES(ASIN(SIN(RADIANS(OBSERVATIONS!$AO$12))*SIN(RADIANS(AA18))+COS(RADIANS(OBSERVATIONS!$AO$12))*COS(RADIANS(AA18))*COS(RADIANS(Y18))))","v":-37.571866008263733},-37.571866008263733,"Alphard",38.50674726622124,-37.571866008263733]
[null,"Arcturus",{"$f":"(14+15/60+39/3600)","v":14.260833333333334},{"$f":"19+11.2/60","v":19.186666666666667},{"$f":"MOD(360-(C19+((3.075+1.336*SIN(RADIANS(C19))*TAN(RADIANS(D19)))*(OBSERVATIONS!$U$35-36526)/365)/3600)*15,360)","v":145.77266225239637},{"$f":"D19+(20.04*COS(RADIANS(C19*15))*(OBSERVATIONS!$U$35-36526)/365)/3600","v":19.077223500614018},{"$f":"-17.3*SIN(RADIANS(125-0.05295*(OBSERVATIONS!$U$35-2451545)))-1.4*SIN(RADIANS(200+1.97129*(OBSERVATIONS!$U$35-2451545)))","v":-15.507213434549312},{"$f":"9.4*COS(RADIANS(125-0.05295*(OBSERVATIONS!$U$35-2451545)))+0.7*COS(RADIANS(200+1.97129*(OBSERVATIONS!$U$35-2451545)))","v":-2.1041300782981658},145.77109760922431,19.078501578277187,null,null,null,null,"Alphecca",0,null,null,null,null,null,null,null,null,{"$f":"MOD(V$4+OBSERVATIONS!$AO$13+I14,360)","v":118.16747335391312},118.16747335391312,26.637716145760272,1,{"$f":"ABS(TAN(RADIANS(ABS(OBSERVATIONS!$AO$12)))/TAN(RADIANS(ABS(Z19))))","v":0.78124607840678506},{"$f":"IF(AB19=0,IF(OBSERVATIONS!$AY$35=\"N\",-AC19,AC19),IF(OBSERVATIONS!$AY$35=\"N\",AC19,-AC19))","v":0.78124607840678506},0.56896833367896604,1.3502144120857511,{"$f":"ABS(DEGREES(ATAN(1/(COS(RADIANS(ABS(OBSERVATIONS!$AO$12)))*AF19))))","v":52.643875998272406},307.35612400172761,{"$f":"AA19-OBSERVATIONS!$AO$12","v":-28.935617187573058},{"$f":"DEGREES(ASIN(SIN(RADIANS(OBSERVATIONS!$AO$12))*SIN(RADIANS(AA19))+COS(RADIANS(OBSERVATIONS!$AO$12))*COS(RADIANS(AA19))*COS(RADIANS(Y19))))","v":7.5430901261690977},7.5430901261690977,"Alphecca",307.35612400172761,7.5430901261690977]
[null,"Atria",{"$f":"(16+48/60+35/3600)","v":16.809722222222224},{"$f":"-69-1.4/60","v":-69.023333333333326},{"$f":"MOD(360-(C20+((3.075+1.336*SIN(RADIANS(C20))*TAN(RADIANS(D20)))*(OBSERVATIONS!$U$35-36526)/365)/3600)*15,360)","v":107.65010711887311},{"$f":"D20+(20.04*COS(RADIANS(C20*15))*(OBSERVATIONS!$U$35-36526)/365)/3600","v":-69.063766085337065},{"$f":"-17.3*SIN(RADIANS(125-0.05295*(OBSERVATIONS!$U$35-2451545)))-1.4*SIN(RADIANS(200+1.97129*(OBSERVATIONS!$U$35-2451545)))","v":-15.507213434549312},{"$f":"9.4*COS(RADIANS(125-0.05295*(OBSERVATIONS!$U$35-2451545)))+0.7*COS(RADIANS(200+1.97129*(OBSERVATIONS!$U$35-2451545)))","v":-2.1041300782981658},107.64931169706171,-69.06340974827053,null,null,null,null,"Alpheratz",0,null,null,null,null,null,null,null,null,{"$f":"MOD(V$4+OBSERVATIONS!$AO$13+I15,360)","v":349.75793437198263},10.242065628017372,29.22174159211249,0,{"$f":"ABS(TAN(RADIANS(ABS(OBSERVATIONS!$AO$12)))/TAN(RADIANS(ABS(Z20))))","v":8.0747947522577252},{"$f":"IF(AB20=0,IF(OBSERVATIONS!$AY$35=\"N\",-AC20,AC20),IF(OBSERVATIONS!$AY$35=\"N\",AC20,-AC20))","v":-8.0747947522577252},3.1459860601342307,-4.9288086921234946,{"$f":"ABS(DEGREES(ATAN(1/(COS(RADIANS(ABS(OBSERVATIONS!$AO$12)))*AF20))))","v":19.741654746439508},160.25834525356049,{"$f":"AA20-OBSERVATIONS!$AO$12","v":-26.35159174122084},{"$f":"DEGREES(ASIN(SIN(RADIANS(OBSERVATIONS!$AO$12))*SIN(RADIANS(AA20))+COS(RADIANS(OBSERVATIONS!$AO$12))*COS(RADIANS(AA20))*COS(RADIANS(Y20))))","v":62.651028891195381},62.651028891195381,"Alpheratz",160.25834525356049,62.651028891195381]
[null,"Avior",{"$f":"(8+22/60+33/3600)","v":8.3758333333333344},{"$f":"-59-30.5/60","v":-59.508333333333333},{"$f":"MOD(360-(C21+((3.075+1.336*SIN(RADIANS(C21))*TAN(RADIANS(D21)))*(OBSERVATIONS!$U$35-36526)/365)/3600)*15,360)","v":234.09158940965347},{"$f":"D21+(20.04*COS(RADIANS(C21*15))*(OBSERVATIONS!$U$35-36526)/365)/3600","v":-59.585171908403119},{"$f":"-17.3*SIN(RADIANS(125-0.05295*(OBSERVATIONS!$U$35-2451545)))-1.4*SIN(RADIANS(200+1.97129*(OBSERVATIONS!$U$35-2451545)))","v":-15.507213434549312},{"$f":"9.4*COS(RADIANS(125-0.05295*(OBSERVATIONS!$U$35-2451545)))+0.7*COS(RADIANS(200+1.97129*(OBSERVATIONS!$U$35-2451545)))","v":-2.1041300782981658},234.09148029985153,-59.584258640397749,null,null,null,null,"Altair",0,null,null,null,null,null,null,null,null,{"$f":"MOD(V$4+OBSERVATIONS!$AO$13+I16,360)","v":54.153804334260485},54.153804334260485,8.9286150331909848,0,{"$f":"ABS(TAN(RADIANS(ABS(OBSERVATIONS!$AO$12)))/TAN(RADIANS(ABS(Z21))))","v":1.054057604140505},{"$f":"IF(AB21=0,IF(OBSERVATIONS!$AY$35=\"N\",-AC21,AC21),IF(OBSERVATIONS!$AY$35=\"N\",AC21,-AC21))","v":-1.054057604140505},0.19381828277484589,-0.86023932136565906,{"$f":"ABS(DEGREES(ATAN(1/(COS(RADIANS(ABS(OBSERVATIONS!$AO$12)))*AF21))))","v":64.064624590993674},244.06462459099367,{"$f":"AA21-OBSERVATIONS!$AO$12","v":-46.644718300142344},{"$f":"DEGREES(ASIN(SIN(RADIANS(OBSERVATIONS!$AO$12))*SIN(RADIANS(AA21))+COS(RADIANS(OBSERVATIONS!$AO$12))*COS(RADIANS(AA21))*COS(RADIANS(Y21))))","v":27.070343611495765},27.070343611495765,"Altair",244.06462459099367,27.070343611495765]
[null,"Bellatrix",{"$f":"(5+25/60+8/3600)","v":5.4188888888888895},{"$f":"6+20.9/60","v":6.3483333333333336},{"$f":"MOD(360-(C22+((3.075+1.336*SIN(RADIANS(C22))*TAN(RADIANS(D22)))*(OBSERVATIONS!$U$35-36526)/365)/3600)*15,360)","v":278.41174771037424},{"$f":"D22+(20.04*COS(RADIANS(C22*15))*(OBSERVATIONS!$U$35-36526)/365)/3600","v":6.3683190183173988},{"$f":"-17.3*SIN(RADIANS(125-0.05295*(OBSERVATIONS!$U$35-2451545)))-1.4*SIN(RADIANS(200+1.97129*(OBSERVATIONS!$U$35-2451545)))","v":-15.507213434549312},{"$f":"9.4*COS(RADIANS(125-0.05295*(OBSERVATIONS!$U$35-2451545)))+0.7*COS(RADIANS(200+1.97129*(OBSERVATIONS!$U$35-2451545)))","v":-2.1041300782981658},278.41174309305694,6.3680041367646298,null,null,null,null,"Ankaa",0,null,null,null,null,null,null,null,null,{"$f":"MOD(V$4+OBSERVATIONS!$AO$13+I17,360)","v":345.28338988741029},14.716610112589706,-42.182361997897488,0,{"$f":"ABS(TAN(RADIANS(ABS(OBSERVATIONS!$AO$12)))/TAN(RADIANS(ABS(Z22))))","v":5.5548388652342666},{"$f":"IF(AB22=0,IF(OBSERVATIONS!$AY$35=\"N\",-AC22,AC22),IF(OBSERVATIONS!$AY$35=\"N\",AC22,-AC22))","v":-5.5548388652342666},-3.5671144011637335,-9.1219532663980001,{"$f":"ABS(DEGREES(ATAN(1/(COS(RADIANS(ABS(OBSERVATIONS!$AO$12)))*AF22))))","v":10.973879474100174},169.02612052589981,{"$f":"AA22-OBSERVATIONS!$AO$12","v":-97.755695331230811},{"$f":"DEGREES(ASIN(SIN(RADIANS(OBSERVATIONS!$AO$12))*SIN(RADIANS(AA22))+COS(RADIANS(OBSERVATIONS!$AO$12))*COS(RADIANS(AA22))*COS(RADIANS(Y22))))","v":-8.5511816492062795},-8.5511816492062795,"Ankaa",169.02612052589981,-8.5511816492062795]
[null,"Betelgeuse",{"$f":"(5+55/60+11/3600)","v":5.9197222222222221},{"$f":"7+24.3/60","v":7.4050000000000002},{"$f":"MOD(360-(C23+((3.075+1.336*SIN(RADIANS(C23))*TAN(RADIANS(D23)))*(OBSERVATIONS!$U$35-36526)/365)/3600)*15,360)","v":270.89886559672846},{"$f":"D23+(20.04*COS(RADIANS(C23*15))*(OBSERVATIONS!$U$35-36526)/365)/3600","v":7.4077714037977573},{"$f":"-17.3*SIN(RADIANS(125-0.05295*(OBSERVATIONS!$U$35-2451545)))-1.4*SIN(RADIANS(200+1.97129*(OBSERVATIONS!$U$35-2451545)))","v":-15.507213434549312},{"$f":"9.4*COS(RADIANS(125-0.05295*(OBSERVATIONS!$U$35-2451545)))+0.7*COS(RADIANS(200+1.97129*(OBSERVATIONS!$U$35-2451545)))","v":-2.1041300782981658},270.89877924264243,7.4076751130294713,null,null,null,null,"Antares",0,null,null,null,null,null,null,null,null,{"$f":"MOD(V$4+OBSERVATIONS!$AO$13+I18,360)","v":104.52797718219506},104.52797718219506,-26.478642610051264,1,{"$f":"ABS(TAN(RADIANS(ABS(OBSERVATIONS!$AO$12)))/TAN(RADIANS(ABS(Z23))))","v":0.37808477973072357},{"$f":"IF(AB23=0,IF(OBSERVATIONS!$AY$35=\"N\",-AC23,AC23),IF(OBSERVATIONS!$AY$35=\"N\",AC23,-AC23))","v":0.37808477973072357},-0.51456949941812302,-0.13648471968739945,{"$f":"ABS(DEGREES(ATAN(1/(COS(RADIANS(ABS(OBSERVATIONS!$AO$12)))*AF23))))","v":85.587699330790514},265.58769933079054,{"$f":"AA23-OBSERVATIONS!$AO$12","v":-82.051975943384591},{"$f":"DEGREES(ASIN(SIN(RADIANS(OBSERVATIONS!$AO$12))*SIN(RADIANS(AA23))+COS(RADIANS(OBSERVATIONS!$AO$12))*COS(RADIANS(AA23))*COS(RADIANS(Y23))))","v":-29.650912451506301},-29.650912451506301,"Antares",265.58769933079054,-29.650912451506301]
[null,"Canopus",{"$f":"(6+23/60+59/3600)","v":6.3997222222222225},{"$f":"-52-41.9/60","v":-52.698333333333331},{"$f":"MOD(360-(C24+((3.075+1.336*SIN(RADIANS(C24))*TAN(RADIANS(D24)))*(OBSERVATIONS!$U$35-36526)/365)/3600)*15,360)","v":263.71992797793462},{"$f":"D24+(20.04*COS(RADIANS(C24*15))*(OBSERVATIONS!$U$35-36526)/365)/3600","v":-52.712108656029791},{"$f":"-17.3*SIN(RADIANS(125-0.05295*(OBSERVATIONS!$U$35-2451545)))-1.4*SIN(RADIANS(200+1.97129*(OBSERVATIONS!$U$35-2451545)))","v":-15.507213434549312},{"$f":"9.4*COS(RADIANS(125-0.05295*(OBSERVATIONS!$U$35-2451545)))+0.7*COS(RADIANS(200+1.97129*(OBSERVATIONS!$U$35-2451545)))","v":-2.1041300782981658},263.72164917905468,-52.711994814126669,null,null,null,null,"Arcturus",0,null,null,null,null,null,null,null,null,{"$f":"MOD(V$4+OBSERVATIONS!$AO$13+I19,360)","v":137.92386557201246},137.92386557201246,19.078501578277187,1,{"$f":"ABS(TAN(RADIANS(ABS(OBSERVATIONS!$AO$12)))/TAN(RADIANS(ABS(Z24))))","v":1.616066657795689},{"$f":"IF(AB24=0,IF(OBSERVATIONS!$AY$35=\"N\",-AC24,AC24),IF(OBSERVATIONS!$AY$35=\"N\",AC24,-AC24))","v":1.616066657795689},0.51611976886344302,2.1321864266591319,{"$f":"ABS(DEGREES(ATAN(1/(COS(RADIANS(ABS(OBSERVATIONS!$AO$12)))*AF24))))","v":39.678318841908741},320.32168115809128,{"$f":"AA24-OBSERVATIONS!$AO$12","v":-36.49483175505614},{"$f":"DEGREES(ASIN(SIN(RADIANS(OBSERVATIONS!$AO$12))*SIN(RADIANS(AA24))+COS(RADIANS(OBSERVATIONS!$AO$12))*COS(RADIANS(AA24))*COS(RADIANS(Y24))))","v":-7.2946157936569822},-7.2946157936569822,"Arcturus",320.32168115809128,-7.2946157936569822]
[null,"Capella",{"$f":"(5+16/60+42/3600)","v":5.2783333333333333},{"$f":"45+59.9/60","v":45.998333333333335},{"$f":"MOD(360-(C25+((3.075+1.336*SIN(RADIANS(C25))*TAN(RADIANS(D25)))*(OBSERVATIONS!$U$35-36526)/365)/3600)*15,360)","v":280.50890442844417},{"$f":"D25+(20.04*COS(RADIANS(C25*15))*(OBSERVATIONS!$U$35-36526)/365)/3600","v":46.023101068389671},{"$f":"-17.3*SIN(RADIANS(125-0.05295*(OBSERVATIONS!$U$35-2451545)))-1.4*SIN(RADIANS(200+1.97129*(OBSERVATIONS!$U$35-2451545)))","v":-15.507213434549312},{"$f":"9.4*COS(RADIANS(125-0.05295*(OBSERVATIONS!$U$35-2451545)))+0.7*COS(RADIANS(200+1.97129*(OBSERVATIONS!$U$35-2451545)))","v":-2.1041300782981658},280.50757615283692,46.022725478551088,null,null,null,null,"Atria",0,null,null,null,null,null,null,null,null,{"$f":"MOD(V$4+OBSERVATIONS!$AO$13+I20,360)","v":99.80207965984988},99.80207965984988,-69.06340974827053,1,{"$f":"ABS(TAN(RADIANS(ABS(OBSERVATIONS!$AO$12)))/TAN(RADIANS(ABS(Z25))))","v":0.25206863592900158},{"$f":"IF(AB25=0,IF(OBSERVATIONS!$AY$35=\"N\",-AC25,AC25),IF(OBSERVATIONS!$AY$35=\"N\",AC25,-AC25))","v":0.25206863592900158},-2.6524526077159201,-2.4003839717869186,{"$f":"ABS(DEGREES(ATAN(1/(COS(RADIANS(ABS(OBSERVATIONS!$AO$12)))*AF25))))","v":36.386034491069182},216.38603449106918,{"$f":"AA25-OBSERVATIONS!$AO$12","v":-124.63674308160387},{"$f":"DEGREES(ASIN(SIN(RADIANS(OBSERVATIONS!$AO$12))*SIN(RADIANS(AA25))+COS(RADIANS(OBSERVATIONS!$AO$12))*COS(RADIANS(AA25))*COS(RADIANS(Y25))))","v":-53.589377699139085},-53.589377699139085,"Atria",216.38603449106918,-53.589377699139085]
[null,"Deneb",{"$f":"(20+41/60+24/3600)","v":20.69},{"$f":"45+16.9/60","v":45.281666666666666},{"$f":"MOD(360-(C26+((3.075+1.336*SIN(RADIANS(C26))*TAN(RADIANS(D26)))*(OBSERVATIONS!$U$35-36526)/365)/3600)*15,360)","v":49.299412697662035},{"$f":"D26+(20.04*COS(RADIANS(C26*15))*(OBSERVATIONS!$U$35-36526)/365)/3600","v":45.367050855768625},{"$f":"-17.3*SIN(RADIANS(125-0.05295*(OBSERVATIONS!$U$35-2451545)))-1.4*SIN(RADIANS(200+1.97129*(OBSERVATIONS!$U$35-2451545)))","v":-15.507213434549312},{"$f":"9.4*COS(RADIANS(125-0.05295*(OBSERVATIONS!$U$35-2451545)))+0.7*COS(RADIANS(200+1.97129*(OBSERVATIONS!$U$35-2451545)))","v":-2.1041300782981658},49.301294404263842,45.365734907240316,null,null,null,null,"Avior",0,null,null,null,null,null,null,null,null,{"$f":"MOD(V$4+OBSERVATIONS!$AO$13+I21,360)","v":226.24424826263976},133.75575173736024,-59.584258640397749,1,{"$f":"ABS(TAN(RADIANS(ABS(OBSERVATIONS!$AO$12)))/TAN(RADIANS(ABS(Z26))))","v":1.3969751220677669},{"$f":"IF(AB26=0,IF(OBSERVATIONS!$AY$35=\"N\",-AC26,AC26),IF(OBSERVATIONS!$AY$35=\"N\",AC26,-AC26))","v":1.3969751220677669},-2.3582987821668739,-0.96132366009910708,{"$f":"ABS(DEGREES(ATAN(1/(COS(RADIANS(ABS(OBSERVATIONS!$AO$12)))*AF26))))","v":61.476571756829792},118.5234282431702,{"$f":"AA26-OBSERVATIONS!$AO$12","v":-115.15759197373109},{"$f":"DEGREES(ASIN(SIN(RADIANS(OBSERVATIONS!$AO$12))*SIN(RADIANS(AA26))+COS(RADIANS(OBSERVATIONS!$AO$12))*COS(RADIANS(AA26))*COS(RADIANS(Y26))))","v":-65.405512518216767},-65.405512518216767,"Avior",118.5234282431702,-65.405512518216767]
[null,"Denebola",{"$f":"(11+49/60+3/3600)","v":11.817499999999999},{"$f":"14+34.3/60","v":14.571666666666667},{"$f":"MOD(360-(C27+((3.075+1.336*SIN(RADIANS(C27))*TAN(RADIANS(D27)))*(OBSERVATIONS!$U$35-36526)/365)/3600)*15,360)","v":182.42694589702174},{"$f":"D27+(20.04*COS(RADIANS(C27*15))*(OBSERVATIONS!$U$35-36526)/365)/3600","v":14.439940539316515},{"$f":"-17.3*SIN(RADIANS(125-0.05295*(OBSERVATIONS!$U$35-2451545)))-1.4*SIN(RADIANS(200+1.97129*(OBSERVATIONS!$U$35-2451545)))","v":-15.507213434549312},{"$f":"9.4*COS(RADIANS(125-0.05295*(OBSERVATIONS!$U$35-2451545)))+0.7*COS(RADIANS(200+1.97129*(OBSERVATIONS!$U$35-2451545)))","v":-2.1041300782981658},182.42581471445044,14.441532432240654,null,null,null,null,"Bellatrix",0,null,null,null,null,null,null,null,null,{"$f":"MOD(V$4+OBSERVATIONS!$AO$13+I22,360)","v":270.56451105584506},89.43548894415494,6.3680041367646298,0,{"$f":"ABS(TAN(RADIANS(ABS(OBSERVATIONS!$AO$12)))/TAN(RADIANS(ABS(Z27))))","v":1.4375433651525634E-2},{"$f":"IF(AB27=0,IF(OBSERVATIONS!$AY$35=\"N\",-AC27,AC27),IF(OBSERVATIONS!$AY$35=\"N\",AC27,-AC27))","v":-1.4375433651525634E-2},0.111607965292053,9.7232531640527364E-2,{"$f":"ABS(DEGREES(ATAN(1/(COS(RADIANS(ABS(OBSERVATIONS!$AO$12)))*AF27))))","v":86.853588697916194},86.853588697916194,{"$f":"AA27-OBSERVATIONS!$AO$12","v":-49.205329196568698},{"$f":"DEGREES(ASIN(SIN(RADIANS(OBSERVATIONS!$AO$12))*SIN(RADIANS(AA27))+COS(RADIANS(OBSERVATIONS!$AO$12))*COS(RADIANS(AA27))*COS(RADIANS(Y27))))","v":5.5677751537890847},5.5677751537890847,"Bellatrix",86.853588697916194,5.5677751537890847]
[null,"Diphda",{"$f":"(0+43/60+34/3600)","v":0.72611111111111115},{"$f":"-17-59.4/60","v":-17.989999999999998},{"$f":"MOD(360-(C28+((3.075+1.336*SIN(RADIANS(C28))*TAN(RADIANS(D28)))*(OBSERVATIONS!$U$35-36526)/365)/3600)*15,360)","v":348.80534263652197},{"$f":"D28+(20.04*COS(RADIANS(C28*15))*(OBSERVATIONS!$U$35-36526)/365)/3600","v":-17.860498977394684},{"$f":"-17.3*SIN(RADIANS(125-0.05295*(OBSERVATIONS!$U$35-2451545)))-1.4*SIN(RADIANS(200+1.97129*(OBSERVATIONS!$U$35-2451545)))","v":-15.507213434549312},{"$f":"9.4*COS(RADIANS(125-0.05295*(OBSERVATIONS!$U$35-2451545)))+0.7*COS(RADIANS(200+1.97129*(OBSERVATIONS!$U$35-2451545)))","v":-2.1041300782981658},348.80551682862477,-17.862189063934917,null,null,null,null,"Betelgeuse",0,null,null,null,null,null,null,null,null,{"$f":"MOD(V$4+OBSERVATIONS!$AO$13+I23,360)","v":263.05154720543055},96.948452794569448,7.4076751130294713,1,{"$f":"ABS(TAN(RADIANS(ABS(OBSERVATIONS!$AO$12)))/TAN(RADIANS(ABS(Z28))))","v":0.17781114870779849},{"$f":"IF(AB28=0,IF(OBSERVATIONS!$AY$35=\"N\",-AC28,AC28),IF(OBSERVATIONS!$AY$35=\"N\",AC28,-AC28))","v":0.17781114870779849},0.13097550541817099,0.30878665412596951,{"$f":"ABS(DEGREES(ATAN(1/(COS(RADIANS(ABS(OBSERVATIONS!$AO$12)))*AF28))))","v":80.0975037742853},80.0975037742853,{"$f":"AA28-OBSERVATIONS!$AO$12","v":-48.165658220303861},{"$f":"DEGREES(ASIN(SIN(RADIANS(OBSERVATIONS!$AO$12))*SIN(RADIANS(AA28))+COS(RADIANS(OBSERVATIONS!$AO$12))*COS(RADIANS(AA28))*COS(RADIANS(Y28))))","v":2.2077755316511092},2.2077755316511092,"Betelgeuse",80.0975037742853,2.2077755316511092]
[null,"Dubhe",{"$f":"(11+3/60+43/3600)","v":11.061944444444444},{"$f":"61+44.8/60","v":61.74666666666667},{"$f":"MOD(360-(C29+((3.075+1.336*SIN(RADIANS(C29))*TAN(RADIANS(D29)))*(OBSERVATIONS!$U$35-36526)/365)/3600)*15,360)","v":193.72021499076325},{"$f":"D29+(20.04*COS(RADIANS(C29*15))*(OBSERVATIONS!$U$35-36526)/365)/3600","v":61.618746884603944},{"$f":"-17.3*SIN(RADIANS(125-0.05295*(OBSERVATIONS!$U$35-2451545)))-1.4*SIN(RADIANS(200+1.97129*(OBSERVATIONS!$U$35-2451545)))","v":-15.507213434549312},{"$f":"9.4*COS(RADIANS(125-0.05295*(OBSERVATIONS!$U$35-2451545)))+0.7*COS(RADIANS(200+1.97129*(OBSERVATIONS!$U$35-2451545)))","v":-2.1041300782981658},193.72075093255054,61.620296873876576,null,null,null,null,"Canopus",0,null,null,null,null,null,null,null,null,{"$f":"MOD(V$4+OBSERVATIONS!$AO$13+I24,360)","v":255.87441714184286},104.12558285815714,-52.711994814126669,1,{"$f":"ABS(TAN(RADIANS(ABS(OBSERVATIONS!$AO$12)))/TAN(RADIANS(ABS(Z29))))","v":0.36716961339223098},{"$f":"IF(AB29=0,IF(OBSERVATIONS!$AY$35=\"N\",-AC29,AC29),IF(OBSERVATIONS!$AY$35=\"N\",AC29,-AC29))","v":0.36716961339223098},-1.3542047774929753,-0.98703516410074432,{"$f":"ABS(DEGREES(ATAN(1/(COS(RADIANS(ABS(OBSERVATIONS!$AO$12)))*AF29))))","v":60.83755281214205},119.16244718785795,{"$f":"AA29-OBSERVATIONS!$AO$12","v":-108.28532814746001},{"$f":"DEGREES(ASIN(SIN(RADIANS(OBSERVATIONS!$AO$12))*SIN(RADIANS(AA29))+COS(RADIANS(OBSERVATIONS!$AO$12))*COS(RADIANS(AA29))*COS(RADIANS(Y29))))","v":-47.71763719395819},-47.71763719395819,"Canopus",119.16244718785795,-47.71763719395819]
[null,"Elnath",{"$f":"(5+26/60+18/3600)","v":5.4383333333333335},{"$f":"28+36.4/60","v":28.606666666666666},{"$f":"MOD(360-(C30+((3.075+1.336*SIN(RADIANS(C30))*TAN(RADIANS(D30)))*(OBSERVATIONS!$U$35-36526)/365)/3600)*15,360)","v":278.1146503068764},{"$f":"D30+(20.04*COS(RADIANS(C30*15))*(OBSERVATIONS!$U$35-36526)/365)/3600","v":28.625988525763223},{"$f":"-17.3*SIN(RADIANS(125-0.05295*(OBSERVATIONS!$U$35-2451545)))-1.4*SIN(RADIANS(200+1.97129*(OBSERVATIONS!$U$35-2451545)))","v":-15.507213434549312},{"$f":"9.4*COS(RADIANS(125-0.05295*(OBSERVATIONS!$U$35-2451545)))+0.7*COS(RADIANS(200+1.97129*(OBSERVATIONS!$U$35-2451545)))","v":-2.1041300782981658},278.11375107603959,28.625682072208175,null,null,null,null,"Capella",0,null,null,null,null,null,null,null,null,{"$f":"MOD(V$4+OBSERVATIONS!$AO$13+I25,360)","v":272.66034411562509},87.339655884374906,46.022725478551088,0,{"$f":"ABS(TAN(RADIANS(ABS(OBSERVATIONS!$AO$12)))/TAN(RADIANS(ABS(Z30))))","v":6.7792948448577028E-2},{"$f":"IF(AB30=0,IF(OBSERVATIONS!$AY$35=\"N\",-AC30,AC30),IF(OBSERVATIONS!$AY$35=\"N\",AC30,-AC30))","v":-6.7792948448577028E-2},1.0374707514344494,0.96967780298587236,{"$f":"ABS(DEGREES(ATAN(1/(COS(RADIANS(ABS(OBSERVATIONS!$AO$12)))*AF30))))","v":61.268081822403339},61.268081822403339,{"$f":"AA30-OBSERVATIONS!$AO$12","v":-9.5506078547822426},{"$f":"DEGREES(ASIN(SIN(RADIANS(OBSERVATIONS!$AO$12))*SIN(RADIANS(AA30))+COS(RADIANS(OBSERVATIONS!$AO$12))*COS(RADIANS(AA30))*COS(RADIANS(Y30))))","v":37.719471655334367},37.719471655334367,"Capella",61.268081822403339,37.719471655334367]
[null,"Eltanin",{"$f":"(17+56/60+34/3600)","v":17.942777777777778},{"$f":"51+29.3/60","v":51.488333333333337},{"$f":"MOD(360-(C31+((3.075+1.336*SIN(RADIANS(C31))*TAN(RADIANS(D31)))*(OBSERVATIONS!$U$35-36526)/365)/3600)*15,360)","v":90.503746352148255},{"$f":"D31+(20.04*COS(RADIANS(C31*15))*(OBSERVATIONS!$U$35-36526)/365)/3600","v":51.48635779749425},{"$f":"-17.3*SIN(RADIANS(125-0.05295*(OBSERVATIONS!$U$35-2451545)))-1.4*SIN(RADIANS(200+1.97129*(OBSERVATIONS!$U$35-2451545)))","v":-15.507213434549312},{"$f":"9.4*COS(RADIANS(125-0.05295*(OBSERVATIONS!$U$35-2451545)))+0.7*COS(RADIANS(200+1.97129*(OBSERVATIONS!$U$35-2451545)))","v":-2.1041300782981658},90.504626120661953,51.486203407561291,null,null,null,null,"Deneb",0,null,null,null,null,null,null,null,null,{"$f":"MOD(V$4+OBSERVATIONS!$AO$13+I26,360)","v":41.454062367052018},41.454062367052018,45.365734907240316,0,{"$f":"ABS(TAN(RADIANS(ABS(OBSERVATIONS!$AO$12)))/TAN(RADIANS(ABS(Z31))))","v":1.6517729675205131},{"$f":"IF(AB31=0,IF(OBSERVATIONS!$AY$35=\"N\",-AC31,AC31),IF(OBSERVATIONS!$AY$35=\"N\",AC31,-AC31))","v":-1.6517729675205131},1.5299382831308894,-0.12183468438962364,{"$f":"ABS(DEGREES(ATAN(1/(COS(RADIANS(ABS(OBSERVATIONS!$AO$12)))*AF31))))","v":86.059727067138056},266.05972706713806,{"$f":"AA31-OBSERVATIONS!$AO$12","v":-10.207598426093014},{"$f":"DEGREES(ASIN(SIN(RADIANS(OBSERVATIONS!$AO$12))*SIN(RADIANS(AA31))+COS(RADIANS(OBSERVATIONS!$AO$12))*COS(RADIANS(AA31))*COS(RADIANS(Y31))))","v":62.210613558199995},62.210613558199995,"Deneb",266.05972706713806,62.210613558199995]
[null,"Enif",{"$f":"(21+44/60+10/3600)","v":21.736111111111111},{"$f":"9+52.5/60","v":9.875},{"$f":"MOD(360-(C32+((3.075+1.336*SIN(RADIANS(C32))*TAN(RADIANS(D32)))*(OBSERVATIONS!$U$35-36526)/365)/3600)*15,360)","v":33.64629827498527},{"$f":"D32+(20.04*COS(RADIANS(C32*15))*(OBSERVATIONS!$U$35-36526)/365)/3600","v":9.9843842733322941},{"$f":"-17.3*SIN(RADIANS(125-0.05295*(OBSERVATIONS!$U$35-2451545)))-1.4*SIN(RADIANS(200+1.97129*(OBSERVATIONS!$U$35-2451545)))","v":-15.507213434549312},{"$f":"9.4*COS(RADIANS(125-0.05295*(OBSERVATIONS!$U$35-2451545)))+0.7*COS(RADIANS(200+1.97129*(OBSERVATIONS!$U$35-2451545)))","v":-2.1041300782981658},33.645204401097146,9.9827465299444746,null,null,null,null,"Denebola",0,null,null,null,null,null,null,null,null,{"$f":"MOD(V$4+OBSERVATIONS!$AO$13+I27,360)","v":174.57858267723861},174.57858267723861,14.441532432240654,1,{"$f":"ABS(TAN(RADIANS(ABS(OBSERVATIONS!$AO$12)))/TAN(RADIANS(ABS(Z32))))","v":15.373333403341029},{"$f":"IF(AB32=0,IF(OBSERVATIONS!$AY$35=\"N\",-AC32,AC32),IF(OBSERVATIONS!$AY$35=\"N\",AC32,-AC32))","v":15.373333403341029},2.7257402684375838,18.099073671778612,{"$f":"ABS(DEGREES(ATAN(1/(COS(RADIANS(ABS(OBSERVATIONS!$AO$12)))*AF32))))","v":5.581760246776879},354.41823975322313,{"$f":"AA32-OBSERVATIONS!$AO$12","v":-41.131800901092674},{"$f":"DEGREES(ASIN(SIN(RADIANS(OBSERVATIONS!$AO$12))*SIN(RADIANS(AA32))+COS(RADIANS(OBSERVATIONS!$AO$12))*COS(RADIANS(AA32))*COS(RADIANS(Y32))))","v":-19.835892211879923},-19.835892211879923,"Denebola",354.41823975322313,-19.835892211879923]
[null,"Formalhaut",{"$f":"(22+57/60+37/3600)","v":22.960277777777776},{"$f":"-29-37.6/60","v":-29.626666666666665},{"$f":"MOD(360-(C33+((3.075+1.336*SIN(RADIANS(C33))*TAN(RADIANS(D33)))*(OBSERVATIONS!$U$35-36526)/365)/3600)*15,360)","v":15.321555953842221},{"$f":"D33+(20.04*COS(RADIANS(C33*15))*(OBSERVATIONS!$U$35-36526)/365)/3600","v":-29.499645463183064},{"$f":"-17.3*SIN(RADIANS(125-0.05295*(OBSERVATIONS!$U$35-2451545)))-1.4*SIN(RADIANS(200+1.97129*(OBSERVATIONS!$U$35-2451545)))","v":-15.507213434549312},{"$f":"9.4*COS(RADIANS(125-0.05295*(OBSERVATIONS!$U$35-2451545)))+0.7*COS(RADIANS(200+1.97129*(OBSERVATIONS!$U$35-2451545)))","v":-2.1041300782981658},15.32102234523631,-29.501523922799976,null,null,null,null,"Diphda",0,null,null,null,null,null,null,null,null,{"$f":"MOD(V$4+OBSERVATIONS!$AO$13+I28,360)","v":340.95828479141301},19.041715208586993,-17.862189063934917,0,{"$f":"ABS(TAN(RADIANS(ABS(OBSERVATIONS!$AO$12)))/TAN(RADIANS(ABS(Z33))))","v":4.2272604955467292},{"$f":"IF(AB33=0,IF(OBSERVATIONS!$AY$35=\"N\",-AC33,AC33),IF(OBSERVATIONS!$AY$35=\"N\",AC33,-AC33))","v":-4.2272604955467292},-0.98775844640686183,-5.2150189419535913,{"$f":"ABS(DEGREES(ATAN(1/(COS(RADIANS(ABS(OBSERVATIONS!$AO$12)))*AF33))))","v":18.735737371135155},161.26426262886486,{"$f":"AA33-OBSERVATIONS!$AO$12","v":-73.435522397268244},{"$f":"DEGREES(ASIN(SIN(RADIANS(OBSERVATIONS!$AO$12))*SIN(RADIANS(AA33))+COS(RADIANS(OBSERVATIONS!$AO$12))*COS(RADIANS(AA33))*COS(RADIANS(Y33))))","v":14.812107974541842},14.812107974541842,"Diphda",161.26426262886486,14.812107974541842]
[null,"Gacrux",{"$f":"(12+31/60+10/3600)","v":12.519444444444446},{"$f":"-57-6.4/60","v":-57.106666666666669},{"$f":"MOD(360-(C34+((3.075+1.336*SIN(RADIANS(C34))*TAN(RADIANS(D34)))*(OBSERVATIONS!$U$35-36526)/365)/3600)*15,360)","v":171.94900001980582},{"$f":"D34+(20.04*COS(RADIANS(C34*15))*(OBSERVATIONS!$U$35-36526)/365)/3600","v":-57.237325745870216},{"$f":"-17.3*SIN(RADIANS(125-0.05295*(OBSERVATIONS!$U$35-2451545)))-1.4*SIN(RADIANS(200+1.97129*(OBSERVATIONS!$U$35-2451545)))","v":-15.507213434549312},{"$f":"9.4*COS(RADIANS(125-0.05295*(OBSERVATIONS!$U$35-2451545)))+0.7*COS(RADIANS(200+1.97129*(OBSERVATIONS!$U$35-2451545)))","v":-2.1041300782981658},171.9485437003469,-57.235754717387223,null,null,null,null,"Dubhe",0,null,null,null,null,null,null,null,null,{"$f":"MOD(V$4+OBSERVATIONS!$AO$13+I29,360)","v":185.87351889533875},174.12648110466125,61.620296873876576,1,{"$f":"ABS(TAN(RADIANS(ABS(OBSERVATIONS!$AO$12)))/TAN(RADIANS(ABS(Z34))))","v":14.18261467945918},{"$f":"IF(AB34=0,IF(OBSERVATIONS!$AY$35=\"N\",-AC34,AC34),IF(OBSERVATIONS!$AY$35=\"N\",AC34,-AC34))","v":14.18261467945918},18.088320079367552,32.270934758826733,{"$f":"ABS(DEGREES(ATAN(1/(COS(RADIANS(ABS(OBSERVATIONS!$AO$12)))*AF34))))","v":3.1373184117020676},3.1373184117020676,{"$f":"AA34-OBSERVATIONS!$AO$12","v":6.0469635405432456},{"$f":"DEGREES(ASIN(SIN(RADIANS(OBSERVATIONS!$AO$12))*SIN(RADIANS(AA34))+COS(RADIANS(OBSERVATIONS!$AO$12))*COS(RADIANS(AA34))*COS(RADIANS(Y34))))","v":27.284539546094354},27.284539546094354,"Dubhe",3.1373184117020676,27.284539546094354]
[null,"Gienah",{"$f":"(12+15/60+48/3600)","v":12.263333333333334},{"$f":"-17-32.3/60","v":-17.538333333333334},{"$f":"MOD(360-(C35+((3.075+1.336*SIN(RADIANS(C35))*TAN(RADIANS(D35)))*(OBSERVATIONS!$U$35-36526)/365)/3600)*15,360)","v":175.75531913537731},{"$f":"D35+(20.04*COS(RADIANS(C35*15))*(OBSERVATIONS!$U$35-36526)/365)/3600","v":-17.669896687281998},{"$f":"-17.3*SIN(RADIANS(125-0.05295*(OBSERVATIONS!$U$35-2451545)))-1.4*SIN(RADIANS(200+1.97129*(OBSERVATIONS!$U$35-2451545)))","v":-15.507213434549312},{"$f":"9.4*COS(RADIANS(125-0.05295*(OBSERVATIONS!$U$35-2451545)))+0.7*COS(RADIANS(200+1.97129*(OBSERVATIONS!$U$35-2451545)))","v":-2.1041300782981658},175.7572135723926,-17.668311357295327,null,null,null,null,"Elnath",0,null,null,null,null,null,null,null,null,{"$f":"MOD(V$4+OBSERVATIONS!$AO$13+I30,360)","v":270.26651903882771},89.73348096117229,28.625682072208175,0,{"$f":"ABS(TAN(RADIANS(ABS(OBSERVATIONS!$AO$12)))/TAN(RADIANS(ABS(Z35))))","v":6.7868120189737771E-3},{"$f":"IF(AB35=0,IF(OBSERVATIONS!$AY$35=\"N\",-AC35,AC35),IF(OBSERVATIONS!$AY$35=\"N\",AC35,-AC35))","v":-6.7868120189737771E-3},0.54580522713070057,0.53901841511172677,{"$f":"ABS(DEGREES(ATAN(1/(COS(RADIANS(ABS(OBSERVATIONS!$AO$12)))*AF35))))","v":73.052208186957159},73.052208186957159,{"$f":"AA35-OBSERVATIONS!$AO$12","v":-26.947651261125156},{"$f":"DEGREES(ASIN(SIN(RADIANS(OBSERVATIONS!$AO$12))*SIN(RADIANS(AA35))+COS(RADIANS(OBSERVATIONS!$AO$12))*COS(RADIANS(AA35))*COS(RADIANS(Y35))))","v":23.4208681863972},23.4208681863972,"Elnath",73.052208186957159,23.4208681863972]
[null,"Hadar",{"$f":"(14+3/60+48/3600)","v":14.063333333333334},{"$f":"-60-22/60","v":-60.366666666666667},{"$f":"MOD(360-(C36+((3.075+1.336*SIN(RADIANS(C36))*TAN(RADIANS(D36)))*(OBSERVATIONS!$U$35-36526)/365)/3600)*15,360)","v":148.80280014363979},{"$f":"D36+(20.04*COS(RADIANS(C36*15))*(OBSERVATIONS!$U$35-36526)/365)/3600","v":-60.479766223542605},{"$f":"-17.3*SIN(RADIANS(125-0.05295*(OBSERVATIONS!$U$35-2451545)))-1.4*SIN(RADIANS(200+1.97129*(OBSERVATIONS!$U$35-2451545)))","v":-15.507213434549312},{"$f":"9.4*COS(RADIANS(125-0.05295*(OBSERVATIONS!$U$35-2451545)))+0.7*COS(RADIANS(200+1.97129*(OBSERVATIONS!$U$35-2451545)))","v":-2.1041300782981658},{"$f":"E36+(0.9175+0.3978*SIN(RADIANS(C36*15)*TAN(RADIANS(D36)))*G36-COS(RADIANS(C36*15))*TAN(RADIANS(D36))*H36)/3600","v":148.8042583514802},{"$f":"F36+(0.3978*COS(RADIANS(C36*15))*G36+SIN(RADIANS(C36))*H36)/3600","v":-60.47843868285171},null,null,null,null,"Eltanin",0,null,null,null,null,null,null,null,null,{"$f":"MOD(V$4+OBSERVATIONS!$AO$13+I31,360)","v":82.657394083450129},82.657394083450129,51.486203407561291,0,{"$f":"ABS(TAN(RADIANS(ABS(OBSERVATIONS!$AO$12)))/TAN(RADIANS(ABS(Z36))))","v":0.18800582697590118},{"$f":"IF(AB36=0,IF(OBSERVATIONS!$AY$35=\"N\",-AC36,AC36),IF(OBSERVATIONS!$AY$35=\"N\",AC36,-AC36))","v":-0.18800582697590118},1.2669404324531344,1.0789346054772331,{"$f":"ABS(DEGREES(ATAN(1/(COS(RADIANS(ABS(OBSERVATIONS!$AO$12)))*AF36))))","v":58.617780946071441},301.38221905392857,{"$f":"AA36-OBSERVATIONS!$AO$12","v":-4.0871299257720395},{"$f":"DEGREES(ASIN(SIN(RADIANS(OBSERVATIONS!$AO$12))*SIN(RADIANS(AA36))+COS(RADIANS(OBSERVATIONS!$AO$12))*COS(RADIANS(AA36))*COS(RADIANS(Y36))))","v":43.662037873424097},43.662037873424097,"Eltanin",301.38221905392857,43.662037873424097]
[null,"Hamal",{"$f":"(2+7/60+10/3600)","v":2.1194444444444445},{"$f":"23+27.8/60","v":23.463333333333335},{"$f":"MOD(360-(C37+((3.075+1.336*SIN(RADIANS(C37))*TAN(RADIANS(D37)))*(OBSERVATIONS!$U$35-36526)/365)/3600)*15,360)","v":327.9026829979486},{"$f":"D37+(20.04*COS(RADIANS(C37*15))*(OBSERVATIONS!$U$35-36526)/365)/3600","v":23.575424416084317},{"$f":"-17.3*SIN(RADIANS(125-0.05295*(OBSERVATIONS!$U$35-2451545)))-1.4*SIN(RADIANS(200+1.97129*(OBSERVATIONS!$U$35-2451545)))","v":-15.507213434549312},{"$f":"9.4*COS(RADIANS(125-0.05295*(OBSERVATIONS!$U$35-2451545)))+0.7*COS(RADIANS(200+1.97129*(OBSERVATIONS!$U$35-2451545)))","v":-2.1041300782981658},{"$f":"E37+(0.9175+0.3978*SIN(RADIANS(C37*15)*TAN(RADIANS(D37)))*G37-COS(RADIANS(C37*15))*TAN(RADIANS(D37))*H37)/3600","v":327.90274477601406},{"$f":"F37+(0.3978*COS(RADIANS(C37*15))*G37+SIN(RADIANS(C37))*H37)/3600","v":23.573946337866282},null,null,null,null,"Enif",0,null,null,null,null,null,null,null,null,{"$f":"MOD(V$4+OBSERVATIONS!$AO$13+I32,360)","v":25.797972363885322},25.797972363885322,9.9827465299444746,0,{"$f":"ABS(TAN(RADIANS(ABS(OBSERVATIONS!$AO$12)))/TAN(RADIANS(ABS(Z37))))","v":3.0183714925973315},{"$f":"IF(AB37=0,IF(OBSERVATIONS!$AY$35=\"N\",-AC37,AC37),IF(OBSERVATIONS!$AY$35=\"N\",AC37,-AC37))","v":-3.0183714925973315},0.40445039777754466,-2.6139210948197871,{"$f":"ABS(DEGREES(ATAN(1/(COS(RADIANS(ABS(OBSERVATIONS!$AO$12)))*AF37))))","v":34.085796257437394},214.08579625743738,{"$f":"AA37-OBSERVATIONS!$AO$12","v":-45.590586803388859},{"$f":"DEGREES(ASIN(SIN(RADIANS(OBSERVATIONS!$AO$12))*SIN(RADIANS(AA37))+COS(RADIANS(OBSERVATIONS!$AO$12))*COS(RADIANS(AA37))*COS(RADIANS(Y37))))","v":40.11228482049529},40.11228482049529,"Enif",214.08579625743738,40.11228482049529]
[null,"Kaus Austr.",{"$f":"(18+24/60+7/3600)","v":18.401944444444442},{"$f":"-34-23/60","v":-34.383333333333333},{"$f":"MOD(360-(C38+((3.075+1.336*SIN(RADIANS(C38))*TAN(RADIANS(D38)))*(OBSERVATIONS!$U$35-36526)/365)/3600)*15,360)","v":83.6957874825045},{"$f":"D38+(20.04*COS(RADIANS(C38*15))*(OBSERVATIONS!$U$35-36526)/365)/3600","v":-34.36948170997632},{"$f":"-17.3*SIN(RADIANS(125-0.05295*(OBSERVATIONS!$U$35-2451545)))-1.4*SIN(RADIANS(200+1.97129*(OBSERVATIONS!$U$35-2451545)))","v":-15.507213434549312},{"$f":"9.4*COS(RADIANS(125-0.05295*(OBSERVATIONS!$U$35-2451545)))+0.7*COS(RADIANS(200+1.97129*(OBSERVATIONS!$U$35-2451545)))","v":-2.1041300782981658},83.695735727571133,-34.369846201459346,null,null,null,null,"Formalhaut",0,null,null,null,null,null,null,null,null,{"$f":"MOD(V$4+OBSERVATIONS!$AO$13+I33,360)","v":7.4737903080244905},7.4737903080244905,-29.501523922799976,0,{"$f":"ABS(TAN(RADIANS(ABS(OBSERVATIONS!$AO$12)))/TAN(RADIANS(ABS(Z38))))","v":11.121561802680032},{"$f":"IF(AB38=0,IF(OBSERVATIONS!$AY$35=\"N\",-AC38,AC38),IF(OBSERVATIONS!$AY$35=\"N\",AC38,-AC38))","v":-11.121561802680032},-4.3499375503089217,-15.471499352988953,{"$f":"ABS(DEGREES(ATAN(1/(COS(RADIANS(ABS(OBSERVATIONS!$AO$12)))*AF38))))","v":6.5221464065106272},186.52214640651061,{"$f":"AA38-OBSERVATIONS!$AO$12","v":-85.074857256133299},{"$f":"DEGREES(ASIN(SIN(RADIANS(OBSERVATIONS!$AO$12))*SIN(RADIANS(AA38))+COS(RADIANS(OBSERVATIONS!$AO$12))*COS(RADIANS(AA38))*COS(RADIANS(Y38))))","v":4.6847889553309239},4.6847889553309239,"Formalhaut",186.52214640651061,4.6847889553309239]
[null,"Kochab",{"$f":"(14+50/60+39/3600)","v":14.844166666666668},{"$f":"74+9.2/60","v":74.153333333333336},{"$f":"MOD(360-(C39+((3.075+1.336*SIN(RADIANS(C39))*TAN(RADIANS(D39)))*(OBSERVATIONS!$U$35-36526)/365)/3600)*15,360)","v":136.91494095022037},{"$f":"D39+(20.04*COS(RADIANS(C39*15))*(OBSERVATIONS!$U$35-36526)/365)/3600","v":74.056356766533312},{"$f":"-17.3*SIN(RADIANS(125-0.05295*(OBSERVATIONS!$U$35-2451545)))-1.4*SIN(RADIANS(200+1.97129*(OBSERVATIONS!$U$35-2451545)))","v":-15.507213434549312},{"$f":"9.4*COS(RADIANS(125-0.05295*(OBSERVATIONS!$U$35-2451545)))+0.7*COS(RADIANS(200+1.97129*(OBSERVATIONS!$U$35-2451545)))","v":-2.1041300782981658},136.91213586589549,74.057467098949928,null,null,null,null,"Gacrux",0,null,null,null,null,null,null,null,null,{"$f":"MOD(V$4+OBSERVATIONS!$AO$13+I34,360)","v":164.10131166313511},{"$f":"IF(Y39>180,360-Y39,Y39)","v":164.10131166313511},-57.235754717387223,{"$f":"IF(Y39>90,IF(Y39<270,1,0),0)","v":1},{"$f":"ABS(TAN(RADIANS(ABS(OBSERVATIONS!$AO$12)))/TAN(RADIANS(ABS(Z39))))","v":5.1223254668501799},{"$f":"IF(AB39=0,IF(OBSERVATIONS!$AY$35=\"N\",-AC39,AC39),IF(OBSERVATIONS!$AY$35=\"N\",AC39,-AC39))","v":5.1223254668501799},{"$f":"IF(AA39>0,ABS(TAN(RADIANS(AA39))/SIN(RADIANS(Y39))),-ABS(TAN(RADIANS(AA39))/SIN(RADIANS(Y39))))","v":-5.6721937817555936},{"$f":"AD39+AE39","v":-0.54986831490541377},{"$f":"ABS(DEGREES(ATAN(1/(COS(RADIANS(ABS(OBSERVATIONS!$AO$12)))*AF39))))","v":72.73117200674875},{"$f":"IF(AF39<0,IF(Y39<180,180+AG39,180-AG39),IF(Y39<180,360-AG39,AG39))","v":252.73117200674875},{"$f":"AA39-OBSERVATIONS!$AO$12","v":-112.80908805072056},{"$f":"DEGREES(ASIN(SIN(RADIANS(OBSERVATIONS!$AO$12))*SIN(RADIANS(AA39))+COS(RADIANS(OBSERVATIONS!$AO$12))*COS(RADIANS(AA39))*COS(RADIANS(Y39))))","v":-81.068789306895795},{"$f":"AJ39","v":-81.068789306895795},"Gacrux",{"$f":"AH39","v":252.73117200674875},{"$f":"AJ39","v":-81.068789306895795}]
[null,"Markab",{"$f":"(23+4/60+44/3600)","v":23.078888888888887},{"$f":"15+12.3/60","v":15.205},{"$f":"MOD(360-(C40+((3.075+1.336*SIN(RADIANS(C40))*TAN(RADIANS(D40)))*(OBSERVATIONS!$U$35-36526)/365)/3600)*15,360)","v":13.499083103992518},{"$f":"D40+(20.04*COS(RADIANS(C40*15))*(OBSERVATIONS!$U$35-36526)/365)/3600","v":15.333060751491518},{"$f":"-17.3*SIN(RADIANS(125-0.05295*(OBSERVATIONS!$U$35-2451545)))-1.4*SIN(RADIANS(200+1.97129*(OBSERVATIONS!$U$35-2451545)))","v":-15.507213434549312},{"$f":"9.4*COS(RADIANS(125-0.05295*(OBSERVATIONS!$U$35-2451545)))+0.7*COS(RADIANS(200+1.97129*(OBSERVATIONS!$U$35-2451545)))","v":-2.1041300782981658},13.49778303667518,15.331167670826005,null,null,null,null,"Gienah",0,null,null,null,null,null,null,null,null,{"$f":"MOD(V$4+OBSERVATIONS!$AO$13+I35,360)","v":167.9099815351808},{"$f":"IF(Y40>180,360-Y40,Y40)","v":167.9099815351808},-17.668311357295327,{"$f":"IF(Y40>90,IF(Y40<270,1,0),0)","v":1},{"$f":"ABS(TAN(RADIANS(ABS(OBSERVATIONS!$AO$12)))/TAN(RADIANS(ABS(Z40))))","v":6.8114442990261024},{"$f":"IF(AB40=0,IF(OBSERVATIONS!$AY$35=\"N\",-AC40,AC40),IF(OBSERVATIONS!$AY$35=\"N\",AC40,-AC40))","v":6.8114442990261024},{"$f":"IF(AA40>0,ABS(TAN(RADIANS(AA40))/SIN(RADIANS(Y40))),-ABS(TAN(RADIANS(AA40))/SIN(RADIANS(Y40))))","v":-1.52081223601031},{"$f":"AD40+AE40","v":5.2906320630157921},{"$f":"ABS(DEGREES(ATAN(1/(COS(RADIANS(ABS(OBSERVATIONS!$AO$12)))*AF40))))","v":18.486286199209367},{"$f":"IF(AF40<0,IF(Y40<180,180+AG40,180-AG40),IF(Y40<180,360-AG40,AG40))","v":341.51371380079064},{"$f":"AA40-OBSERVATIONS!$AO$12","v":-73.241644690628661},{"$f":"DEGREES(ASIN(SIN(RADIANS(OBSERVATIONS!$AO$12))*SIN(RADIANS(AA40))+COS(RADIANS(OBSERVATIONS!$AO$12))*COS(RADIANS(AA40))*COS(RADIANS(Y40))))","v":-50.994186981455343},{"$f":"AJ40","v":-50.994186981455343},"Gienah",{"$f":"AH40","v":341.51371380079064},{"$f":"AJ40","v":-50.994186981455343}]
[null,"Menkar",{"$f":"(3+2/60+17/3600)","v":3.0380555555555553},{"$f":"4+5.2/60","v":4.0866666666666669},{"$f":"MOD(360-(C41+((3.075+1.336*SIN(RADIANS(C41))*TAN(RADIANS(D41)))*(OBSERVATIONS!$U$35-36526)/365)/3600)*15,360)","v":314.12513390758249},{"$f":"D41+(20.04*COS(RADIANS(C41*15))*(OBSERVATIONS!$U$35-36526)/365)/3600","v":4.1789838561410972},{"$f":"-17.3*SIN(RADIANS(125-0.05295*(OBSERVATIONS!$U$35-2451545)))-1.4*SIN(RADIANS(200+1.97129*(OBSERVATIONS!$U$35-2451545)))","v":-15.507213434549312},{"$f":"9.4*COS(RADIANS(125-0.05295*(OBSERVATIONS!$U$35-2451545)))+0.7*COS(RADIANS(200+1.97129*(OBSERVATIONS!$U$35-2451545)))","v":-2.1041300782981658},314.12532067949041,4.1777533499727504,null,null,null,null,"Hadar",0,null,null,null,null,null,null,null,null,{"$f":"MOD(V$4+OBSERVATIONS!$AO$13+I36,360)","v":140.95702631426838},140.95702631426838,-60.47843868285171,1,{"$f":"ABS(TAN(RADIANS(ABS(OBSERVATIONS!$AO$12)))/TAN(RADIANS(ABS(Z41))))","v":1.7989618539425929},{"$f":"IF(AB41=0,IF(OBSERVATIONS!$AY$35=\"N\",-AC41,AC41),IF(OBSERVATIONS!$AY$35=\"N\",AC41,-AC41))","v":1.7989618539425929},-2.8035155113151098,-1.0045536573725169,{"$f":"ABS(DEGREES(ATAN(1/(COS(RADIANS(ABS(OBSERVATIONS!$AO$12)))*AF41))))","v":60.40665749779982},240.40665749779981,{"$f":"AA41-OBSERVATIONS!$AO$12","v":-116.05177201618504},{"$f":"DEGREES(ASIN(SIN(RADIANS(OBSERVATIONS!$AO$12))*SIN(RADIANS(AA41))+COS(RADIANS(OBSERVATIONS!$AO$12))*COS(RADIANS(AA41))*COS(RADIANS(Y41))))","v":-69.087087770662507},-69.087087770662507,"Hadar",240.40665749779981,-69.087087770662507]
[null,"Menkent",{"$f":"(14+6/60+40/3600)","v":14.111111111111111},{"$f":"-36-21.9/60","v":-36.365000000000002},{"$f":"MOD(360-(C42+((3.075+1.336*SIN(RADIANS(C42))*TAN(RADIANS(D42)))*(OBSERVATIONS!$U$35-36526)/365)/3600)*15,360)","v":148.05347408582114},{"$f":"D42+(20.04*COS(RADIANS(C42*15))*(OBSERVATIONS!$U$35-36526)/365)/3600","v":-36.477242390841646},{"$f":"-17.3*SIN(RADIANS(125-0.05295*(OBSERVATIONS!$U$35-2451545)))-1.4*SIN(RADIANS(200+1.97129*(OBSERVATIONS!$U$35-2451545)))","v":-15.507213434549312},{"$f":"9.4*COS(RADIANS(125-0.05295*(OBSERVATIONS!$U$35-2451545)))+0.7*COS(RADIANS(200+1.97129*(OBSERVATIONS!$U$35-2451545)))","v":-2.1041300782981658},148.05479616984593,-36.475926460519851,null,null,null,null,"Hamal",0,null,null,null,null,null,null,null,null,{"$f":"MOD(V$4+OBSERVATIONS!$AO$13+I37,360)","v":320.05551273880224},39.944487261197764,23.573946337866282,0,{"$f":"ABS(TAN(RADIANS(ABS(OBSERVATIONS!$AO$12)))/TAN(RADIANS(ABS(Z42))))","v":1.7422009219180796},{"$f":"IF(AB42=0,IF(OBSERVATIONS!$AY$35=\"N\",-AC42,AC42),IF(OBSERVATIONS!$AY$35=\"N\",AC42,-AC42))","v":-1.7422009219180796},0.67962180081143342,-1.0625791211066462,{"$f":"ABS(DEGREES(ATAN(1/(COS(RADIANS(ABS(OBSERVATIONS!$AO$12)))*AF42))))","v":59.005493372497007},120.994506627503,{"$f":"AA42-OBSERVATIONS!$AO$12","v":-31.999386995467049},{"$f":"DEGREES(ASIN(SIN(RADIANS(OBSERVATIONS!$AO$12))*SIN(RADIANS(AA42))+COS(RADIANS(OBSERVATIONS!$AO$12))*COS(RADIANS(AA42))*COS(RADIANS(Y42))))","v":46.647803200707543},46.647803200707543,"Hamal",120.994506627503,46.647803200707543]
[null,"Miaplacidus",{"$f":"(9+13/60+16/3600)","v":9.2211111111111119},{"$f":"-69-42.8/60","v":-69.713333333333338},{"$f":"MOD(360-(C43+((3.075+1.336*SIN(RADIANS(C43))*TAN(RADIANS(D43)))*(OBSERVATIONS!$U$35-36526)/365)/3600)*15,360)","v":221.4369695463586},{"$f":"D43+(20.04*COS(RADIANS(C43*15))*(OBSERVATIONS!$U$35-36526)/365)/3600","v":-69.811822968897104},{"$f":"-17.3*SIN(RADIANS(125-0.05295*(OBSERVATIONS!$U$35-2451545)))-1.4*SIN(RADIANS(200+1.97129*(OBSERVATIONS!$U$35-2451545)))","v":-15.507213434549312},{"$f":"9.4*COS(RADIANS(125-0.05295*(OBSERVATIONS!$U$35-2451545)))+0.7*COS(RADIANS(200+1.97129*(OBSERVATIONS!$U$35-2451545)))","v":-2.1041300782981658},221.43882523145669,-69.810636897715312,null,null,null,null,"Jupiter",1,{"$f":"GZ4","v":301.84156779898655},{"$f":"GZ5","v":319.48061103312858},{"$f":"GZ6","v":314.37570036566927},{"$f":"GY4","v":15.238163485366405},{"$f":"GY5","v":8.3432551032155473},{"$f":"GY6","v":15.238075226655301},null,null,{"$f":"MOD(Q43+OBSERVATIONS!$AO$13,360)","v":308.62490113231991},51.375098867680094,{"$f":"T43","v":15.238163485366405},0,{"$f":"ABS(TAN(RADIANS(ABS(OBSERVATIONS!$AO$12)))/TAN(RADIANS(ABS(Z43))))","v":1.1657477396764344},{"$f":"IF(AB43=0,IF(OBSERVATIONS!$AY$35=\"N\",-AC43,AC43),IF(OBSERVATIONS!$AY$35=\"N\",AC43,-AC43))","v":-1.1657477396764344},0.34868431667307187,-0.81706342300336254,{"$f":"ABS(DEGREES(ATAN(1/(COS(RADIANS(ABS(OBSERVATIONS!$AO$12)))*AF43))))","v":65.206481711412337},114.79351828858766,{"$f":"AA43-OBSERVATIONS!$AO$12","v":-40.335169847966924},{"$f":"DEGREES(ASIN(SIN(RADIANS(OBSERVATIONS!$AO$12))*SIN(RADIANS(AA43))+COS(RADIANS(OBSERVATIONS!$AO$12))*COS(RADIANS(AA43))*COS(RADIANS(Y43))))","v":33.868758534604481},33.868758534604481,"Jupiter",114.79351828858766,33.868758534604481]
[null,"Mirfak",{"$f":"(3+24/60+20/3600)","v":3.4055555555555554},{"$f":"49+51.7/60","v":49.861666666666665},{"$f":"MOD(360-(C44+((3.075+1.336*SIN(RADIANS(C44))*TAN(RADIANS(D44)))*(OBSERVATIONS!$U$35-36526)/365)/3600)*15,360)","v":308.60384285689929},{"$f":"D44+(20.04*COS(RADIANS(C44*15))*(OBSERVATIONS!$U$35-36526)/365)/3600","v":49.944510163782013},{"$f":"-17.3*SIN(RADIANS(125-0.05295*(OBSERVATIONS!$U$35-2451545)))-1.4*SIN(RADIANS(200+1.97129*(OBSERVATIONS!$U$35-2451545)))","v":-15.507213434549312},{"$f":"9.4*COS(RADIANS(125-0.05295*(OBSERVATIONS!$U$35-2451545)))+0.7*COS(RADIANS(200+1.97129*(OBSERVATIONS!$U$35-2451545)))","v":-2.1041300782981658},308.60304055996875,49.943399011648744,null,null,null,null,"Kaus Austr.",0,null,null,null,null,null,null,null,null,{"$f":"MOD(V$4+OBSERVATIONS!$AO$13+I38,360)","v":75.84850369035928},75.84850369035928,{"$f":"J38","v":-34.369846201459346},0,{"$f":"ABS(TAN(RADIANS(ABS(OBSERVATIONS!$AO$12)))/TAN(RADIANS(ABS(Z44))))","v":0.36787135596646525},{"$f":"IF(AB44=0,IF(OBSERVATIONS!$AY$35=\"N\",-AC44,AC44),IF(OBSERVATIONS!$AY$35=\"N\",AC44,-AC44))","v":-0.36787135596646525},-0.70534694489549044,-1.0732183008619556,{"$f":"ABS(DEGREES(ATAN(1/(COS(RADIANS(ABS(OBSERVATIONS!$AO$12)))*AF44))))","v":58.752926872478021},238.75292687247801,{"$f":"AA44-OBSERVATIONS!$AO$12","v":-89.943179534792677},{"$f":"DEGREES(ASIN(SIN(RADIANS(OBSERVATIONS!$AO$12))*SIN(RADIANS(AA44))+COS(RADIANS(OBSERVATIONS!$AO$12))*COS(RADIANS(AA44))*COS(RADIANS(Y44))))","v":-20.58313838301957},-20.58313838301957,"Kaus Austr.",238.75292687247801,-20.58313838301957]
[null,"Nunki",{"$f":"(18+55/60+13/3600)","v":18.92027777777778},{"$f":"-26-17.7/60","v":-26.295000000000002},{"$f":"MOD(360-(C45+((3.075+1.336*SIN(RADIANS(C45))*TAN(RADIANS(D45)))*(OBSERVATIONS!$U$35-36526)/365)/3600)*15,360)","v":75.913429245131624},{"$f":"D45+(20.04*COS(RADIANS(C45*15))*(OBSERVATIONS!$U$35-36526)/365)/3600","v":-26.263533700194706},{"$f":"-17.3*SIN(RADIANS(125-0.05295*(OBSERVATIONS!$U$35-2451545)))-1.4*SIN(RADIANS(200+1.97129*(OBSERVATIONS!$U$35-2451545)))","v":-15.507213434549312},{"$f":"9.4*COS(RADIANS(125-0.05295*(OBSERVATIONS!$U$35-2451545)))+0.7*COS(RADIANS(200+1.97129*(OBSERVATIONS!$U$35-2451545)))","v":-2.1041300782981658},75.914711274288081,-26.264132078651066,null,null,null,null,"Kochab",0,null,null,null,null,null,null,null,null,{"$f":"MOD(V$4+OBSERVATIONS!$AO$13+I39,360)","v":129.06490382868367},129.06490382868367,{"$f":"J39","v":74.057467098949928},1,{"$f":"ABS(TAN(RADIANS(ABS(OBSERVATIONS!$AO$12)))/TAN(RADIANS(ABS(Z45))))","v":1.1842188138480945},{"$f":"IF(AB45=0,IF(OBSERVATIONS!$AY$35=\"N\",-AC45,AC45),IF(OBSERVATIONS!$AY$35=\"N\",AC45,-AC45))","v":1.1842188138480945},4.5086493037328133,5.6928681175809075,{"$f":"ABS(DEGREES(ATAN(1/(COS(RADIANS(ABS(OBSERVATIONS!$AO$12)))*AF45))))","v":17.260374157619157},342.73962584238086,{"$f":"AA45-OBSERVATIONS!$AO$12","v":18.484133765616598},{"$f":"DEGREES(ASIN(SIN(RADIANS(OBSERVATIONS!$AO$12))*SIN(RADIANS(AA45))+COS(RADIANS(OBSERVATIONS!$AO$12))*COS(RADIANS(AA45))*COS(RADIANS(Y45))))","v":44.04818417175067},44.04818417175067,"Kochab",342.73962584238086,44.04818417175067]
[null,"Peacock",{"$f":"(20+25/60+35/3600)","v":20.426388888888891},{"$f":"-56-44.2/60","v":-56.736666666666665},{"$f":"MOD(360-(C46+((3.075+1.336*SIN(RADIANS(C46))*TAN(RADIANS(D46)))*(OBSERVATIONS!$U$35-36526)/365)/3600)*15,360)","v":53.370798105791664},{"$f":"D46+(20.04*COS(RADIANS(C46*15))*(OBSERVATIONS!$U$35-36526)/365)/3600","v":-56.658416308471985},{"$f":"-17.3*SIN(RADIANS(125-0.05295*(OBSERVATIONS!$U$35-2451545)))-1.4*SIN(RADIANS(200+1.97129*(OBSERVATIONS!$U$35-2451545)))","v":-15.507213434549312},{"$f":"9.4*COS(RADIANS(125-0.05295*(OBSERVATIONS!$U$35-2451545)))+0.7*COS(RADIANS(200+1.97129*(OBSERVATIONS!$U$35-2451545)))","v":-2.1041300782981658},53.372162112943094,-56.659637045254748,null,null,null,null,"Markab",0,null,null,null,null,null,null,null,null,{"$f":"MOD(V$4+OBSERVATIONS!$AO$13+I40,360)","v":5.6505509994633485},5.6505509994633485,{"$f":"J40","v":15.331167670826005},0,{"$f":"ABS(TAN(RADIANS(ABS(OBSERVATIONS!$AO$12)))/TAN(RADIANS(ABS(Z46))))","v":14.746118576065951},{"$f":"IF(AB46=0,IF(OBSERVATIONS!$AY$35=\"N\",-AC46,AC46),IF(OBSERVATIONS!$AY$35=\"N\",AC46,-AC46))","v":-14.746118576065951},2.7843918768708216,-11.961726699195129,{"$f":"ABS(DEGREES(ATAN(1/(COS(RADIANS(ABS(OBSERVATIONS!$AO$12)))*AF46))))","v":8.4115249902259546},188.41152499022596,{"$f":"AA46-OBSERVATIONS!$AO$12","v":-40.242165662507325},{"$f":"DEGREES(ASIN(SIN(RADIANS(OBSERVATIONS!$AO$12))*SIN(RADIANS(AA46))+COS(RADIANS(OBSERVATIONS!$AO$12))*COS(RADIANS(AA46))*COS(RADIANS(Y46))))","v":49.523430045438033},49.523430045438033,"Markab",188.41152499022596,49.523430045438033]
[null,"Pollux",{"$f":"(7+45/60+20/3600)","v":7.7555555555555555},{"$f":"28+1.5/60","v":28.024999999999999},{"$f":"MOD(360-(C47+((3.075+1.336*SIN(RADIANS(C47))*TAN(RADIANS(D47)))*(OBSERVATIONS!$U$35-36526)/365)/3600)*15,360)","v":243.3536608235616},{"$f":"D47+(20.04*COS(RADIANS(C47*15))*(OBSERVATIONS!$U$35-36526)/365)/3600","v":27.966500497515149},{"$f":"-17.3*SIN(RADIANS(125-0.05295*(OBSERVATIONS!$U$35-2451545)))-1.4*SIN(RADIANS(200+1.97129*(OBSERVATIONS!$U$35-2451545)))","v":-15.507213434549312},{"$f":"9.4*COS(RADIANS(125-0.05295*(OBSERVATIONS!$U$35-2451545)))+0.7*COS(RADIANS(200+1.97129*(OBSERVATIONS!$U$35-2451545)))","v":-2.1041300782981658},243.35226582573475,27.967181740537971,null,null,null,null,"Mars",1,{"$f":"EJ4","v":160.71488951806509},{"$f":"EJ5","v":120.56352747794543},{"$f":"EJ6","v":173.2286527940671},{"$f":"EI4","v":-1.3483781913820179},{"$f":"EI5","v":-15.525931075578766},{"$f":"EI6","v":-1.3575611380431294},null,null,{"$f":"MOD(Q47+OBSERVATIONS!$AO$13,360)","v":167.49822285139842},167.49822285139842,{"$f":"T47","v":-1.3483781913820179},1,{"$f":"ABS(TAN(RADIANS(ABS(OBSERVATIONS!$AO$12)))/TAN(RADIANS(ABS(Z47))))","v":6.580184950660648},{"$f":"IF(AB47=0,IF(OBSERVATIONS!$AY$35=\"N\",-AC47,AC47),IF(OBSERVATIONS!$AY$35=\"N\",AC47,-AC47))","v":6.580184950660648},-0.10873560247446609,6.4714493481861819,{"$f":"ABS(DEGREES(ATAN(1/(COS(RADIANS(ABS(OBSERVATIONS!$AO$12)))*AF47))))","v":15.287021931563626},344.71297806843637,{"$f":"AA47-OBSERVATIONS!$AO$12","v":-56.921711524715349},{"$f":"DEGREES(ASIN(SIN(RADIANS(OBSERVATIONS!$AO$12))*SIN(RADIANS(AA47))+COS(RADIANS(OBSERVATIONS!$AO$12))*COS(RADIANS(AA47))*COS(RADIANS(Y47))))","v":-34.834171378077357},-34.834171378077357,"Mars",344.71297806843637,-34.834171378077357]
[null,"Procyon",{"$f":"(7+39/60+19/3600)","v":7.6552777777777781},{"$f":"5+13.5/60","v":5.2249999999999996},{"$f":"MOD(360-(C48+((3.075+1.336*SIN(RADIANS(C48))*TAN(RADIANS(D48)))*(OBSERVATIONS!$U$35-36526)/365)/3600)*15,360)","v":244.86569343405779},{"$f":"D48+(20.04*COS(RADIANS(C48*15))*(OBSERVATIONS!$U$35-36526)/365)/3600","v":5.1696231426102939},{"$f":"-17.3*SIN(RADIANS(125-0.05295*(OBSERVATIONS!$U$35-2451545)))-1.4*SIN(RADIANS(200+1.97129*(OBSERVATIONS!$U$35-2451545)))","v":-15.507213434549312},{"$f":"9.4*COS(RADIANS(125-0.05295*(OBSERVATIONS!$U$35-2451545)))+0.7*COS(RADIANS(200+1.97129*(OBSERVATIONS!$U$35-2451545)))","v":-2.1041300782981658},244.86561355867096,5.1702648250575951,null,null,null,null,"Menkar",0,null,null,null,null,null,null,null,null,{"$f":"MOD(V$4+OBSERVATIONS!$AO$13+I41,360)","v":306.27808864227859},53.72191135772141,{"$f":"J41","v":4.1777533499727504},0,{"$f":"ABS(TAN(RADIANS(ABS(OBSERVATIONS!$AO$12)))/TAN(RADIANS(ABS(Z48))))","v":1.0708876715896296},{"$f":"IF(AB48=0,IF(OBSERVATIONS!$AY$35=\"N\",-AC48,AC48),IF(OBSERVATIONS!$AY$35=\"N\",AC48,-AC48))","v":-1.0708876715896296},9.0609229717059342E-2,-0.98027844187257029,{"$f":"ABS(DEGREES(ATAN(1/(COS(RADIANS(ABS(OBSERVATIONS!$AO$12)))*AF48))))","v":61.004719978096801},118.9952800219032,{"$f":"AA48-OBSERVATIONS!$AO$12","v":-51.395579983360577},{"$f":"DEGREES(ASIN(SIN(RADIANS(OBSERVATIONS!$AO$12))*SIN(RADIANS(AA48))+COS(RADIANS(OBSERVATIONS!$AO$12))*COS(RADIANS(AA48))*COS(RADIANS(Y48))))","v":23.186368514825418},23.186368514825418,"Menkar",118.9952800219032,23.186368514825418]
[null,"Rasalhague",{"$f":"(17+34/60+54/3600)","v":17.581666666666667},{"$f":"12+33.7/60","v":12.561666666666667},{"$f":"MOD(360-(C49+((3.075+1.336*SIN(RADIANS(C49))*TAN(RADIANS(D49)))*(OBSERVATIONS!$U$35-36526)/365)/3600)*15,360)","v":95.962590345119111},{"$f":"D49+(20.04*COS(RADIANS(C49*15))*(OBSERVATIONS!$U$35-36526)/365)/3600","v":12.547252472419661},{"$f":"-17.3*SIN(RADIANS(125-0.05295*(OBSERVATIONS!$U$35-2451545)))-1.4*SIN(RADIANS(200+1.97129*(OBSERVATIONS!$U$35-2451545)))","v":-15.507213434549312},{"$f":"9.4*COS(RADIANS(125-0.05295*(OBSERVATIONS!$U$35-2451545)))+0.7*COS(RADIANS(200+1.97129*(OBSERVATIONS!$U$35-2451545)))","v":-2.1041300782981658},95.961365817906398,12.547263213096711,null,null,null,null,"Menkent",0,null,null,null,null,null,null,null,null,{"$f":"MOD(V$4+OBSERVATIONS!$AO$13+I42,360)","v":140.2075641326341},140.2075641326341,{"$f":"J42","v":-36.475926460519851},1,{"$f":"ABS(TAN(RADIANS(ABS(OBSERVATIONS!$AO$12)))/TAN(RADIANS(ABS(Z49))))","v":1.7516235754927432},{"$f":"IF(AB49=0,IF(OBSERVATIONS!$AY$35=\"N\",-AC49,AC49),IF(OBSERVATIONS!$AY$35=\"N\",AC49,-AC49))","v":1.7516235754927432},-1.155158608392582,0.59646496710016117,{"$f":"ABS(DEGREES(ATAN(1/(COS(RADIANS(ABS(OBSERVATIONS!$AO$12)))*AF49))))","v":71.365273960743281},288.63472603925675,{"$f":"AA49-OBSERVATIONS!$AO$12","v":-92.049259793853182},{"$f":"DEGREES(ASIN(SIN(RADIANS(OBSERVATIONS!$AO$12))*SIN(RADIANS(AA49))+COS(RADIANS(OBSERVATIONS!$AO$12))*COS(RADIANS(AA49))*COS(RADIANS(Y49))))","v":-57.104576013422381},-57.104576013422381,"Menkent",288.63472603925675,-57.104576013422381]
[null,"Regulus",{"$f":"(10+8/60+22/3600)","v":10.139444444444443},{"$f":"11+58/60","v":11.966666666666667},{"$f":"MOD(360-(C50+((3.075+1.336*SIN(RADIANS(C50))*TAN(RADIANS(D50)))*(OBSERVATIONS!$U$35-36526)/365)/3600)*15,360)","v":207.59987931355346},{"$f":"D50+(20.04*COS(RADIANS(C50*15))*(OBSERVATIONS!$U$35-36526)/365)/3600","v":11.850127618053932},{"$f":"-17.3*SIN(RADIANS(125-0.05295*(OBSERVATIONS!$U$35-2451545)))-1.4*SIN(RADIANS(200+1.97129*(OBSERVATIONS!$U$35-2451545)))","v":-15.507213434549312},{"$f":"9.4*COS(RADIANS(125-0.05295*(OBSERVATIONS!$U$35-2451545)))+0.7*COS(RADIANS(200+1.97129*(OBSERVATIONS!$U$35-2451545)))","v":-2.1041300782981658},207.59911069271143,11.851538980874237,null,null,null,null,"Miaplacidus",0,null,null,null,null,null,null,null,null,{"$f":"MOD(V$4+OBSERVATIONS!$AO$13+I43,360)","v":213.59159319424487},146.40840680575513,-69.810636897715312,1,{"$f":"ABS(TAN(RADIANS(ABS(OBSERVATIONS!$AO$12)))/TAN(RADIANS(ABS(Z50))))","v":2.1966797786191474},{"$f":"IF(AB50=0,IF(OBSERVATIONS!$AY$35=\"N\",-AC50,AC50),IF(OBSERVATIONS!$AY$35=\"N\",AC50,-AC50))","v":2.1966797786191474},-4.915288259845302,-2.7186084812261546,{"$f":"ABS(DEGREES(ATAN(1/(COS(RADIANS(ABS(OBSERVATIONS!$AO$12)))*AF50))))","v":33.04930238575654},146.95069761424347,{"$f":"AA50-OBSERVATIONS!$AO$12","v":-125.38397023104864},{"$f":"DEGREES(ASIN(SIN(RADIANS(OBSERVATIONS!$AO$12))*SIN(RADIANS(AA50))+COS(RADIANS(OBSERVATIONS!$AO$12))*COS(RADIANS(AA50))*COS(RADIANS(Y50))))","v":-69.504796961613977},-69.504796961613977,"Miaplacidus",146.95069761424347,-69.504796961613977]
[null,"Rigel",{"$f":"(5+14/60+33/3600)","v":5.2424999999999997},{"$f":"-8-12.3/60","v":-8.2050000000000001},{"$f":"MOD(360-(C51+((3.075+1.336*SIN(RADIANS(C51))*TAN(RADIANS(D51)))*(OBSERVATIONS!$U$35-36526)/365)/3600)*15,360)","v":281.06070407616949},{"$f":"D51+(20.04*COS(RADIANS(C51*15))*(OBSERVATIONS!$U$35-36526)/365)/3600","v":-8.1790182336026014},{"$f":"-17.3*SIN(RADIANS(125-0.05295*(OBSERVATIONS!$U$35-2451545)))-1.4*SIN(RADIANS(200+1.97129*(OBSERVATIONS!$U$35-2451545)))","v":-15.507213434549312},{"$f":"9.4*COS(RADIANS(125-0.05295*(OBSERVATIONS!$U$35-2451545)))+0.7*COS(RADIANS(200+1.97129*(OBSERVATIONS!$U$35-2451545)))","v":-2.1041300782981658},281.06127923537997,-8.1794092340327573,null,null,null,null,"Mirfak",0,null,null,null,null,null,null,null,null,{"$f":"MOD(V$4+OBSERVATIONS!$AO$13+I44,360)","v":300.75580852275698},59.244191477243021,49.943399011648744,0,{"$f":"ABS(TAN(RADIANS(ABS(OBSERVATIONS!$AO$12)))/TAN(RADIANS(ABS(Z51))))","v":0.86821763938683005},{"$f":"IF(AB51=0,IF(OBSERVATIONS!$AY$35=\"N\",-AC51,AC51),IF(OBSERVATIONS!$AY$35=\"N\",AC51,-AC51))","v":-0.86821763938683005},1.3840218146450289,0.51580417525819888,{"$f":"ABS(DEGREES(ATAN(1/(COS(RADIANS(ABS(OBSERVATIONS!$AO$12)))*AF51))))","v":73.742766983685797},73.742766983685797,{"$f":"AA51-OBSERVATIONS!$AO$12","v":-5.629934321684587},{"$f":"DEGREES(ASIN(SIN(RADIANS(OBSERVATIONS!$AO$12))*SIN(RADIANS(AA51))+COS(RADIANS(OBSERVATIONS!$AO$12))*COS(RADIANS(AA51))*COS(RADIANS(Y51))))","v":54.825622664466295},54.825622664466295,"Mirfak",73.742766983685797,54.825622664466295]
[null,"Rigil Kent",{"$f":"(14+39/60+37/3600)","v":14.660277777777779},{"$f":"-60-49.8/60","v":-60.83},{"$f":"MOD(360-(C52+((3.075+1.336*SIN(RADIANS(C52))*TAN(RADIANS(D52)))*(OBSERVATIONS!$U$35-36526)/365)/3600)*15,360)","v":139.85209328901476},{"$f":"D52+(20.04*COS(RADIANS(C52*15))*(OBSERVATIONS!$U$35-36526)/365)/3600","v":-60.931164995987231},{"$f":"-17.3*SIN(RADIANS(125-0.05295*(OBSERVATIONS!$U$35-2451545)))-1.4*SIN(RADIANS(200+1.97129*(OBSERVATIONS!$U$35-2451545)))","v":-15.507213434549312},{"$f":"9.4*COS(RADIANS(125-0.05295*(OBSERVATIONS!$U$35-2451545)))+0.7*COS(RADIANS(200+1.97129*(OBSERVATIONS!$U$35-2451545)))","v":-2.1041300782981658},139.85410851584891,-60.92999842692123,null,null,null,null,"Nunki",0,null,null,null,null,null,null,null,null,{"$f":"MOD(V$4+OBSERVATIONS!$AO$13+I45,360)","v":68.06747923707627},68.06747923707627,-26.264132078651066,0,{"$f":"ABS(TAN(RADIANS(ABS(OBSERVATIONS!$AO$12)))/TAN(RADIANS(ABS(Z52))))","v":0.58747882652474093},{"$f":"IF(AB52=0,IF(OBSERVATIONS!$AY$35=\"N\",-AC52,AC52),IF(OBSERVATIONS!$AY$35=\"N\",AC52,-AC52))","v":-0.58747882652474093},-0.53195247890105035,-1.1194313054257914,{"$f":"ABS(DEGREES(ATAN(1/(COS(RADIANS(ABS(OBSERVATIONS!$AO$12)))*AF52))))","v":57.671443313727643},237.67144331372765,{"$f":"AA52-OBSERVATIONS!$AO$12","v":-81.837465411984397},{"$f":"DEGREES(ASIN(SIN(RADIANS(OBSERVATIONS!$AO$12))*SIN(RADIANS(AA52))+COS(RADIANS(OBSERVATIONS!$AO$12))*COS(RADIANS(AA52))*COS(RADIANS(Y52))))","v":-10.115780351310121},-10.115780351310121,"Nunki",237.67144331372765,-10.115780351310121]
[null,"Sabik",{"$f":"(17+10/60+20/3600)","v":17.172222222222224},{"$f":"-15-43.4/60","v":-15.723333333333333},{"$f":"MOD(360-(C53+((3.075+1.336*SIN(RADIANS(C53))*TAN(RADIANS(D53)))*(OBSERVATIONS!$U$35-36526)/365)/3600)*15,360)","v":102.12409477464359},{"$f":"D53+(20.04*COS(RADIANS(C53*15))*(OBSERVATIONS!$U$35-36526)/365)/3600","v":-15.751689367962864},{"$f":"-17.3*SIN(RADIANS(125-0.05295*(OBSERVATIONS!$U$35-2451545)))-1.4*SIN(RADIANS(200+1.97129*(OBSERVATIONS!$U$35-2451545)))","v":-15.507213434549312},{"$f":"9.4*COS(RADIANS(125-0.05295*(OBSERVATIONS!$U$35-2451545)))+0.7*COS(RADIANS(200+1.97129*(OBSERVATIONS!$U$35-2451545)))","v":-2.1041300782981658},102.12601940475058,-15.751493486961538,null,null,null,null,"Peacock",0,null,null,null,null,null,null,null,null,{"$f":"MOD(V$4+OBSERVATIONS!$AO$13+I46,360)","v":45.524930075731277},45.524930075731277,-56.659637045254748,0,{"$f":"ABS(TAN(RADIANS(ABS(OBSERVATIONS!$AO$12)))/TAN(RADIANS(ABS(Z53))))","v":1.4325138664778114},{"$f":"IF(AB53=0,IF(OBSERVATIONS!$AY$35=\"N\",-AC53,AC53),IF(OBSERVATIONS!$AY$35=\"N\",AC53,-AC53))","v":-1.4325138664778114},-2.1302059977844428,-3.5627198642622542,{"$f":"ABS(DEGREES(ATAN(1/(COS(RADIANS(ABS(OBSERVATIONS!$AO$12)))*AF53))))","v":26.403396529937194},206.4033965299372,{"$f":"AA53-OBSERVATIONS!$AO$12","v":-112.23297037858808},{"$f":"DEGREES(ASIN(SIN(RADIANS(OBSERVATIONS!$AO$12))*SIN(RADIANS(AA53))+COS(RADIANS(OBSERVATIONS!$AO$12))*COS(RADIANS(AA53))*COS(RADIANS(Y53))))","v":-28.125500798804911},-28.125500798804911,"Peacock",206.4033965299372,-28.125500798804911]
[null,"Schedar",{"$f":"(0+40/60+30/3600)","v":0.67499999999999993},{"$f":"56+32.4/60","v":56.54},{"$f":"MOD(360-(C54+((3.075+1.336*SIN(RADIANS(C54))*TAN(RADIANS(D54)))*(OBSERVATIONS!$U$35-36526)/365)/3600)*15,360)","v":349.56911581354564},{"$f":"D54+(20.04*COS(RADIANS(C54*15))*(OBSERVATIONS!$U$35-36526)/365)/3600","v":56.669822849426815},{"$f":"-17.3*SIN(RADIANS(125-0.05295*(OBSERVATIONS!$U$35-2451545)))-1.4*SIN(RADIANS(200+1.97129*(OBSERVATIONS!$U$35-2451545)))","v":-15.507213434549312},{"$f":"9.4*COS(RADIANS(125-0.05295*(OBSERVATIONS!$U$35-2451545)))+0.7*COS(RADIANS(200+1.97129*(OBSERVATIONS!$U$35-2451545)))","v":-2.1041300782981658},349.5697885479558,56.66812910256084,null,null,null,null,"Pollux",0,null,null,null,null,null,null,null,null,{"$f":"MOD(V$4+OBSERVATIONS!$AO$13+I47,360)","v":235.50503378852295},124.49496621147705,27.967181740537971,1,{"$f":"ABS(TAN(RADIANS(ABS(OBSERVATIONS!$AO$12)))/TAN(RADIANS(ABS(Z54))))","v":1.0025583325599201},{"$f":"IF(AB54=0,IF(OBSERVATIONS!$AY$35=\"N\",-AC54,AC54),IF(OBSERVATIONS!$AY$35=\"N\",AC54,-AC54))","v":1.0025583325599201},0.6442494890989694,1.6468078216588895,{"$f":"ABS(DEGREES(ATAN(1/(COS(RADIANS(ABS(OBSERVATIONS!$AO$12)))*AF54))))","v":47.045718092473386},47.045718092473386,{"$f":"AA54-OBSERVATIONS!$AO$12","v":-27.60615159279536},{"$f":"DEGREES(ASIN(SIN(RADIANS(OBSERVATIONS!$AO$12))*SIN(RADIANS(AA54))+COS(RADIANS(OBSERVATIONS!$AO$12))*COS(RADIANS(AA54))*COS(RADIANS(Y54))))","v":5.9719008021029776},5.9719008021029776,"Pollux",47.045718092473386,5.9719008021029776]
[null,"Shaula",{"$f":"(17+33/60+34/3600)","v":17.559444444444445},{"$f":"-37-6.1/60","v":-37.101666666666667},{"$f":"MOD(360-(C55+((3.075+1.336*SIN(RADIANS(C55))*TAN(RADIANS(D55)))*(OBSERVATIONS!$U$35-36526)/365)/3600)*15,360)","v":96.334892080864279},{"$f":"D55+(20.04*COS(RADIANS(C55*15))*(OBSERVATIONS!$U$35-36526)/365)/3600","v":-37.116843243103354},{"$f":"-17.3*SIN(RADIANS(125-0.05295*(OBSERVATIONS!$U$35-2451545)))-1.4*SIN(RADIANS(200+1.97129*(OBSERVATIONS!$U$35-2451545)))","v":-15.507213434549312},{"$f":"9.4*COS(RADIANS(125-0.05295*(OBSERVATIONS!$U$35-2451545)))+0.7*COS(RADIANS(200+1.97129*(OBSERVATIONS!$U$35-2451545)))","v":-2.1041300782981658},96.33463390313662,-37.116822380250596,null,null,null,null,"Procyon",0,null,null,null,null,null,null,null,null,{"$f":"MOD(V$4+OBSERVATIONS!$AO$13+I48,360)","v":237.0183815214591},122.9816184785409,5.1702648250575951,1,{"$f":"ABS(TAN(RADIANS(ABS(OBSERVATIONS!$AO$12)))/TAN(RADIANS(ABS(Z55))))","v":0.94682424525811493},{"$f":"IF(AB55=0,IF(OBSERVATIONS!$AY$35=\"N\",-AC55,AC55),IF(OBSERVATIONS!$AY$35=\"N\",AC55,-AC55))","v":0.94682424525811493},0.10786718811933201,1.0546914333774469,{"$f":"ABS(DEGREES(ATAN(1/(COS(RADIANS(ABS(OBSERVATIONS!$AO$12)))*AF55))))","v":59.193609435631735},59.193609435631735,{"$f":"AA55-OBSERVATIONS!$AO$12","v":-50.403068508275737},{"$f":"DEGREES(ASIN(SIN(RADIANS(OBSERVATIONS!$AO$12))*SIN(RADIANS(AA55))+COS(RADIANS(OBSERVATIONS!$AO$12))*COS(RADIANS(AA55))*COS(RADIANS(Y55))))","v":-13.425209613730075},-13.425209613730075,"Procyon",59.193609435631735,-13.425209613730075]
[null,"Sirius",{"$f":"(6+45/60+10/3600)","v":6.7527777777777782},{"$f":"-16-42.9/60","v":-16.715},{"$f":"MOD(360-(C56+((3.075+1.336*SIN(RADIANS(C56))*TAN(RADIANS(D56)))*(OBSERVATIONS!$U$35-36526)/365)/3600)*15,360)","v":258.4094566265079},{"$f":"D56+(20.04*COS(RADIANS(C56*15))*(OBSERVATIONS!$U$35-36526)/365)/3600","v":-16.740821906275276},{"$f":"-17.3*SIN(RADIANS(125-0.05295*(OBSERVATIONS!$U$35-2451545)))-1.4*SIN(RADIANS(200+1.97129*(OBSERVATIONS!$U$35-2451545)))","v":-15.507213434549312},{"$f":"9.4*COS(RADIANS(125-0.05295*(OBSERVATIONS!$U$35-2451545)))+0.7*COS(RADIANS(200+1.97129*(OBSERVATIONS!$U$35-2451545)))","v":-2.1041300782981658},258.41061342836502,-16.740555114194482,null,null,null,null,"Rasalhague",0,null,null,null,null,null,null,null,null,{"$f":"MOD(V$4+OBSERVATIONS!$AO$13+I49,360)","v":88.114133780694601},88.114133780694601,12.547263213096711,0,{"$f":"ABS(TAN(RADIANS(ABS(OBSERVATIONS!$AO$12)))/TAN(RADIANS(ABS(Z56))))","v":4.8039912111067617E-2},{"$f":"IF(AB56=0,IF(OBSERVATIONS!$AY$35=\"N\",-AC56,AC56),IF(OBSERVATIONS!$AY$35=\"N\",AC56,-AC56))","v":-4.8039912111067617E-2},0.22268087428672564,0.17464096217565803,{"$f":"ABS(DEGREES(ATAN(1/(COS(RADIANS(ABS(OBSERVATIONS!$AO$12)))*AF56))))","v":84.361266052500312},275.6387339474997,{"$f":"AA56-OBSERVATIONS!$AO$12","v":-43.026070120236618},{"$f":"DEGREES(ASIN(SIN(RADIANS(OBSERVATIONS!$AO$12))*SIN(RADIANS(AA56))+COS(RADIANS(OBSERVATIONS!$AO$12))*COS(RADIANS(AA56))*COS(RADIANS(Y56))))","v":11.382336798467955},11.382336798467955,"Rasalhague",275.6387339474997,11.382336798467955]
[null,"Spica",{"$f":"(13+25/60+11/3600)","v":13.419722222222221},{"$f":"-11-9.5/60","v":-11.158333333333333},{"$f":"MOD(360-(C57+((3.075+1.336*SIN(RADIANS(C57))*TAN(RADIANS(D57)))*(OBSERVATIONS!$U$35-36526)/365)/3600)*15,360)","v":158.40667035746492},{"$f":"D57+(20.04*COS(RADIANS(C57*15))*(OBSERVATIONS!$U$35-36526)/365)/3600","v":-11.281205107624279},{"$f":"-17.3*SIN(RADIANS(125-0.05295*(OBSERVATIONS!$U$35-2451545)))-1.4*SIN(RADIANS(200+1.97129*(OBSERVATIONS!$U$35-2451545)))","v":-15.507213434549312},{"$f":"9.4*COS(RADIANS(125-0.05295*(OBSERVATIONS!$U$35-2451545)))+0.7*COS(RADIANS(200+1.97129*(OBSERVATIONS!$U$35-2451545)))","v":-2.1041300782981658},158.40812732132784,-11.279744213427879,null,null,null,null,"Regulus",0,null,null,null,null,null,null,null,null,{"$f":"MOD(V$4+OBSERVATIONS!$AO$13+I50,360)","v":199.75187865549958},160.24812134450042,11.851538980874237,1,{"$f":"ABS(TAN(RADIANS(ABS(OBSERVATIONS!$AO$12)))/TAN(RADIANS(ABS(Z57))))","v":4.0632494210819692},{"$f":"IF(AB57=0,IF(OBSERVATIONS!$AY$35=\"N\",-AC57,AC57),IF(OBSERVATIONS!$AY$35=\"N\",AC57,-AC57))","v":4.0632494210819692},0.62095383544647664,4.6842032565284457,{"$f":"ABS(DEGREES(ATAN(1/(COS(RADIANS(ABS(OBSERVATIONS!$AO$12)))*AF57))))","v":20.68715306978411},20.68715306978411,{"$f":"AA57-OBSERVATIONS!$AO$12","v":-43.721794352459092},{"$f":"DEGREES(ASIN(SIN(RADIANS(OBSERVATIONS!$AO$12))*SIN(RADIANS(AA57))+COS(RADIANS(OBSERVATIONS!$AO$12))*COS(RADIANS(AA57))*COS(RADIANS(Y57))))","v":-20.569365401855176},-20.569365401855176,"Regulus",20.68715306978411,-20.569365401855176]
[null,"Suhail",{"$f":"(9+8/60+1/3600)","v":9.1336111111111098},{"$f":"-43-25.8/60","v":-43.43},{"$f":"MOD(360-(C58+((3.075+1.336*SIN(RADIANS(C58))*TAN(RADIANS(D58)))*(OBSERVATIONS!$U$35-36526)/365)/3600)*15,360)","v":222.71211676627735},{"$f":"D58+(20.04*COS(RADIANS(C58*15))*(OBSERVATIONS!$U$35-36526)/365)/3600","v":-43.526454995268814},{"$f":"-17.3*SIN(RADIANS(125-0.05295*(OBSERVATIONS!$U$35-2451545)))-1.4*SIN(RADIANS(200+1.97129*(OBSERVATIONS!$U$35-2451545)))","v":-15.507213434549312},{"$f":"9.4*COS(RADIANS(125-0.05295*(OBSERVATIONS!$U$35-2451545)))+0.7*COS(RADIANS(200+1.97129*(OBSERVATIONS!$U$35-2451545)))","v":-2.1041300782981658},222.71409482000726,-43.525294480141085,null,null,null,null,"Rigel",0,null,null,null,null,null,null,null,null,{"$f":"MOD(V$4+OBSERVATIONS!$AO$13+I51,360)","v":273.21404719816815},86.785952801831854,-8.1794092340327573,0,{"$f":"ABS(TAN(RADIANS(ABS(OBSERVATIONS!$AO$12)))/TAN(RADIANS(ABS(Z58))))","v":8.1929927382099574E-2},{"$f":"IF(AB58=0,IF(OBSERVATIONS!$AY$35=\"N\",-AC58,AC58),IF(OBSERVATIONS!$AY$35=\"N\",AC58,-AC58))","v":-8.1929927382099574E-2},-0.14396182602172694,-0.2258917534038265,{"$f":"ABS(DEGREES(ATAN(1/(COS(RADIANS(ABS(OBSERVATIONS!$AO$12)))*AF58))))","v":82.722258131959123},97.277741868040877,{"$f":"AA58-OBSERVATIONS!$AO$12","v":-63.752742567366084},{"$f":"DEGREES(ASIN(SIN(RADIANS(OBSERVATIONS!$AO$12))*SIN(RADIANS(AA58))+COS(RADIANS(OBSERVATIONS!$AO$12))*COS(RADIANS(AA58))*COS(RADIANS(Y58))))","v":-4.9323489925177313},-4.9323489925177313,"Rigel",97.277741868040877,-4.9323489925177313]
[null,"Vega",{"$f":"(18+36/60+54/3600)","v":18.615000000000002},{"$f":"38+47/60","v":38.783333333333331},{"$f":"MOD(360-(C59+((3.075+1.336*SIN(RADIANS(C59))*TAN(RADIANS(D59)))*(OBSERVATIONS!$U$35-36526)/365)/3600)*15,360)","v":80.437640715932105},{"$f":"D59+(20.04*COS(RADIANS(C59*15))*(OBSERVATIONS!$U$35-36526)/365)/3600","v":38.804474723945056},{"$f":"-17.3*SIN(RADIANS(125-0.05295*(OBSERVATIONS!$U$35-2451545)))-1.4*SIN(RADIANS(200+1.97129*(OBSERVATIONS!$U$35-2451545)))","v":-15.507213434549312},{"$f":"9.4*COS(RADIANS(125-0.05295*(OBSERVATIONS!$U$35-2451545)))+0.7*COS(RADIANS(200+1.97129*(OBSERVATIONS!$U$35-2451545)))","v":-2.1041300782981658},80.439169111016483,38.804013451430862,null,null,null,null,"Rigil Kent",0,null,null,null,null,null,null,null,null,{"$f":"MOD(V$4+OBSERVATIONS!$AO$13+I52,360)","v":132.00687647863708},132.00687647863708,-60.92999842692123,1,{"$f":"ABS(TAN(RADIANS(ABS(OBSERVATIONS!$AO$12)))/TAN(RADIANS(ABS(Z59))))","v":1.3140120184416397},{"$f":"IF(AB59=0,IF(OBSERVATIONS!$AY$35=\"N\",-AC59,AC59),IF(OBSERVATIONS!$AY$35=\"N\",AC59,-AC59))","v":1.3140120184416397},-2.4208680084689216,-1.1068559900272819,{"$f":"ABS(DEGREES(ATAN(1/(COS(RADIANS(ABS(OBSERVATIONS!$AO$12)))*AF59))))","v":57.963227715457833},237.96322771545783,{"$f":"AA59-OBSERVATIONS!$AO$12","v":-116.50333176025455},{"$f":"DEGREES(ASIN(SIN(RADIANS(OBSERVATIONS!$AO$12))*SIN(RADIANS(AA59))+COS(RADIANS(OBSERVATIONS!$AO$12))*COS(RADIANS(AA59))*COS(RADIANS(Y59))))","v":-64.792370147079936},-64.792370147079936,"Rigil Kent",237.96322771545783,-64.792370147079936]
[null,"Zuben'ubi",{"$f":"(14+50/60+51/3600)","v":14.8475},{"$f":"-16-2.3/60","v":-16.038333333333334},{"$f":"MOD(360-(C60+((3.075+1.336*SIN(RADIANS(C60))*TAN(RADIANS(D60)))*(OBSERVATIONS!$U$35-36526)/365)/3600)*15,360)","v":136.99368107321308},{"$f":"D60+(20.04*COS(RADIANS(C60*15))*(OBSERVATIONS!$U$35-36526)/365)/3600","v":-16.135231873219926},{"$f":"-17.3*SIN(RADIANS(125-0.05295*(OBSERVATIONS!$U$35-2451545)))-1.4*SIN(RADIANS(200+1.97129*(OBSERVATIONS!$U$35-2451545)))","v":-15.507213434549312},{"$f":"9.4*COS(RADIANS(125-0.05295*(OBSERVATIONS!$U$35-2451545)))+0.7*COS(RADIANS(200+1.97129*(OBSERVATIONS!$U$35-2451545)))","v":-2.1041300782981658},136.99559981832488,-16.134122587519485,null,null,null,null,"Sabik",0,null,null,null,null,null,null,null,null,{"$f":"MOD(V$4+OBSERVATIONS!$AO$13+I53,360)","v":94.278787367538769},94.278787367538769,-15.751493486961538,1,{"$f":"ABS(TAN(RADIANS(ABS(OBSERVATIONS!$AO$12)))/TAN(RADIANS(ABS(Z60))))","v":0.10916000622894444},{"$f":"IF(AB60=0,IF(OBSERVATIONS!$AY$35=\"N\",-AC60,AC60),IF(OBSERVATIONS!$AY$35=\"N\",AC60,-AC60))","v":0.10916000622894444},-0.28284564853638028,-0.17368564230743583,{"$f":"ABS(DEGREES(ATAN(1/(COS(RADIANS(ABS(OBSERVATIONS!$AO$12)))*AF60))))","v":84.391913855649719},264.3919138556497,{"$f":"AA60-OBSERVATIONS!$AO$12","v":-71.324826820294874},{"$f":"DEGREES(ASIN(SIN(RADIANS(OBSERVATIONS!$AO$12))*SIN(RADIANS(AA60))+COS(RADIANS(OBSERVATIONS!$AO$12))*COS(RADIANS(AA60))*COS(RADIANS(Y60))))","v":-15.338141227120223},-15.338141227120223,"Sabik",264.3919138556497,-15.338141227120223]
[null,null,null,null,null,null,null,null,null,null,null,null,null,null,"Saturnus",1,{"$f":"IK4","v":9.528253186090808},{"$f":"IK5","v":11.091236625526932},{"$f":"IK6","v":22.064927280261941},{"$f":"IJ4","v":-11.98060166028122},{"$f":"IJ5","v":-13.225747299894016},{"$f":"IJ6","v":-11.981560270156928},null,null,{"$f":"MOD(Q61+OBSERVATIONS!$AO$13,360)","v":16.311586519424139},16.311586519424139,{"$f":"T61","v":-11.98060166028122},0,{"$f":"ABS(TAN(RADIANS(ABS(OBSERVATIONS!$AO$12)))/TAN(RADIANS(ABS(Z61))))","v":4.9856685804085572},{"$f":"IF(AB61=0,IF(OBSERVATIONS!$AY$35=\"N\",-AC61,AC61),IF(OBSERVATIONS!$AY$35=\"N\",AC61,-AC61))","v":-4.9856685804085572},-0.75554412513920743,-5.7412127055477651,{"$f":"ABS(DEGREES(ATAN(1/(COS(RADIANS(ABS(OBSERVATIONS!$AO$12)))*AF61))))","v":17.123565088954447},197.12356508895445,{"$f":"AA61-OBSERVATIONS!$AO$12","v":-67.553934993614547},{"$f":"DEGREES(ASIN(SIN(RADIANS(OBSERVATIONS!$AO$12))*SIN(RADIANS(AA61))+COS(RADIANS(OBSERVATIONS!$AO$12))*COS(RADIANS(AA61))*COS(RADIANS(Y61))))","v":21.072749016255333},21.072749016255333,"Saturnus",197.12356508895445,21.072749016255333]
[null,null,null,null,null,null,null,null,null,null,null,null,null,null,"Schedar",0,null,null,null,null,null,null,null,null,{"$f":"MOD(V$4+OBSERVATIONS!$AO$13+I54,360)","v":341.72255651074397},18.277443489256029,{"$f":"J54","v":56.66812910256084},0,{"$f":"ABS(TAN(RADIANS(ABS(OBSERVATIONS!$AO$12)))/TAN(RADIANS(ABS(Z62))))","v":4.4174595427736945},{"$f":"IF(AB62=0,IF(OBSERVATIONS!$AY$35=\"N\",-AC62,AC62),IF(OBSERVATIONS!$AY$35=\"N\",AC62,-AC62))","v":-4.4174595427736945},4.8482787424559453,0.4308191996822508,{"$f":"ABS(DEGREES(ATAN(1/(COS(RADIANS(ABS(OBSERVATIONS!$AO$12)))*AF62))))","v":76.311339994217619},76.311339994217619,{"$f":"AA62-OBSERVATIONS!$AO$12","v":1.0947957692275097},{"$f":"DEGREES(ASIN(SIN(RADIANS(OBSERVATIONS!$AO$12))*SIN(RADIANS(AA62))+COS(RADIANS(OBSERVATIONS!$AO$12))*COS(RADIANS(AA62))*COS(RADIANS(Y62))))","v":79.783536669525063},79.783536669525063,"Schedar",76.311339994217619,79.783536669525063]
[null,null,null,null,null,null,null,null,null,null,null,null,null,null,"Shaula",0,null,null,null,null,null,null,null,null,{"$f":"MOD(V$4+OBSERVATIONS!$AO$13+I55,360)","v":88.487401865924767},88.487401865924767,{"$f":"J55","v":-37.116822380250596},0,{"$f":"ABS(TAN(RADIANS(ABS(OBSERVATIONS!$AO$12)))/TAN(RADIANS(ABS(Z63))))","v":3.8526443536125984E-2},{"$f":"IF(AB63=0,IF(OBSERVATIONS!$AY$35=\"N\",-AC63,AC63),IF(OBSERVATIONS!$AY$35=\"N\",AC63,-AC63))","v":-3.8526443536125984E-2},-0.75701949258683443,-0.79554593612296043,{"$f":"ABS(DEGREES(ATAN(1/(COS(RADIANS(ABS(OBSERVATIONS!$AO$12)))*AF63))))","v":65.783564054904176},245.78356405490416,{"$f":"AA63-OBSERVATIONS!$AO$12","v":-92.69015571358392},{"$f":"DEGREES(ASIN(SIN(RADIANS(OBSERVATIONS!$AO$12))*SIN(RADIANS(AA63))+COS(RADIANS(OBSERVATIONS!$AO$12))*COS(RADIANS(AA63))*COS(RADIANS(Y63))))","v":-29.068143138814275},-29.068143138814275,"Shaula",245.78356405490416,-29.068143138814275]
[null,null,null,null,null,null,null,null,null,null,null,null,null,null,"Sirius",0,null,null,null,null,null,null,null,null,{"$f":"MOD(V$4+OBSERVATIONS!$AO$13+I56,360)","v":250.56338139115314},109.43661860884686,{"$f":"J56","v":-16.740555114194482},1,{"$f":"ABS(TAN(RADIANS(ABS(OBSERVATIONS!$AO$12)))/TAN(RADIANS(ABS(Z64))))","v":0.51484547239770895},{"$f":"IF(AB64=0,IF(OBSERVATIONS!$AY$35=\"N\",-AC64,AC64),IF(OBSERVATIONS!$AY$35=\"N\",AC64,-AC64))","v":0.51484547239770895},-0.31896376057844694,0.19588171181926201,{"$f":"ABS(DEGREES(ATAN(1/(COS(RADIANS(ABS(OBSERVATIONS!$AO$12)))*AF64))))","v":83.680704494512611},83.680704494512611,{"$f":"AA64-OBSERVATIONS!$AO$12","v":-72.313888447527816},{"$f":"DEGREES(ASIN(SIN(RADIANS(OBSERVATIONS!$AO$12))*SIN(RADIANS(AA64))+COS(RADIANS(OBSERVATIONS!$AO$12))*COS(RADIANS(AA64))*COS(RADIANS(Y64))))","v":-24.692232853216364},-24.692232853216364,"Sirius",83.680704494512611,-24.692232853216364]
[null,null,null,null,null,null,null,null,null,null,null,null,null,null,"Spica",0,null,null,null,null,null,null,null,null,{"$f":"MOD(V$4+OBSERVATIONS!$AO$13+I57,360)","v":150.56089528411599},150.56089528411599,{"$f":"J57","v":-11.279744213427879},1,{"$f":"ABS(TAN(RADIANS(ABS(OBSERVATIONS!$AO$12)))/TAN(RADIANS(ABS(Z65))))","v":2.5851914356545294},{"$f":"IF(AB65=0,IF(OBSERVATIONS!$AY$35=\"N\",-AC65,AC65),IF(OBSERVATIONS!$AY$35=\"N\",AC65,-AC65))","v":2.5851914356545294},-0.40580429045758021,2.1793871451969493,{"$f":"ABS(DEGREES(ATAN(1/(COS(RADIANS(ABS(OBSERVATIONS!$AO$12)))*AF65))))","v":39.063135120625248},320.93686487937475,{"$f":"AA65-OBSERVATIONS!$AO$12","v":-66.853077546761213},{"$f":"DEGREES(ASIN(SIN(RADIANS(OBSERVATIONS!$AO$12))*SIN(RADIANS(AA65))+COS(RADIANS(OBSERVATIONS!$AO$12))*COS(RADIANS(AA65))*COS(RADIANS(Y65))))","v":-40.104372560541002},-40.104372560541002,"Spica",320.93686487937475,-40.104372560541002]
[null,null,null,null,null,null,null,null,null,null,null,null,null,null,"Suhail",0,null,null,null,null,null,null,null,null,{"$f":"MOD(V$4+OBSERVATIONS!$AO$13+I58,360)","v":214.86686278279547},145.13313721720453,{"$f":"J58","v":-43.525294480141085},1,{"$f":"ABS(TAN(RADIANS(ABS(OBSERVATIONS!$AO$12)))/TAN(RADIANS(ABS(Z66))))","v":2.0940159396291977},{"$f":"IF(AB66=0,IF(OBSERVATIONS!$AY$35=\"N\",-AC66,AC66),IF(OBSERVATIONS!$AY$35=\"N\",AC66,-AC66))","v":2.0940159396291977},-1.661450763957429,0.43256517567176878,{"$f":"ABS(DEGREES(ATAN(1/(COS(RADIANS(ABS(OBSERVATIONS!$AO$12)))*AF66))))","v":76.25796328759445},76.25796328759445,{"$f":"AA66-OBSERVATIONS!$AO$12","v":-99.098627813474423},{"$f":"DEGREES(ASIN(SIN(RADIANS(OBSERVATIONS!$AO$12))*SIN(RADIANS(AA66))+COS(RADIANS(OBSERVATIONS!$AO$12))*COS(RADIANS(AA66))*COS(RADIANS(Y66))))","v":-64.740621980543864},-64.740621980543864,"Suhail",76.25796328759445,-64.740621980543864]
[null,null,null,null,null,null,null,null,null,null,null,null,null,null,"Vega",0,null,null,null,null,null,null,null,null,{"$f":"MOD(V$4+OBSERVATIONS!$AO$13+I59,360)","v":72.591937073804672},72.591937073804672,{"$f":"J59","v":38.804013451430862},0,{"$f":"ABS(TAN(RADIANS(ABS(OBSERVATIONS!$AO$12)))/TAN(RADIANS(ABS(Z67))))","v":0.45745026125336813},{"$f":"IF(AB67=0,IF(OBSERVATIONS!$AY$35=\"N\",-AC67,AC67),IF(OBSERVATIONS!$AY$35=\"N\",AC67,-AC67))","v":-0.45745026125336813},0.84273471545850287,0.38528445420513474,{"$f":"ABS(DEGREES(ATAN(1/(COS(RADIANS(ABS(OBSERVATIONS!$AO$12)))*AF67))))","v":77.711722962237673},282.28827703776233,{"$f":"AA67-OBSERVATIONS!$AO$12","v":-16.769319881902469},{"$f":"DEGREES(ASIN(SIN(RADIANS(OBSERVATIONS!$AO$12))*SIN(RADIANS(AA67))+COS(RADIANS(OBSERVATIONS!$AO$12))*COS(RADIANS(AA67))*COS(RADIANS(Y67))))","v":40.444293423819246},40.444293423819246,"Vega",282.28827703776233,40.444293423819246]
[null,null,null,null,null,null,null,null,null,null,null,null,null,null,"Venus",1,{"$f":"FQ4","v":212.68585441274072},{"$f":"FQ5","v":35.940506147044914},{"$f":"FQ6","v":225.21886077948054},{"$f":"FP4","v":10.38085637100431},{"$f":"FP5","v":-21.095035549552151},{"$f":"FP6","v":10.385225795881835},null,null,{"$f":"MOD(Q68+OBSERVATIONS!$AO$13,360)","v":219.46918774607406},140.53081225392594,{"$f":"T68","v":10.38085637100431},1,{"$f":"ABS(TAN(RADIANS(ABS(OBSERVATIONS!$AO$12)))/TAN(RADIANS(ABS(Z68))))","v":1.7718563538615684},{"$f":"IF(AB68=0,IF(OBSERVATIONS!$AY$35=\"N\",-AC68,AC68),IF(OBSERVATIONS!$AY$35=\"N\",AC68,-AC68))","v":1.7718563538615684},0.28818563186248414,2.0600419857240526,{"$f":"ABS(DEGREES(ATAN(1/(COS(RADIANS(ABS(OBSERVATIONS!$AO$12)))*AF68))))","v":40.650360300244309},40.650360300244309,{"$f":"AA68-OBSERVATIONS!$AO$12","v":-45.192476962329025},{"$f":"DEGREES(ASIN(SIN(RADIANS(OBSERVATIONS!$AO$12))*SIN(RADIANS(AA68))+COS(RADIANS(OBSERVATIONS!$AO$12))*COS(RADIANS(AA68))*COS(RADIANS(Y68))))","v":-16.299490364570335},-16.299490364570335,"Venus",40.650360300244309,-16.299490364570335]
[null,null,null,null,null,null,null,null,null,null,null,null,null,null,"Zuben'ubi",0,null,null,null,null,null,null,null,null,{"$f":"MOD(V$4+OBSERVATIONS!$AO$13+I60,360)","v":129.14836778111305},129.14836778111305,{"$f":"J60","v":-16.134122587519485},1,{"$f":"ABS(TAN(RADIANS(ABS(OBSERVATIONS!$AO$12)))/TAN(RADIANS(ABS(Z69))))","v":1.1877485317937249},{"$f":"IF(AB69=0,IF(OBSERVATIONS!$AY$35=\"N\",-AC69,AC69),IF(OBSERVATIONS!$AY$35=\"N\",AC69,-AC69))","v":1.1877485317937249},-0.37301782824784929,0.81473070354587551,{"$f":"ABS(DEGREES(ATAN(1/(COS(RADIANS(ABS(OBSERVATIONS!$AO$12)))*AF69))))","v":65.268787072188431},294.73121292781155,{"$f":"AA69-OBSERVATIONS!$AO$12","v":-71.707455920852823},{"$f":"DEGREES(ASIN(SIN(RADIANS(OBSERVATIONS!$AO$12))*SIN(RADIANS(AA69))+COS(RADIANS(OBSERVATIONS!$AO$12))*COS(RADIANS(AA69))*COS(RADIANS(Y69))))","v":-34.895442212771606},-34.895442212771606,"Zuben'ubi",294.73121292781155,-34.895442212771606]
[null,null,null,null,null,null,null,null,null,null,null,null,null,null,"Aries",null,{"$f":"V4","v":345.36943462945482},{"$f":"V5","v":342.86259003309243},{"$f":"V6","v":357.90365761494775}]

{"sheet":"OBSERVATIONS","index":1,"n_rows":71,"n_cols":65,"rows_kept":71,"cut":false,"hidden":false,"merged":[[8,1,8,5],[8,6,8,8],[8,9,8,10],[8,11,8,12],[8,15,8,20],[8,21,8,24],[9,1,9,5],[9,6,9,8],[9,9,9,10],[9,11,9,12],[10,1,10,5],[10,6,10,8],[10,9,10,10],[10,11,10,12],[11,1,11,5],[11,6,11,8],[11,9,11,10],[11,11,11,12],[12,1,12,5],[12,6,12,8],[12,9,12,10],[12,11,12,12],[12,15,12,19],[12,20,12,21],[12,22,12,23],[13,1,13,5],[13,6,13,8],[13,9,13,10],[13,11,13,12],[13,15,13,19],[13,20,13,21],[13,22,13,23],[14,1,14,5],[14,6,14,8],[14,9,14,10],[14,11,14,12],[14,15,14,19],[14,20,14,21],[14,22,14,23],[15,1,15,5],[15,6,15,8],[15,9,15,10],[15,11,15,12],[15,15,15,19],[15,20,15,21],[15,22,15,23],[16,1,16,5],[16,6,16,8],[16,9,16,10],[16,11,16,12],[16,15,16,19],[16,20,16,21],[16,22,16,23],[17,1,17,5],[17,6,17,8],[17,9,17,10],[17,11,17,12],[17,15,17,19],[17,20,17,21],[17,22,17,23],[18,1,18,5],[18,6,18,8],[18,9,18,10],[18,11,18,12],[18,15,18,19],[18,20,18,21],[18,22,18,23],[19,1,19,5],[19,6,19,8],[19,9,19,10],[19,11,19,12],[19,15,19,19],[19,20,19,21],[19,22,19,23],[20,1,20,5],[20,6,20,8],[20,9,20,10],[20,11,20,12],[20,15,20,19],[20,20,20,21],[20,22,20,23],[21,1,21,5],[21,6,21,8],[21,9,21,10],[21,11,21,12],[21,15,21,19],[21,20,21,21],[21,22,21,23],[22,1,22,5],[22,6,22,8],[22,9,22,10],[22,11,22,12],[23,1,23,5],[23,6,23,8],[23,9,23,10],[23,11,23,12],[23,15,23,19],[23,20,23,21],[23,22,23,23],[24,1,24,5],[24,6,24,8],[24,9,24,10],[24,11,24,12],[24,15,24,19],[24,20,24,21],[24,22,24,23],[25,1,25,5],[25,6,25,8],[25,9,25,10],[25,11,25,12],[25,15,25,19],[25,20,25,21],[25,22,25,23],[26,1,26,5],[26,6,26,8],[26,9,26,10],[26,11,26,12],[26,15,26,19],[26,21,26,22],[31,11,31,12],[32,1,32,5],[32,6,32,8],[32,9,32,10],[32,11,32,12],[27,1,27,5],[27,6,27,8],[27,9,27,10],[27,11,27,12],[28,1,28,5],[28,6,28,8],[28,9,28,10],[28,11,28,12],[29,1,29,5],[29,6,29,8],[29,9,29,10],[29,11,29,12],[38,1,38,5],[38,6,38,8],[38,9,38,10],[38,11,38,12],[33,1,33,5],[33,6,33,8],[33,9,33,10],[33,11,33,12],[34,1,34,5],[34,6,34,8],[34,9,34,10],[34,11,34,12],[35,1,35,5],[35,6,35,8],[35,9,35,10],[35,11,35,12],[39,1,39,5],[39,6,39,8],[39,9,39,10],[39,11,39,12],[39,15,39,26],[39,27,39,38],[39,44,39,55],[39,60,39,67],[40,1,40,5],[40,6,40,8],[40,9,40,10],[40,11,40,12],[40,15,40,18],[40,19,40,22],[40,23,40,26],[40,27,40,30],[40,31,40,34],[40,35,40,38],[40,44,40,47],[40,48,40,51],[40,52,40,55],[40,60,40,63],[40,64,40,67],[41,1,41,5],[41,6,41,8],[41,9,41,10],[41,11,41,12],[42,1,42,5],[42,6,42,8],[42,9,42,10],[42,11,42,12],[43,1,43,5],[43,6,43,8],[43,9,43,10],[43,11,43,12],[44,1,44,5],[44,6,44,8],[44,9,44,10],[44,11,44,12],[45,1,45,5],[45,6,45,8],[45,9,45,10],[45,11,45,12],[46,1,46,5],[46,6,46,8],[46,9,46,10],[46,11,46,12],[47,1,47,5],[47,6,47,8],[47,9,47,10],[47,11,47,12],[48,1,48,5],[48,6,48,8],[48,9,48,10],[48,11,48,12],[49,1,49,5],[49,6,49,8],[49,9,49,10],[49,11,49,12],[50,1,50,5],[50,6,50,8],[50,9,50,10],[50,11,50,12],[51,1,51,5],[51,6,51,8],[51,9,51,10],[51,11,51,12],[52,1,52,5],[52,6,52,8],[52,9,52,10],[52,11,52,12],[53,1,53,5],[53,6,53,8],[53,9,53,10],[53,11,53,12],[54,1,54,5],[54,6,54,8],[54,9,54,10],[54,11,54,12],[55,1,55,5],[55,6,55,8],[55,9,55,10],[55,11,55,12],[56,1,56,5],[56,6,56,8],[56,9,56,10],[56,11,56,12],[57,1,57,5],[57,6,57,8],[57,9,57,10],[57,11,57,12],[58,1,58,5],[58,6,58,8],[58,9,58,10],[58,11,58,12],[59,1,59,5],[59,6,59,8],[59,9,59,10],[59,11,59,12],[60,1,60,5],[60,6,60,8],[60,9,60,10],[60,11,60,12],[61,1,61,5],[61,6,61,8],[61,9,61,10],[61,11,61,12],[62,1,62,5],[62,6,62,8],[62,9,62,10],[62,11,62,12],[63,1,63,5],[63,6,63,8],[63,9,63,10],[63,11,63,12],[64,1,64,5],[64,6,64,8],[64,9,64,10],[64,11,64,12],[65,1,65,5],[65,6,65,8],[65,9,65,10],[65,11,65,12],[66,1,66,5],[66,6,66,8],[66,9,66,10],[66,11,66,12],[67,1,67,5],[67,6,67,8],[67,9,67,10],[67,11,67,12],[68,1,68,5],[68,6,68,8],[68,9,68,10],[68,11,68,12],[69,1,69,5],[69,6,69,8],[69,9,69,10],[69,11,69,12],[70,1,70,5],[70,6,70,8],[70,9,70,10],[70,11,70,12],[41,44,42,47],[41,48,42,51],[41,52,42,55],[41,56,42,59],[41,60,42,63],[41,64,42,67],[39,56,40,59],[41,15,42,18],[41,19,42,22],[41,23,42,26],[41,27,42,30],[41,31,42,34],[41,35,42,38],[41,39,42,43],[39,39,40,43],[34,50,35,51],[36,50,37,51],[34,44,35,46],[34,47,35,49],[36,20,37,22],[36,23,37,25],[36,26,37,28],[36,44,37,46],[36,47,37,49],[34,39,35,43],[36,39,37,43],[34,20,35,28],[6,15,7,19],[6,20,7,24],[36,15,37,19],[9,15,10,19],[9,20,10,24],[6,9,7,12],[6,1,7,5],[6,6,7,8],[34,15,35,19],[36,1,36,5],[36,6,36,8],[36,9,36,10],[36,11,36,12],[37,1,37,5],[37,6,37,8],[37,9,37,10],[37,11,37,12],[30,1,30,5],[30,6,30,8],[30,9,30,10],[30,11,30,12],[31,1,31,5],[31,6,31,8],[31,9,31,10]]}
[0]
[]
[]
[]
[]
[]
[null,"OBJECTS",null,null,null,null,"/v",null,null,"Height",null,null,null,null,null,"Azimuth: ",null,null,null,null,{"$f":"AN42","v":"Altair"}]
[null,null,null,null,null,null,null,null,null,null,null,null,null,null,null,null,null,null,null,null,null,null,null,null,null,null,null,null,null,null,{"$f":"DEGREES(ASIN(SIN(RADIANS(AO12))*SIN(RADIANS(AC22))+COS(RADIANS(AO12))*COS(RADIANS(AC22))*COS(RADIANS(AD19))))","v":27.070343611495765}]
[null,"Sun",null,null,null,null,{"$f":"IF('TABLE (observations)'!AK7<0,\"\",'TABLE (observations)'!AH7)","v":""},null,null,{"$f":"IF('TABLE (observations)'!AK7<0,\"\",INT(ABS('TABLE (observations)'!AK7)))","v":""},null,{"$f":"IF('TABLE (observations)'!AK7<0,\"\",('TABLE (observations)'!AK7-J9)*60)","v":""},null,null,null,{"$f":"IF(AC9<0,-INT(ABS(AC9)),INT(ABS(AC9)))","v":27},null,null,null,null,null,{"$f":"(ABS(AC9)-ABS(P9))*60","v":4.2206166897459241},null,null,null,null,null,null,{"$f":"VLOOKUP(U7,'TABLE (observations)'!AL7:AN69,3,FALSE)","v":27.070343611495765}]
[null,"Moon",null,null,null,null,{"$f":"IF('TABLE (observations)'!AK8<0,\"\",'TABLE (observations)'!AH8)","v":126.70798311160215},null,null,{"$f":"IF('TABLE (observations)'!AK8<0,\"\",INT(ABS('TABLE (observations)'!AK8)))","v":38},null,{"$f":"IF('TABLE (observations)'!AK8<0,\"\",('TABLE (observations)'!AK8-J10)*60)","v":8.2419455472060577},null,null,null,"Your bearing",null,null,null,null,{"$f":"AF42","v":245}]
[null,"Acamar",null,null,null,null,{"$f":"IF('TABLE (observations)'!AK9<0,\"\",'TABLE (observations)'!AH9)","v":""},null,null,{"$f":"IF('TABLE (observations)'!AK9<0,\"\",INT(ABS('TABLE (observations)'!AK9)))","v":""},null,{"$f":"IF('TABLE (observations)'!AK9<0,\"\",('TABLE (observations)'!AK9-J11)*60)","v":""}]
[null,"Achernar",null,null,null,null,{"$f":"IF('TABLE (observations)'!AK10<0,\"\",'TABLE (observations)'!AH10)","v":""},null,null,{"$f":"IF('TABLE (observations)'!AK10<0,\"\",INT(ABS('TABLE (observations)'!AK10)))","v":""},null,{"$f":"IF('TABLE (observations)'!AK10<0,\"\",('TABLE (observations)'!AK10-J12)*60)","v":""},null,null,null,null,null,null,null,null,null,null,null,null,null,null,null,null,null,null,null,null,null,null,null,null,null,null,null,null,{"$f":"IF(AY35=\"S\",-AS35-AV35/60,AS35+AV35/60)","v":55.573333333333331}]
[null,"Acrux",null,null,null,null,{"$f":"IF('TABLE (observations)'!AK11<0,\"\",'TABLE (observations)'!AH11)","v":""},null,null,{"$f":"IF('TABLE (observations)'!AK11<0,\"\",INT(ABS('TABLE (observations)'!AK11)))","v":""},null,{"$f":"IF('TABLE (observations)'!AK11<0,\"\",('TABLE (observations)'!AK11-J13)*60)","v":""},null,null,null,{"$f":"IF('TABLE (observations)'!K7=1,\"GHA\",\"GHA Aries\")","v":"GHA Aries"},null,null,null,null,{"$f":"INT(AC14)","v":342},null,{"$f":"(AC14-U13)*60","v":51.755401985545859},null,null,null,null,null,null,null,null,null,null,null,null,null,null,null,null,null,{"$f":"IF(AY37=\"W\",-AS37-AV37/60,AS37+AV37/60)","v":6.7833333333333332}]
[null,"Adhara",null,null,null,null,{"$f":"IF('TABLE (observations)'!AK12<0,\"\",'TABLE (observations)'!AH12)","v":""},null,null,{"$f":"IF('TABLE (observations)'!AK12<0,\"\",INT(ABS('TABLE (observations)'!AK12)))","v":""},null,{"$f":"IF('TABLE (observations)'!AK12<0,\"\",('TABLE (observations)'!AK12-J14)*60)","v":""},null,null,null,"Incr.",null,null,null,null,{"$f":"INT(AC15)","v":2},null,{"$f":"(AC15-U14)*60","v":30.410675781743066},null,null,null,null,null,{"$f":"IF('TABLE (observations)'!K7=1,VLOOKUP(U7,'TABLE (observations)'!O7:S69,4,FALSE),'TABLE (observations)'!R70)","v":342.86259003309243}]
[null,"Aldebaran",null,null,null,null,{"$f":"IF('TABLE (observations)'!AK13<0,\"\",'TABLE (observations)'!AH13)","v":90.91478844785847},null,null,{"$f":"IF('TABLE (observations)'!AK13<0,\"\",INT(ABS('TABLE (observations)'!AK13)))","v":20},null,{"$f":"IF('TABLE (observations)'!AK13<0,\"\",('TABLE (observations)'!AK13-J15)*60)","v":50.054634099025037},null,null,null,{"$f":"IF('TABLE (observations)'!K7=1,\"GHA\",\"GHA Aries\")","v":"GHA Aries"},null,null,null,null,{"$f":"INT(AC16)","v":345},null,{"$f":"(AC16-U15)*60","v":22.166077767288925},null,null,null,null,null,{"$f":"AC16-AC14","v":2.5068445963623844},null,null,null,null,{"$f":"(U37+X37/60+AA37/3600)/24+U35","v":"2023-09-04T00:10:00"},{"$f":"AH15+5/24/60","v":"2023-09-04T00:15:00"}]
[null,"Alioth",null,null,null,null,{"$f":"IF('TABLE (observations)'!AK14<0,\"\",'TABLE (observations)'!AH14)","v":346.98570147803338},null,null,{"$f":"IF('TABLE (observations)'!AK14<0,\"\",INT(ABS('TABLE (observations)'!AK14)))","v":22},null,{"$f":"IF('TABLE (observations)'!AK14<0,\"\",('TABLE (observations)'!AK14-J16)*60)","v":47.64063013251878},null,null,null,"g",null,null,null,null,{"$f":"AS37","v":6},null,{"$f":"AV37","v":47},null,{"$f":"AY37","v":"E"},null,null,null,{"$f":"IF('TABLE (observations)'!K7=1,VLOOKUP(U7,'TABLE (observations)'!O7:S69,3,FALSE),'TABLE (observations)'!Q70)","v":345.36943462945482}]
[null,"Alkaid",null,null,null,null,{"$f":"IF('TABLE (observations)'!AK15<0,\"\",'TABLE (observations)'!AH15)","v":336.63741553136248},null,null,{"$f":"IF('TABLE (observations)'!AK15<0,\"\",INT(ABS('TABLE (observations)'!AK15)))","v":18},null,{"$f":"IF('TABLE (observations)'!AK15<0,\"\",('TABLE (observations)'!AK15-J17)*60)","v":46.94099736410962},null,null,null,{"$f":"IF('TABLE (observations)'!K7=1,\"LHA\",\"LHA Aries\")","v":"LHA Aries"},null,null,null,null,{"$f":"INT(AC18)","v":352},null,{"$f":"(AC18-U17)*60","v":9.1660777672905169},null,null,null,null,null,{"$f":"AO13","v":6.7833333333333332},null,null,null,null,{"$f":"HOUR(AI15)","v":0},{"$f":"MINUTE(AI15)","v":"1900-01-15"},{"$f":"SECOND(AI15)","v":0}]
[null,"Al Na'ir",null,null,null,null,{"$f":"IF('TABLE (observations)'!AK16<0,\"\",'TABLE (observations)'!AH16)","v":""},null,null,{"$f":"IF('TABLE (observations)'!AK16<0,\"\",INT(ABS('TABLE (observations)'!AK16)))","v":""},null,{"$f":"IF('TABLE (observations)'!AK16<0,\"\",('TABLE (observations)'!AK16-J18)*60)","v":""},null,null,null,{"$f":"IF('TABLE (observations)'!K7=1,\"\",\"SHA\")","v":"SHA"},null,null,null,null,{"$f":"IF('TABLE (observations)'!K7=1,\"\",INT(AC19))","v":62},null,{"$f":"IF('TABLE (observations)'!K7=1,\"\",(AC19-U18)*60)","v":6.2182288338590297E-2},null,null,null,null,null,{"$f":"MOD(AC16+AC17,360)","v":352.15276796278818}]
[null,"Alnilam",null,null,null,null,{"$f":"IF('TABLE (observations)'!AK17<0,\"\",'TABLE (observations)'!AH17)","v":""},null,null,{"$f":"IF('TABLE (observations)'!AK17<0,\"\",INT(ABS('TABLE (observations)'!AK17)))","v":""},null,{"$f":"IF('TABLE (observations)'!AK17<0,\"\",('TABLE (observations)'!AK17-J19)*60)","v":""},null,null,null,"P",null,null,null,null,{"$f":"INT(AC20)","v":54},null,{"$f":"(AC20-U19)*60","v":9.2282600556291072},null,{"$f":"IF(MOD(AC18+AC19,360)>180,\"E\",\"W\")","v":"W"},null,null,null,{"$f":"IF('TABLE (observations)'!K7=1,0,VLOOKUP(U7,'TABLE (observations)'!B4:I60,8,FALSE))","v":62.00103637147231},{"$f":"MOD(AC18+AC19,360)","v":54.153804334260485}]
[null,"Alphard",null,null,null,null,{"$f":"IF('TABLE (observations)'!AK18<0,\"\",'TABLE (observations)'!AH18)","v":""},null,null,{"$f":"IF('TABLE (observations)'!AK18<0,\"\",INT(ABS('TABLE (observations)'!AK18)))","v":""},null,{"$f":"IF('TABLE (observations)'!AK18<0,\"\",('TABLE (observations)'!AK18-J20)*60)","v":""},null,null,null,"decl.",null,null,null,null,{"$f":"INT(ABS(AC22))","v":8},null,{"$f":"(ABS(AC22)-U20)*60","v":55.716901991459089},null,{"$f":"IF(AC22<0,\"S\",\"N\")","v":"N"},null,null,null,{"$f":"IF(AD19>180,360-AD19,AD19)","v":54.153804334260485}]
[null,"Alphecca",null,null,null,null,{"$f":"IF('TABLE (observations)'!AK19<0,\"\",'TABLE (observations)'!AH19)","v":307.35612400172761},null,null,{"$f":"IF('TABLE (observations)'!AK19<0,\"\",INT(ABS('TABLE (observations)'!AK19)))","v":7},null,{"$f":"IF('TABLE (observations)'!AK19<0,\"\",('TABLE (observations)'!AK19-J21)*60)","v":32.585407570145861},null,null,null,"d",null,null,null,null,{"$f":"INT(ABS(AC23))","v":0},null,{"$f":"(ABS(AC23)-U21)*60","v":0},null,{"$f":"IF(AC23<0,\"S\",\"N\")","v":"N"}]
[null,"Alpheratz",null,null,null,null,{"$f":"IF('TABLE (observations)'!AK20<0,\"\",'TABLE (observations)'!AH20)","v":160.25834525356049},null,null,{"$f":"IF('TABLE (observations)'!AK20<0,\"\",INT(ABS('TABLE (observations)'!AK20)))","v":62},null,{"$f":"IF('TABLE (observations)'!AK20<0,\"\",('TABLE (observations)'!AK20-J22)*60)","v":39.061733471722846},null,null,null,"decl.",null,null,null,null,{"$f":"INT(ABS(AC24))","v":8},null,{"$f":"(ABS(AC24)-U22)*60","v":55.716901991459089},null,{"$f":"IF(AC24<0,\"S\",\"N\")","v":"N"},null,null,null,{"$f":"IF('TABLE (observations)'!K7=1,VLOOKUP(U7,'TABLE (observations)'!O7:V69,7,FALSE),VLOOKUP(U7,'TABLE (observations)'!B4:J60,9,FALSE))","v":8.9286150331909848}]
[null,"Altair",null,null,null,null,{"$f":"IF('TABLE (observations)'!AK21<0,\"\",'TABLE (observations)'!AH21)","v":244.06462459099367},null,null,{"$f":"IF('TABLE (observations)'!AK21<0,\"\",INT(ABS('TABLE (observations)'!AK21)))","v":27},null,{"$f":"IF('TABLE (observations)'!AK21<0,\"\",('TABLE (observations)'!AK21-J23)*60)","v":4.2206166897459241},null,null,null,null,null,null,null,null,null,null,null,null,null,null,null,null,{"$f":"AC24-AC22","v":0}]
[null,"Ankaa",null,null,null,null,{"$f":"IF('TABLE (observations)'!AK22<0,\"\",'TABLE (observations)'!AH22)","v":""},null,null,{"$f":"IF('TABLE (observations)'!AK22<0,\"\",INT(ABS('TABLE (observations)'!AK22)))","v":""},null,{"$f":"IF('TABLE (observations)'!AK22<0,\"\",('TABLE (observations)'!AK22-J24)*60)","v":""},null,null,null,"A",null,null,null,null,{"$f":"ABS(AC27)","v":1.054057604140505},null,{"$f":"IF(AC27<0,\"S\",\"N\")","v":"S"},null,null,null,null,null,{"$f":"IF('TABLE (observations)'!K7=1,VLOOKUP(U7,'TABLE (observations)'!O7:V69,6,FALSE),VLOOKUP(U7,'TABLE (observations)'!B4:J60,9,FALSE))","v":8.9286150331909848}]
[null,"Antares",null,null,null,null,{"$f":"IF('TABLE (observations)'!AK23<0,\"\",'TABLE (observations)'!AH23)","v":""},null,null,{"$f":"IF('TABLE (observations)'!AK23<0,\"\",INT(ABS('TABLE (observations)'!AK23)))","v":""},null,{"$f":"IF('TABLE (observations)'!AK23<0,\"\",('TABLE (observations)'!AK23-J25)*60)","v":""},null,null,null,"B",null,null,null,null,{"$f":"ABS(AC28)","v":0.19381828277484589},null,{"$f":"IF(AC28<0,\"S\",\"N\")","v":"N"}]
[null,"Arcturus",null,null,null,null,{"$f":"IF('TABLE (observations)'!AK24<0,\"\",'TABLE (observations)'!AH24)","v":""},null,null,{"$f":"IF('TABLE (observations)'!AK24<0,\"\",INT(ABS('TABLE (observations)'!AK24)))","v":""},null,{"$f":"IF('TABLE (observations)'!AK24<0,\"\",('TABLE (observations)'!AK24-J26)*60)","v":""},null,null,null,"C",null,null,null,null,{"$f":"ABS(AC29)","v":0.86023932136565906},null,{"$f":"IF(AC29<0,\"S\",\"N\")","v":"S"},null,null,null,null,null,{"$f":"IF(AD19>90,IF(AD19<270,1,0),0)","v":0},{"$f":"ABS(TAN(RADIANS(ABS(AO12)))/TAN(RADIANS(ABS(AC20))))","v":1.054057604140505}]
[null,"Atria",null,null,null,null,{"$f":"IF('TABLE (observations)'!AK25<0,\"\",'TABLE (observations)'!AH25)","v":""},null,null,{"$f":"IF('TABLE (observations)'!AK25<0,\"\",INT(ABS('TABLE (observations)'!AK25)))","v":""},null,{"$f":"IF('TABLE (observations)'!AK25<0,\"\",('TABLE (observations)'!AK25-J27)*60)","v":""},null,null,null,"Z",null,null,null,null,{"$f":"W26","v":"S"},{"$f":"AC30","v":64.064624590993674},null,{"$f":"Y19","v":"W"},null,null,null,null,{"$f":"IF(AC26=0,IF(AY35=\"N\",-AD26,AD26),IF(AY35=\"N\",AD26,-AD26))","v":-1.054057604140505}]
[null,"Avior",null,null,null,null,{"$f":"IF('TABLE (observations)'!AK26<0,\"\",'TABLE (observations)'!AH26)","v":""},null,null,{"$f":"IF('TABLE (observations)'!AK26<0,\"\",INT(ABS('TABLE (observations)'!AK26)))","v":""},null,{"$f":"IF('TABLE (observations)'!AK26<0,\"\",('TABLE (observations)'!AK26-J28)*60)","v":""},null,null,null,null,null,null,null,null,null,null,null,null,null,null,null,null,{"$f":"IF(Y22=\"N\",ABS(TAN(RADIANS(AC24))/SIN(RADIANS(AD19))),-ABS(TAN(RADIANS(AC24))/SIN(RADIANS(AD19))))","v":0.19381828277484589}]
[null,"Bellatrix",null,null,null,null,{"$f":"IF('TABLE (observations)'!AK27<0,\"\",'TABLE (observations)'!AH27)","v":86.853588697916194},null,null,{"$f":"IF('TABLE (observations)'!AK27<0,\"\",INT(ABS('TABLE (observations)'!AK27)))","v":5},null,{"$f":"IF('TABLE (observations)'!AK27<0,\"\",('TABLE (observations)'!AK27-J29)*60)","v":34.06650922734508},null,null,null,null,null,null,null,null,null,null,null,null,null,null,null,null,{"$f":"AC27+AC28","v":-0.86023932136565906}]
[null,"Betelgeuse",null,null,null,null,{"$f":"IF('TABLE (observations)'!AK28<0,\"\",'TABLE (observations)'!AH28)","v":80.0975037742853},null,null,{"$f":"IF('TABLE (observations)'!AK28<0,\"\",INT(ABS('TABLE (observations)'!AK28)))","v":2},null,{"$f":"IF('TABLE (observations)'!AK28<0,\"\",('TABLE (observations)'!AK28-J30)*60)","v":12.466531899066551},null,null,null,null,null,null,null,null,null,null,null,null,null,null,null,null,{"$f":"ABS(DEGREES(ATAN(1/(COS(RADIANS(ABS(AO12)))*AC29))))","v":64.064624590993674}]
[null,"Canopus",null,null,null,null,{"$f":"IF('TABLE (observations)'!AK29<0,\"\",'TABLE (observations)'!AH29)","v":""},null,null,{"$f":"IF('TABLE (observations)'!AK29<0,\"\",INT(ABS('TABLE (observations)'!AK29)))","v":""},null,{"$f":"IF('TABLE (observations)'!AK29<0,\"\",('TABLE (observations)'!AK29-J31)*60)","v":""},null,null,null,null,null,null,null,null,null,null,null,null,null,null,null,null,{"$f":"IF(W26=\"S\",IF(Y19=\"W\",180+AC30,180-AC30),IF(Y19=\"W\",360-AC30,AC30))","v":244.06462459099367}]
[null,"Capella",null,null,null,null,{"$f":"IF('TABLE (observations)'!AK30<0,\"\",'TABLE (observations)'!AH30)","v":61.268081822403339},null,null,{"$f":"IF('TABLE (observations)'!AK30<0,\"\",INT(ABS('TABLE (observations)'!AK30)))","v":37},null,{"$f":"IF('TABLE (observations)'!AK30<0,\"\",('TABLE (observations)'!AK30-J32)*60)","v":43.168299320062005}]
[null,"Deneb",null,null,null,null,{"$f":"IF('TABLE (observations)'!AK31<0,\"\",'TABLE (observations)'!AH31)","v":266.05972706713806},null,null,{"$f":"IF('TABLE (observations)'!AK31<0,\"\",INT(ABS('TABLE (observations)'!AK31)))","v":62},null,{"$f":"IF('TABLE (observations)'!AK31<0,\"\",('TABLE (observations)'!AK31-J33)*60)","v":12.636813491999703}]
[null,"Denebola",null,null,null,null,{"$f":"IF('TABLE (observations)'!AK32<0,\"\",'TABLE (observations)'!AH32)","v":""},null,null,{"$f":"IF('TABLE (observations)'!AK32<0,\"\",INT(ABS('TABLE (observations)'!AK32)))","v":""},null,{"$f":"IF('TABLE (observations)'!AK32<0,\"\",('TABLE (observations)'!AK32-J34)*60)","v":""}]
[null,"Diphda",null,null,null,null,{"$f":"IF('TABLE (observations)'!AK33<0,\"\",'TABLE (observations)'!AH33)","v":161.26426262886486},null,null,{"$f":"IF('TABLE (observations)'!AK33<0,\"\",INT(ABS('TABLE (observations)'!AK33)))","v":14},null,{"$f":"IF('TABLE (observations)'!AK33<0,\"\",('TABLE (observations)'!AK33-J35)*60)","v":48.726478472510522},null,null,null,"DATE",null,null,null,null,"2023-09-04",null,null,null,null,null,null,null,null,null,null,null,null,null,null,null,null,null,null,"Latitude",null,null,null,null,55,null,null,34.4,null,null,"N"]
[null,"Dubhe",null,null,null,null,{"$f":"IF('TABLE (observations)'!AK34<0,\"\",'TABLE (observations)'!AH34)","v":3.1373184117020676},null,null,{"$f":"IF('TABLE (observations)'!AK34<0,\"\",INT(ABS('TABLE (observations)'!AK34)))","v":27},null,{"$f":"IF('TABLE (observations)'!AK34<0,\"\",('TABLE (observations)'!AK34-J36)*60)","v":17.072372765661257}]
[null,"Elnath",null,null,null,null,{"$f":"IF('TABLE (observations)'!AK35<0,\"\",'TABLE (observations)'!AH35)","v":73.052208186957159},null,null,{"$f":"IF('TABLE (observations)'!AK35<0,\"\",INT(ABS('TABLE (observations)'!AK35)))","v":23},null,{"$f":"IF('TABLE (observations)'!AK35<0,\"\",('TABLE (observations)'!AK35-J37)*60)","v":25.252091183832022},null,null,null,"UTC",null,null,null,null,0,null,null,10,null,null,0,null,null,null,null,null,null,null,null,null,null,null,null,"Longitude",null,null,null,null,6,null,null,47,null,null,"E"]
[null,"Eltanin",null,null,null,null,{"$f":"IF('TABLE (observations)'!AK36<0,\"\",'TABLE (observations)'!AH36)","v":301.38221905392857},null,null,{"$f":"IF('TABLE (observations)'!AK36<0,\"\",INT(ABS('TABLE (observations)'!AK36)))","v":43},null,{"$f":"IF('TABLE (observations)'!AK36<0,\"\",('TABLE (observations)'!AK36-J38)*60)","v":39.722272405445835}]
[null,"Enif",null,null,null,null,{"$f":"IF('TABLE (observations)'!AK37<0,\"\",'TABLE (observations)'!AH37)","v":214.08579625743738},null,null,{"$f":"IF('TABLE (observations)'!AK37<0,\"\",INT(ABS('TABLE (observations)'!AK37)))","v":40},null,{"$f":"IF('TABLE (observations)'!AK37<0,\"\",('TABLE (observations)'!AK37-J39)*60)","v":6.7370892297174123}]
[null,"Formalhaut",null,null,null,null,{"$f":"IF('TABLE (observations)'!AK38<0,\"\",'TABLE (observations)'!AH38)","v":186.52214640651061},null,null,{"$f":"IF('TABLE (observations)'!AK38<0,\"\",INT(ABS('TABLE (observations)'!AK38)))","v":4},null,{"$f":"IF('TABLE (observations)'!AK38<0,\"\",('TABLE (observations)'!AK38-J40)*60)","v":41.087337319855436},null,null,null,"SHIP'S HEAD",null,null,null,null,null,null,null,null,null,null,null,"BEARING",null,null,null,null,null,null,null,null,null,null,null,"OBJECT",null,null,null,null,"ERROR",null,null,null,null,null,null,null,null,null,null,null,"VARIATION",null,null,null,"DEVIATION"]
[null,"Gacrux",null,null,null,null,{"$f":"IF('TABLE (observations)'!AK39<0,\"\",'TABLE (observations)'!AH39)","v":""},null,null,{"$f":"IF('TABLE (observations)'!AK39<0,\"\",INT(ABS('TABLE (observations)'!AK39)))","v":""},null,{"$f":"IF('TABLE (observations)'!AK39<0,\"\",('TABLE (observations)'!AK39-J41)*60)","v":""},null,null,null,"GYRO",null,null,null,"STANDART",null,null,null,"STEERING",null,null,null,"TRUE",null,null,null,"GYRO",null,null,null,"STANDART",null,null,null,null,null,null,null,null,"GYRO",null,null,null,"STANDART",null,null,null,"STEERING",null,null,null,null,null,null,null,"STANDART",null,null,null,"STEERING"]
[null,"Gienah",null,null,null,null,{"$f":"IF('TABLE (observations)'!AK40<0,\"\",'TABLE (observations)'!AH40)","v":""},null,null,{"$f":"IF('TABLE (observations)'!AK40<0,\"\",INT(ABS('TABLE (observations)'!AK40)))","v":""},null,{"$f":"IF('TABLE (observations)'!AK40<0,\"\",('TABLE (observations)'!AK40-J42)*60)","v":""},null,null,null,122,null,null,null,123,null,null,null,{"$f":"P42+AS42","v":121.06462459099367},null,null,null,{"$f":"AC31","v":244.06462459099367},null,null,null,245,null,null,null,{"$f":"AB42-AW42","v":246},null,null,null,"Altair",null,null,null,null,{"$f":"AB42-AF42","v":-0.93537540900632621},null,null,null,{"$f":"X42-T42","v":-1.9353754090063262},null,null,null,null,null,null,null,-2,null,null,null,{"$f":"AW42-BE42","v":6.4624590993673792E-2}]
[null,"Hadar",null,null,null,null,{"$f":"IF('TABLE (observations)'!AK41<0,\"\",'TABLE (observations)'!AH41)","v":""},null,null,{"$f":"IF('TABLE (observations)'!AK41<0,\"\",INT(ABS('TABLE (observations)'!AK41)))","v":""},null,{"$f":"IF('TABLE (observations)'!AK41<0,\"\",('TABLE (observations)'!AK41-J43)*60)","v":""}]
[null,"Hamal",null,null,null,null,{"$f":"IF('TABLE (observations)'!AK42<0,\"\",'TABLE (observations)'!AH42)","v":120.994506627503},null,null,{"$f":"IF('TABLE (observations)'!AK42<0,\"\",INT(ABS('TABLE (observations)'!AK42)))","v":46},null,{"$f":"IF('TABLE (observations)'!AK42<0,\"\",('TABLE (observations)'!AK42-J44)*60)","v":38.868192042452563}]
[null,"Jupiter",null,null,null,null,{"$f":"IF('TABLE (observations)'!AK43<0,\"\",'TABLE (observations)'!AH43)","v":114.79351828858766},null,null,{"$f":"IF('TABLE (observations)'!AK43<0,\"\",INT(ABS('TABLE (observations)'!AK43)))","v":33},null,{"$f":"IF('TABLE (observations)'!AK43<0,\"\",('TABLE (observations)'!AK43-J45)*60)","v":52.125512076268876}]
[null,"Kaus Austr.",null,null,null,null,{"$f":"IF('TABLE (observations)'!AK44<0,\"\",'TABLE (observations)'!AH44)","v":""},null,null,{"$f":"IF('TABLE (observations)'!AK44<0,\"\",INT(ABS('TABLE (observations)'!AK44)))","v":""},null,{"$f":"IF('TABLE (observations)'!AK44<0,\"\",('TABLE (observations)'!AK44-J46)*60)","v":""}]
[null,"Kochab",null,null,null,null,{"$f":"IF('TABLE (observations)'!AK45<0,\"\",'TABLE (observations)'!AH45)","v":342.73962584238086},null,null,{"$f":"IF('TABLE (observations)'!AK45<0,\"\",INT(ABS('TABLE (observations)'!AK45)))","v":44},null,{"$f":"IF('TABLE (observations)'!AK45<0,\"\",('TABLE (observations)'!AK45-J47)*60)","v":2.8910503050401815}]
[null,"Markab",null,null,null,null,{"$f":"IF('TABLE (observations)'!AK46<0,\"\",'TABLE (observations)'!AH46)","v":188.41152499022596},null,null,{"$f":"IF('TABLE (observations)'!AK46<0,\"\",INT(ABS('TABLE (observations)'!AK46)))","v":49},null,{"$f":"IF('TABLE (observations)'!AK46<0,\"\",('TABLE (observations)'!AK46-J48)*60)","v":31.405802726281991}]
[null,"Mars",null,null,null,null,{"$f":"IF('TABLE (observations)'!AK47<0,\"\",'TABLE (observations)'!AH47)","v":""},null,null,{"$f":"IF('TABLE (observations)'!AK47<0,\"\",INT(ABS('TABLE (observations)'!AK47)))","v":""},null,{"$f":"IF('TABLE (observations)'!AK47<0,\"\",('TABLE (observations)'!AK47-J49)*60)","v":""}]
[null,"Menkar",null,null,null,null,{"$f":"IF('TABLE (observations)'!AK48<0,\"\",'TABLE (observations)'!AH48)","v":118.9952800219032},null,null,{"$f":"IF('TABLE (observations)'!AK48<0,\"\",INT(ABS('TABLE (observations)'!AK48)))","v":23},null,{"$f":"IF('TABLE (observations)'!AK48<0,\"\",('TABLE (observations)'!AK48-J50)*60)","v":11.182110889525063}]
[null,"Menkent",null,null,null,null,{"$f":"IF('TABLE (observations)'!AK49<0,\"\",'TABLE (observations)'!AH49)","v":""},null,null,{"$f":"IF('TABLE (observations)'!AK49<0,\"\",INT(ABS('TABLE (observations)'!AK49)))","v":""},null,{"$f":"IF('TABLE (observations)'!AK49<0,\"\",('TABLE (observations)'!AK49-J51)*60)","v":""}]
[null,"Miaplacidus",null,null,null,null,{"$f":"IF('TABLE (observations)'!AK50<0,\"\",'TABLE (observations)'!AH50)","v":""},null,null,{"$f":"IF('TABLE (observations)'!AK50<0,\"\",INT(ABS('TABLE (observations)'!AK50)))","v":""},null,{"$f":"IF('TABLE (observations)'!AK50<0,\"\",('TABLE (observations)'!AK50-J52)*60)","v":""}]
[null,"Mirfak",null,null,null,null,{"$f":"IF('TABLE (observations)'!AK51<0,\"\",'TABLE (observations)'!AH51)","v":73.742766983685797},null,null,{"$f":"IF('TABLE (observations)'!AK51<0,\"\",INT(ABS('TABLE (observations)'!AK51)))","v":54},null,{"$f":"IF('TABLE (observations)'!AK51<0,\"\",('TABLE (observations)'!AK51-J53)*60)","v":49.537359867977671}]
[null,"Nunki",null,null,null,null,{"$f":"IF('TABLE (observations)'!AK52<0,\"\",'TABLE (observations)'!AH52)","v":""},null,null,{"$f":"IF('TABLE (observations)'!AK52<0,\"\",INT(ABS('TABLE (observations)'!AK52)))","v":""},null,{"$f":"IF('TABLE (observations)'!AK52<0,\"\",('TABLE (observations)'!AK52-J54)*60)","v":""}]
[null,"Peacock",null,null,null,null,{"$f":"IF('TABLE (observations)'!AK53<0,\"\",'TABLE (observations)'!AH53)","v":""},null,null,{"$f":"IF('TABLE (observations)'!AK53<0,\"\",INT(ABS('TABLE (observations)'!AK53)))","v":""},null,{"$f":"IF('TABLE (observations)'!AK53<0,\"\",('TABLE (observations)'!AK53-J55)*60)","v":""}]
[null,"Pollux",null,null,null,null,{"$f":"IF('TABLE (observations)'!AK54<0,\"\",'TABLE (observations)'!AH54)","v":47.045718092473386},null,null,{"$f":"IF('TABLE (observations)'!AK54<0,\"\",INT(ABS('TABLE (observations)'!AK54)))","v":5},null,{"$f":"IF('TABLE (observations)'!AK54<0,\"\",('TABLE (observations)'!AK54-J56)*60)","v":58.314048126178655}]
[null,"Procyon",null,null,null,null,{"$f":"IF('TABLE (observations)'!AK55<0,\"\",'TABLE (observations)'!AH55)","v":""},null,null,{"$f":"IF('TABLE (observations)'!AK55<0,\"\",INT(ABS('TABLE (observations)'!AK55)))","v":""},null,{"$f":"IF('TABLE (observations)'!AK55<0,\"\",('TABLE (observations)'!AK55-J57)*60)","v":""}]
[null,"Rasalhague",null,null,null,null,{"$f":"IF('TABLE (observations)'!AK56<0,\"\",'TABLE (observations)'!AH56)","v":275.6387339474997},null,null,{"$f":"IF('TABLE (observations)'!AK56<0,\"\",INT(ABS('TABLE (observations)'!AK56)))","v":11},null,{"$f":"IF('TABLE (observations)'!AK56<0,\"\",('TABLE (observations)'!AK56-J58)*60)","v":22.940207908077319}]
[null,"Regulus",null,null,null,null,{"$f":"IF('TABLE (observations)'!AK57<0,\"\",'TABLE (observations)'!AH57)","v":""},null,null,{"$f":"IF('TABLE (observations)'!AK57<0,\"\",INT(ABS('TABLE (observations)'!AK57)))","v":""},null,{"$f":"IF('TABLE (observations)'!AK57<0,\"\",('TABLE (observations)'!AK57-J59)*60)","v":""}]
[null,"Rigel",null,null,null,null,{"$f":"IF('TABLE (observations)'!AK58<0,\"\",'TABLE (observations)'!AH58)","v":""},null,null,{"$f":"IF('TABLE (observations)'!AK58<0,\"\",INT(ABS('TABLE (observations)'!AK58)))","v":""},null,{"$f":"IF('TABLE (observations)'!AK58<0,\"\",('TABLE (observations)'!AK58-J60)*60)","v":""}]
[null,"Rigil Kent",null,null,null,null,{"$f":"IF('TABLE (observations)'!AK59<0,\"\",'TABLE (observations)'!AH59)","v":""},null,null,{"$f":"IF('TABLE (observations)'!AK59<0,\"\",INT(ABS('TABLE (observations)'!AK59)))","v":""},null,{"$f":"IF('TABLE (observations)'!AK59<0,\"\",('TABLE (observations)'!AK59-J61)*60)","v":""}]
[null,"Sabik",null,null,null,null,{"$f":"IF('TABLE (observations)'!AK60<0,\"\",'TABLE (observations)'!AH60)","v":""},null,null,{"$f":"IF('TABLE (observations)'!AK60<0,\"\",INT(ABS('TABLE (observations)'!AK60)))","v":""},null,{"$f":"IF('TABLE (observations)'!AK60<0,\"\",('TABLE (observations)'!AK60-J62)*60)","v":""}]
[null,"Saturnus",null,null,null,null,{"$f":"IF('TABLE (observations)'!AK61<0,\"\",'TABLE (observations)'!AH61)","v":197.12356508895445},null,null,{"$f":"IF('TABLE (observations)'!AK61<0,\"\",INT(ABS('TABLE (observations)'!AK61)))","v":21},null,{"$f":"IF('TABLE (observations)'!AK61<0,\"\",('TABLE (observations)'!AK61-J63)*60)","v":4.3649409753199819}]
[null,"Schedar",null,null,null,null,{"$f":"IF('TABLE (observations)'!AK62<0,\"\",'TABLE (observations)'!AH62)","v":76.311339994217619},null,null,{"$f":"IF('TABLE (observations)'!AK62<0,\"\",INT(ABS('TABLE (observations)'!AK62)))","v":79},null,{"$f":"IF('TABLE (observations)'!AK62<0,\"\",('TABLE (observations)'!AK62-J64)*60)","v":47.012200171503764}]
[null,"Shaula",null,null,null,null,{"$f":"IF('TABLE (observations)'!AK63<0,\"\",'TABLE (observations)'!AH63)","v":""},null,null,{"$f":"IF('TABLE (observations)'!AK63<0,\"\",INT(ABS('TABLE (observations)'!AK63)))","v":""},null,{"$f":"IF('TABLE (observations)'!AK63<0,\"\",('TABLE (observations)'!AK63-J65)*60)","v":""}]
[null,"Sirius",null,null,null,null,{"$f":"IF('TABLE (observations)'!AK64<0,\"\",'TABLE (observations)'!AH64)","v":""},null,null,{"$f":"IF('TABLE (observations)'!AK64<0,\"\",INT(ABS('TABLE (observations)'!AK64)))","v":""},null,{"$f":"IF('TABLE (observations)'!AK64<0,\"\",('TABLE (observations)'!AK64-J66)*60)","v":""}]
[null,"Spica",null,null,null,null,{"$f":"IF('TABLE (observations)'!AK65<0,\"\",'TABLE (observations)'!AH65)","v":""},null,null,{"$f":"IF('TABLE (observations)'!AK65<0,\"\",INT(ABS('TABLE (observations)'!AK65)))","v":""},null,{"$f":"IF('TABLE (observations)'!AK65<0,\"\",('TABLE (observations)'!AK65-J67)*60)","v":""}]
[null,"Suhail",null,null,null,null,{"$f":"IF('TABLE (observations)'!AK66<0,\"\",'TABLE (observations)'!AH66)","v":""},null,null,{"$f":"IF('TABLE (observations)'!AK66<0,\"\",INT(ABS('TABLE (observations)'!AK66)))","v":""},null,{"$f":"IF('TABLE (observations)'!AK66<0,\"\",('TABLE (observations)'!AK66-J68)*60)","v":""}]
[null,"Vega",null,null,null,null,{"$f":"IF('TABLE (observations)'!AK67<0,\"\",'TABLE (observations)'!AH67)","v":282.28827703776233},null,null,{"$f":"IF('TABLE (observations)'!AK67<0,\"\",INT(ABS('TABLE (observations)'!AK67)))","v":40},null,{"$f":"IF('TABLE (observations)'!AK67<0,\"\",('TABLE (observations)'!AK67-J69)*60)","v":26.657605429154785}]
[null,"Venus",null,null,null,null,{"$f":"IF('TABLE (observations)'!AK68<0,\"\",'TABLE (observations)'!AH68)","v":""},null,null,{"$f":"IF('TABLE (observations)'!AK68<0,\"\",INT(ABS('TABLE (observations)'!AK68)))","v":""},null,{"$f":"IF('TABLE (observations)'!AK68<0,\"\",('TABLE (observations)'!AK68-J70)*60)","v":""}]
[null,"Zuben'ubi",null,null,null,null,{"$f":"IF('TABLE (observations)'!AK69<0,\"\",'TABLE (observations)'!AH69)","v":""},null,null,{"$f":"IF('TABLE (observations)'!AK69<0,\"\",INT(ABS('TABLE (observations)'!AK69)))","v":""},null,{"$f":"IF('TABLE (observations)'!AK69<0,\"\",('TABLE (observations)'!AK69-J71)*60)","v":""}]